Workbook
Name Print_Titles: Лист1!$8:$11

Sheet Лист1
S1: Приложение к письму
S2: Департамента финансов Томской области
S3: от .06.2024 №50-02/18-
A5: Информация о плановых ассигнованиях и кассовом исполнении расходов консолидированного бюджета Томской области на реализацию региональных проектов Томской области по состоянию на 01.03.2026 года
U7: (тыс. рублей)
A8: № п/п | B8: Наименование | C8: Код ГРБС | D8: Наименование ГРБС | E8: Код целевой статьи областного бюджета | F8: 2026 год | N8: 2027 год | R8: 2028 год | V8: % исполнения
F9: Плановые ассигнования*, в том числе | J9: Кассовое исполнение, в том числе | N9: Плановые ассигнования*, в том числе | R9: Плановые ассигнования*, в том числе
F10: ИТОГО | G10: за счет средств областного бюджета | H10: за счет средств федерального бюджета | I10: за счет средств местных бюджетов** | J10: ИТОГО | K10: за счет средств областного бюджета | L10: за счет средств федерального бюджета | M10: за счет средств местных бюджетов** | N10: ИТОГО | O10: за счет средств областного бюджета | P10: за счет средств федерального бюджета | Q10: за счет средств местных бюджетов | R10: ИТОГО | S10: за счет средств областного бюджета | T10: за счет средств федерального бюджета | U10: за счет средств местных бюджетов
A11: 1 | B11: 2 | C11: 3 | D11: 4 | E11: 5 | F11: 6 | G11: 7 | H11: 8 | I11: 9 | J11: 10 | K11: 11 | L11: 12 | M11: 13 | N11: 10 | O11: 11 | P11: 12 | Q11: 13 | R11: 14 | S11: 15 | T11: 16 | U11: 17 | V11: 22
B12: ВСЕГО: | F12: =G12+H12+I12 -> 17556336 | G12: =G13+G21+G57+G83+G92+G102+G133+G165+G173+G178+G182 -> 5021976.3 | H12: =H13+H21+H57+H83+H92+H102+H133+H165+H173+H178+H182 -> 11926841 | I12: =I13+I21+I57+I83+I92+I102+I133+I165+I173+I178+I182 -> 607517.8 | J12: =K12+L12+M12 -> 1327560.4 | K12: =K13+K21+K57+K83+K92+K102+K133+K165+K173+K178+K182 -> 863837.4 | L12: =L13+L21+L57+L83+L92+L102+L133+L165+L173+L178+L182 -> 401732.7 | M12: =M13+M21+M57+M83+M92+M102+M133+M165+M173+M178+M182 -> 61990.3 | N12: =O12+P12+Q12 -> 14089947 | O12: =O13+O21+O57+O83+O92+O102+O133+O165+O173+O178+O182 -> 3228839.3 | P12: =P13+P21+P57+P83+P92+P102+P133+P165+P173+P178+P182 -> 10722024 | Q12: =Q13+Q21+Q57+Q83+Q92+Q102+Q133+Q165+Q173+Q178+Q182 -> 139083.3 | R12: =S12+T12+U12 -> 13035219 | S12: =S13+S21+S57+S83+S92+S102+S133+S165+S173+S178+S182 -> 2549577.2 | T12: =T13+T21+T57+T83+T92+T102+T133+T165+T173+T178+T182 -> 10416703 | U12: =U13+U21+U57+U83+U92+U102+U133+U165+U173+U178+U182 -> 68938.6 | V12: =J12/F12 -> 0.076
A13: 1 | B13: Национальный проект "Кадры" | C13: Х | D13: Х | E13: Х | F13: =G13+H13+I13 -> 27100.1 | G13: =G18+G15 -> 542.1 | H13: =H18+H15 -> 26558 | I13: =I18+I15 -> 0 | J13: =K13+L13+M13 -> 0 | K13: =K15+K18 -> 0 | L13: =L15+L18 -> 0 | M13: =M15+M18 -> 0 | N13: =O13+P13+Q13 -> 26325.5 | O13: =O18+O15 -> 526.6 | P13: =P18+P15 -> 25798.9 | Q13: =Q18+Q15 -> 0 | R13: =S13+T13+U13 -> 26325.5 | S13: =S18+S15 -> 526.6 | T13: =T18+T15 -> 25798.9 | U13: =U18+U15 -> 0 | V13: =J13/F13 -> 0
B14: из них
A15: 1.1 | B15: Региональный проект "Образование для рынка труда" | C15: Х | D15: Х | E15: Х | F15: =G15+H15+I15 -> 10426.6 | G15: =SUM(G17:G17) -> 208.6 | H15: =SUM(H17:H17) -> 10218 | I15: =SUM(I17:I17) -> 0 | J15: =K15+L15+M15 -> 0 | K15: =K17 -> 0 | L15: =L17 -> 0 | M15: =M17 -> 0 | N15: =O15+P15+Q15 -> 9652 | O15: =SUM(O17:O17) -> 193.1 | P15: =SUM(P17:P17) -> 9458.9 | Q15: =SUM(Q17:Q17) -> 0 | R15: =S15+T15+U15 -> 9652 | S15: =SUM(S17:S17) -> 193.1 | T15: =SUM(T17:T17) -> 9458.9 | U15: =SUM(U17:U17) -> 0 | V15: =J15/F15 -> 0
B16: из них
B17: Организация профессионального обучения и дополнительного профессионального образования работников организаций оборонно-промышленного комплекса | C17: 839 | D17: Департамент труда и занятости населения Томской области | E17: 05WЛ252920 | F17: =G17+H17+I17 -> 10426.6 | G17: 208.6 | H17: 10218 | I17: 0 | J17: =K17+L17+M17 -> 0 | M17: 0 | N17: =O17+P17+Q17 -> 9652 | O17: 193.1 | P17: 9458.9 | Q17: 0 | R17: =S17+T17+U17 -> 9652 | S17: 193.1 | T17: 9458.9 | V17: =J17/F17 -> 0
A18: 1.2 | B18: Региональный проект "Человек труда" | C18: Х | D18: Х | E18: Х | F18: =G18+H18+I18 -> 16673.5 | G18: =SUM(G20:G20) -> 333.5 | H18: =SUM(H20:H20) -> 16340 | I18: =SUM(I20:I20) -> 0 | J18: =K18+L18+M18 -> 0 | K18: =SUM(K20:K20) -> 0 | L18: =SUM(L20:L20) -> 0 | M18: =SUM(M20:M20) -> 0 | N18: =O18+P18+Q18 -> 16673.5 | O18: =SUM(O20:O20) -> 333.5 | P18: =SUM(P20:P20) -> 16340 | Q18: =SUM(Q20:Q20) -> 0 | R18: =S18+T18+U18 -> 16673.5 | S18: =SUM(S20:S20) -> 333.5 | T18: =SUM(T20:T20) -> 16340 | U18: =SUM(U20:U20) -> 0 | V18: =J18/F18 -> 0
B19: из них
B20: Организация федеральных и региональных этапов Всероссийского конкурса профессионального мастерства "Лучший по профессии" | C20: 839 | D20: Департамент труда и занятости населения Томской области | E20: 05WЛ455700 | F20: =G20+H20+I20 -> 16673.5 | G20: 333.5 | H20: 16340 | J20: =K20+L20+M20 -> 0 | N20: =O20+P20+Q20 -> 16673.5 | O20: 333.5 | P20: 16340 | R20: =S20+T20+U20 -> 16673.5 | S20: 333.5 | T20: 16340 | V20: =J20/F20 -> 0
A21: 2 | B21: Национальный проект "Продолжительная и активная жизнь" | C21: Х | D21: Х | E21: Х | F21: =G21+H21+I21 -> 1967880.1 | G21: =G22+G33+G36+G39+G44+G47+G51+G54 -> 984416.2 | H21: =H22+H33+H36+H39+H44+H47+H51+H54 -> 983463.9 | I21: =I22+I33+I36+I39+I44+I47+I51+I54 -> 0 | J21: =K21+L21+M21 -> 83661.9 | K21: =K22+K33+K36+K39+K44+K47+K51+K54 -> 57478.9 | L21: =L22+L33+L36+L39+L44+L47+L51+L54 -> 26183 | M21: =M22+M33+M36+M39+M44+M47+M51+M54 -> 0 | N21: =O21+P21+Q21 -> 1194810.1 | O21: =O22+O33+O36+O39+O44+O47+O51+O54 -> 300641.1 | P21: =P22+P33+P36+P39+P44+P47+P51+P54 -> 894169 | Q21: =Q22+Q33+Q36+Q39+Q44+Q47+Q51+Q54 -> 0 | R21: =S21+T21+U21 -> 1586696.6 | S21: =S22+S33+S36+S39+S44+S47+S51+S54 -> 333748.1 | T21: =T22+T33+T36+T39+T44+T47+T51+T54 -> 1252948.5 | U21: =U22+U33+U36+U39+U44+U47+U51+U54 -> 0 | V21: =J21/F21 -> 0.043
A22: 2.1 | B22: Региональный проект "Модернизация первичного звена здравоохранения Российской Федерации" | C22: Х | D22: Х | E22: Х | F22: =G22+H22+I22 -> 1243016.8 | G22: =G24+G25+G26+G27+G28+G30+G32+G31+G29 -> 651127.4 | H22: =H24+H25+H26+H27+H28+H30+H32+H31+H29 -> 591889.4 | I22: =I24+I25+I26+I27+I28+I30+I32+I31+I29 -> 0 | J22: =K22+L22+M22 -> 6944.6 | K22: =K24+K25+K26+K27+K28+K30+K32+K31+K29 -> 6944.6 | L22: =L24+L25+L26+L27+L28+L30+L32+L31+L29 -> 0 | M22: =M24+M25+M26+M27+M28+M30+M32+M31+M29 -> 0 | N22: =O22+P22+Q22 -> 599591.3 | O22: =O24+O25+O26+O27+O28+O30+O32+O29+O31 -> 11991.8 | P22: =P24+P25+P26+P27+P28+P30+P32+P29+P31 -> 587599.5 | Q22: =Q24+Q25+Q26+Q27+Q28+Q30+Q32+Q29+Q31 -> 0 | R22: =S22+T22+U22 -> 1008714 | S22: =S24+S25+S26+S27+S28+S30+S32+S31+S29 -> 20174.3 | T22: =T24+T25+T26+T27+T28+T30+T32+T31+T29 -> 988539.7 | U22: =U24+U25+U26+U27+U28+U30+U32+U31+U29 -> 0 | V22: =J22/F22 -> 0.006
B23: из них | F23: =G23+H23+I23 -> 0 | J23: =K23+L23+M23 -> 0 | N23: =O23+P23+Q23 -> 0 | R23: =S23+T23+U23 -> 0
B24: Реализация региональных проектов модернизации первичного звена здравоохранения (капитальный ремонт зданий медицинских организаций) | C24: 821 | D24: Департамент строительства Томской области | E24: 07WД153651 | F24: =G24+H24+I24 -> 0 | G24: 0 | H24: 0 | J24: =K24+L24+M24 -> 0 | N24: =O24+P24+Q24 -> 66217.4 | O24: 1324.3 | P24: 64893.1 | R24: =S24+T24+U24 -> 164939.9 | S24: 3298.8 | T24: 161641.1 | V24: =J24/F24 -> #DIV/0!
B25: Реализация региональных проектов модернизации первичного звена здравоохранения (оснащение автомобильным транспортом медицинских организаций) | C25: 811 | D25: Департамент здравоохранения Томской области | E25: 07WД153652 | F25: =G25+H25+I25 -> 109600 | G25: 2192 | H25: 107408 | J25: =K25+L25+M25 -> 0 | N25: =O25+P25+Q25 -> 0 | O25: 0 | P25: 0 | R25: =S25+T25+U25 -> 0 | S25: 0 | T25: 0 | V25: =J25/F25 -> 0
B26: Реализация региональных проектов модернизации первичного звена здравоохранения (приведение материально-технической базы медицинских организаций в соответствие с требованиями порядков оказания медицинской помощи, их дооснащение и переоснащение оборудованием для оказания медицинской помощи) | C26: 811 | D26: Департамент здравоохранения Томской области | E26: 07WД153653 | F26: =G26+H26+I26 -> 273543.3 | G26: 5470.9 | H26: 268072.4 | J26: =K26+L26+M26 -> 0 | N26: =O26+P26+Q26 -> 124590.3 | O26: 2491.8 | P26: 122098.5 | R26: =S26+T26+U26 -> 184043.4 | S26: 3680.9 | T26: 180362.5 | V26: =J26/F26 -> 0
B27: Реализация региональных проектов модернизации первичного звена здравоохранения (строительство и (или) реконструкция объектов здравоохранения, приобретение и монтаж модульных конструкций) | C27: 821 | D27: Департамент строительства Томской области | E27: 07WД15365И | F27: =G27+H27+I27 -> 142325.5 | G27: 2846.5 | H27: 139479 | J27: =K27+L27+M27 -> 0 | N27: =O27+P27+Q27 -> 334079.8 | O27: 6681.6 | P27: 327398.2 | R27: =S27+T27+U27 -> 557730.7 | S27: 11154.6 | T27: 546576.1 | V27: =J27/F27 -> 0
B28: Реализация региональных проектов модернизации первичного звена здравоохранения (реализация национальных проектов в части расходов инвестиционного характера за счет средств, высвобождаемых в результате списания задолженности областного бюджета по бюджетным кредитам, предоставляемым из федерального бюджета) | C28: 811 | D28: Департамент здравоохранения Томской области | E28: 07WД15365Р | F28: =G28+H28+I28 -> 78500 | G28: 1570 | H28: 76930 | J28: =K28+L28+M28 -> 0 | N28: =O28+P28+Q28 -> 74703.8 | O28: 1494.1 | P28: 73209.7 | R28: =S28+T28+U28 -> 102000 | S28: 2040 | T28: 99960 | V28: =J28/F28 -> 0
B29: Реализация региональных проектов модернизации первичного звена здравоохранения без софинансирования из федерального бюджета (капитальный ремонт зданий медицинских организаций) | C29: 821 | D29: Департамент строительства Томской области | E29: 07WД1А3651 | F29: =G29+H29+I29 -> 8788.9 | G29: 8788.89 | H29: 0 | J29: =K29+L29+M29 -> 2623.3 | K29: 2623.28 | L29: 0 | N29: =O29+P29+Q29 -> 0 | R29: =S29+T29+U29 -> 0 | V29: =J29/F29 -> 0.298
B30: Реализация региональных проектов модернизации первичного звена здравоохранения без софинансирования из федерального бюджета (строительство объектов капитального строительства медицинских организаций) | C30: 821 | D30: Департамент строительства Томской области | E30: 07WД1А365И | F30: =G30+H30+I30 -> 0 | G30: 0 | H30: 0 | J30: =K30+L30+M30 -> 0 | N30: =O30+P30+Q30 -> 0 | O30: 0 | P30: 0 | R30: =S30+T30+U30 -> 0 | S30: 0 | T30: 0 | V30: =J30/F30 -> #DIV/0!
B31: Реализация региональных проектов модернизации первичного звена здравоохранения без софинансирования из федерального бюджета (реализация национальных проектов в части расходов инвестиционного характера за счет средств, высвобождаемых в результате списания задолженности областного бюджета по бюджетным кредитам, предоставляемым из федерального бюджета) | C31: 811 | D31: Департамент здравоохранения Томской области | E31: 07WД1А365Р | F31: =G31+H31+I31 -> 424785.1 | G31: 424785.1 | H31: 0 | J31: =K31+L31+M31 -> 0 | K31: 0 | L31: 0 | N31: =O31+P31+Q31 -> 0 | R31: =S31+T31+U31 -> 0 | V31: =J31/F31 -> 0
B32: Реализация региональных проектов модернизации первичного звена здравоохранения без софинансирования из федерального бюджета (реализация национальных проектов в части расходов инвестиционного характера за счет средств, высвобождаемых в результате списания задолженности областного бюджета по бюджетным кредитам, предоставляемым из федерального бюджета) | C32: 821 | D32: Департамент строительства Томской области | E32: 07WД1А365Р | F32: =G32+H32+I32 -> 205474 | G32: 205474 | H32: 0 | J32: =K32+L32+M32 -> 4321.3 | K32: 4321.3 | L32: 0 | N32: =O32+P32+Q32 -> 0 | O32: 0 | P32: 0 | R32: =S32+T32+U32 -> 0 | S32: 0 | T32: 0 | V32: =J32/F32 -> 0.021
A33: 2.2 | B33: Региональный проект "Борьба с сердечно-сосудистыми заболеваниями", всего | C33: Х | D33: Х | E33: Х | F33: =G33+H33+I33 -> 76718.3 | G33: =SUM(G35:G35) -> 1534.4 | H33: =SUM(H35:H35) -> 75183.9 | I33: =SUM(I35:I35) -> 0 | J33: =K33+L33+M33 -> 26717.3 | K33: =SUM(K35:K35) -> 534.3 | L33: =SUM(L35:L35) -> 26183 | M33: =SUM(M35:M35) -> 0 | N33: =O33+P33+Q33 -> 77868.9 | O33: =SUM(O35:O35) -> 1557.4 | P33: =SUM(P35:P35) -> 76311.5 | Q33: =SUM(Q35:Q35) -> 0 | R33: =S33+T33+U33 -> 78693.1 | S33: =SUM(S35:S35) -> 1573.9 | T33: =SUM(T35:T35) -> 77119.2 | U33: =SUM(U35:U35) -> 0 | V33: =J33/F33 -> 0.348
B34: из них
B35: Обеспечение профилактики развития сердечно-сосудистых заболеваний и сердечно-сосудистых осложнений у пациентов высокого риска, находящихся на диспансерном наблюдении | C35: 811 | D35: Департамент здравоохранения Томской области | E35: 07WД255860 | F35: =G35+H35+I35 -> 76718.3 | G35: 1534.4 | H35: 75183.9 | J35: =SUM(K35:M35) -> 26717.3 | K35: 534.3 | L35: 26182.97 | N35: =O35+P35+Q35 -> 77868.9 | O35: 1557.4 | P35: 76311.5 | R35: =S35+T35+U35 -> 78693.1 | S35: 1573.9 | T35: 77119.2 | V35: =J35/F35 -> 0.348
A36: 2.3 | B36: Региональный проект "Борьба с онкологическими заболеваниями" | C36: Х | D36: Х | E36: Х | F36: =G36+H36+I36 -> 72061.5 | G36: =SUM(G38:G38) -> 1441.2 | H36: =SUM(H38:H38) -> 70620.3 | I36: =SUM(I38:I38) -> 0 | J36: =K36+L36+M36 -> 0 | K36: =SUM(K38:K38) -> 0 | L36: =SUM(L38:L38) -> 0 | M36: =SUM(M38:M38) -> 0 | N36: =O36+P36+Q36 -> 0 | O36: =SUM(O38:O38) -> 0 | P36: =SUM(P38:P38) -> 0 | Q36: =SUM(Q38:Q38) -> 0 | R36: =S36+T36+U36 -> 0 | S36: =SUM(S38:S38) -> 0 | T36: =SUM(T38:T38) -> 0 | U36: =SUM(U38:U38) -> 0 | V36: =J36/F36 -> 0
B37: из них
B38: Модернизация медицинских изделий и иного оборудования, дооснащение или переоснащение медицинскими изделиями и иным оборудованием существующих и (или) новых (организуемых) структурных подразделений региональных медицинских организаций, оказывающих медицинскую помощь с применением радиологических методов (диагностики и (или) терапии) | C38: 811 | D38: Департамент здравоохранения Томской области | E38: 07WД352660 | F38: =G38+H38+I38 -> 72061.5 | G38: 1441.2 | H38: 70620.3 | J38: =SUM(K38:M38) -> 0 | N38: =O38+P38+Q38 -> 0 | R38: =S38+T38+U38 -> 0 | V38: =J38/F38 -> 0
A39: 2.4 | B39: Региональный проект "Борьба с сахарным диабетом" | C39: Х | D39: Х | E39: Х | F39: =G39+H39+I39 -> 53587.7 | G39: =SUM(G41:G43) -> 1071.8 | H39: =SUM(H41:H43) -> 52515.9 | I39: =SUM(I41:I43) -> 0 | J39: =SUM(J41:J41) -> 0 | K39: =SUM(K41:K43) -> 0 | L39: =SUM(L41:L43) -> 0 | M39: =SUM(M41:M43) -> 0 | N39: =SUM(N41:N41) -> 0 | O39: =SUM(O41:O43) -> 0 | P39: =SUM(P41:P43) -> 0 | Q39: =SUM(Q41:Q43) -> 0 | R39: =SUM(R41:R41) -> 0 | S39: =SUM(S41:S43) -> 0 | T39: =SUM(T41:T43) -> 0 | U39: =SUM(U41:U43) -> 0 | V39: =J39/F39 -> 0
B40: из них
B41: Обеспечение детей с сахарным диабетом 1 типа в возрасте от 2-х до 17-ти лет включительно системами непрерывного мониторинга глюкозы | C41: 811 | D41: Департамент здравоохранения Томской области | E41: 07WД451070 | F41: =G41+H41+I41 -> 24369.4 | G41: 487.4 | H41: 23882 | J41: =K41+L41+M41 -> 0 | N41: =O41+P41+Q41 -> 0 | R41: =S41+T41+U41 -> 0 | V41: =J41/F41 -> 0
B42: Обеспечение беременных женщин с сахарным диабетом системами непрерывного мониторинга глюкозы | C42: 811 | D42: Департамент здравоохранения Томской области | E42: 07WД451520 | F42: =G42+H42+I42 -> 18925.2 | G42: 378.5 | H42: 18546.7 | J42: =K42+L42+M42 -> 0 | N42: =O42+P42+Q42 -> 0 | R42: =S42+T42+U42 -> 0 | V42: =J42/F42 -> 0
...

Sheet Лист4

Sheet Лист5

Sheet Лист6

Sheet Лист7

Sheet Лист2
A5: Информация о плановых ассигнованиях и кассовом исполнении расходов консолидированного бюджета Томской области на реализацию региональных проектов Томской области по состоянию на 01.02.2026 года
A8: № п/п | B8: Наименование | C8: 2026 год | K8: % исполнения
C9: Плановые ассигнования*, в том числе | G9: Кассовое исполнение, в том числе
C10: ИТОГО | D10: за счет средств областного бюджета | E10: за счет средств федерального бюджета | F10: за счет средств местных бюджетов** | G10: ИТОГО | H10: за счет средств областного бюджета | I10: за счет средств федерального бюджета | J10: за счет средств местных бюджетов**
A11: 1 | B11: 2 | C11: 6 | D11: 7 | E11: 8 | F11: 9 | G11: 10 | H11: 11 | I11: 12 | J11: 13 | K11: 22
B12: ВСЕГО: | C12: =Лист1!F12/1000 -> 17556.3 | D12: =Лист1!G12/1000 -> 5022 | E12: =Лист1!H12/1000 -> 11926.8 | F12: =Лист1!I12/1000 -> 607.5 | G12: =Лист1!J12/1000 -> 1327.6 | H12: =Лист1!K12/1000 -> 863.8 | I12: =Лист1!L12/1000 -> 401.7 | J12: =Лист1!M12/1000 -> 62 | K12: =G12/C12 -> 0.076
A13: 1 | B13: Национальный проект "Кадры" | C13: =Лист1!F13/1000 -> 27.1 | D13: =Лист1!G13/1000 -> 0.5 | E13: =Лист1!H13/1000 -> 26.6 | F13: =Лист1!I13/1000 -> 0 | G13: =Лист1!J13/1000 -> 0 | H13: =Лист1!K13/1000 -> 0 | I13: =Лист1!L13/1000 -> 0 | J13: =Лист1!M13/1000 -> 0 | K13: =G13/C13 -> 0
B14: из них | C14: =Лист1!F14/1000 -> 0 | D14: =Лист1!G14/1000 -> 0 | E14: =Лист1!H14/1000 -> 0 | F14: =Лист1!I14/1000 -> 0 | G14: =Лист1!J14/1000 -> 0 | H14: =Лист1!K14/1000 -> 0 | I14: =Лист1!L14/1000 -> 0 | J14: =Лист1!M14/1000 -> 0
A15: 1.1 | B15: Региональный проект "Образование для рынка труда" | C15: =Лист1!F15/1000 -> 10.4 | D15: =Лист1!G15/1000 -> 0.2 | E15: =Лист1!H15/1000 -> 10.2 | F15: =Лист1!I15/1000 -> 0 | G15: =Лист1!J15/1000 -> 0 | H15: =Лист1!K15/1000 -> 0 | I15: =Лист1!L15/1000 -> 0 | J15: =Лист1!M15/1000 -> 0 | K15: =G15/C15 -> 0
A16: 1.2 | B16: Региональный проект "Человек труда" | C16: =Лист1!F18/1000 -> 16.7 | D16: =Лист1!G18/1000 -> 0.3 | E16: =Лист1!H18/1000 -> 16.3 | F16: =Лист1!I18/1000 -> 0 | G16: =Лист1!J18/1000 -> 0 | H16: =Лист1!K18/1000 -> 0 | I16: =Лист1!L18/1000 -> 0 | J16: =Лист1!M18/1000 -> 0 | K16: =G16/C16 -> 0
A17: 2 | B17: Национальный проект "Продолжительная и активная жизнь" | C17: =Лист1!F21/1000 -> 1967.9 | D17: =Лист1!G21/1000 -> 984.4 | E17: =Лист1!H21/1000 -> 983.5 | F17: =Лист1!I21/1000 -> 0 | G17: =Лист1!J21/1000 -> 83.7 | H17: =Лист1!K21/1000 -> 57.5 | I17: =Лист1!L21/1000 -> 26.2 | J17: =Лист1!M21/1000 -> 0 | K17: =G17/C17 -> 0.043
A18: 2.1 | B18: Региональный проект "Модернизация первичного звена здравоохранения Российской Федерации" | C18: =Лист1!F22/1000 -> 1243 | D18: =Лист1!G22/1000 -> 651.1 | E18: =Лист1!H22/1000 -> 591.9 | F18: =Лист1!I22/1000 -> 0 | G18: =Лист1!J22/1000 -> 6.9 | H18: =Лист1!K22/1000 -> 6.9 | I18: =Лист1!L22/1000 -> 0 | J18: =Лист1!M22/1000 -> 0 | K18: =G18/C18 -> 0.006
A19: 2.2 | B19: Региональный проект "Борьба с сердечно-сосудистыми заболеваниями", всего | C19: =Лист1!F33/1000 -> 76.7 | D19: =Лист1!G33/1000 -> 1.5 | E19: =Лист1!H33/1000 -> 75.2 | F19: =Лист1!I33/1000 -> 0 | G19: =Лист1!J33/1000 -> 26.7 | H19: =Лист1!K33/1000 -> 0.5 | I19: =Лист1!L33/1000 -> 26.2 | J19: =Лист1!M33/1000 -> 0 | K19: =G19/C19 -> 0.348
A20: 2.3 | B20: Региональный проект "Борьба с онкологическими заболеваниями" | C20: =Лист1!F36/1000 -> 72.1 | D20: =Лист1!G36/1000 -> 1.4 | E20: =Лист1!H36/1000 -> 70.6 | F20: =Лист1!I36/1000 -> 0 | G20: =Лист1!J36/1000 -> 0 | H20: =Лист1!K36/1000 -> 0 | I20: =Лист1!L36/1000 -> 0 | J20: =Лист1!M36/1000 -> 0 | K20: =G20/C20 -> 0
A21: 2.4 | B21: Региональный проект "Борьба с сахарным диабетом" | C21: =Лист1!F39/1000 -> 53.6 | D21: =Лист1!G39/1000 -> 1.1 | E21: =Лист1!H39/1000 -> 52.5 | F21: =Лист1!I39/1000 -> 0 | G21: =Лист1!J39/1000 -> 0 | H21: =Лист1!K39/1000 -> 0 | I21: =Лист1!L39/1000 -> 0 | J21: =Лист1!M39/1000 -> 0 | K21: =G21/C21 -> 0
A22: 2.5 | B22: Региональный проект "Борьба с гепатитом С и минимизация рисков распространения данного заболевания" | C22: =Лист1!F44/1000 -> 28.8 | D22: =Лист1!G44/1000 -> 0.6 | E22: =Лист1!H44/1000 -> 28.2 | F22: =Лист1!I44/1000 -> 0 | G22: =Лист1!J44/1000 -> 0 | H22: =Лист1!K44/1000 -> 0 | I22: =Лист1!L44/1000 -> 0 | J22: =Лист1!M44/1000 -> 0 | K22: =G22/C22 -> 0
A23: 2.6 | B23: Региональный проект "Совершенствование экстренной медицинской помощи" | C23: =Лист1!F47/1000 -> 473 | D23: =Лист1!G47/1000 -> 328.3 | E23: =Лист1!H47/1000 -> 144.7 | F23: =Лист1!I47/1000 -> 0 | G23: =Лист1!J47/1000 -> 50 | H23: =Лист1!K47/1000 -> 50 | I23: =Лист1!L47/1000 -> 0 | J23: =Лист1!M47/1000 -> 0 | K23: =G23/C23 -> 0.106
A24: 2.7 | B24: Региональный проект "Оптимальная для восстановления здоровья медицинская реабилитация" | C24: =Лист1!F51/1000 -> 18 | D24: =Лист1!G51/1000 -> 0.4 | E24: =Лист1!H51/1000 -> 17.6 | F24: =Лист1!I51/1000 -> 0 | G24: =Лист1!J51/1000 -> 0 | H24: =Лист1!K51/1000 -> 0 | I24: =Лист1!L51/1000 -> 0 | J24: =Лист1!M51/1000 -> 0 | K24: =G24/C24 -> 0
A25: 2.8 | B25: Региональный проект "Здоровье для каждого" | C25: =Лист1!F54/1000 -> 2.7 | D25: =Лист1!G54/1000 -> 0.1 | E25: =Лист1!H54/1000 -> 2.7 | F25: =Лист1!I54/1000 -> 0 | G25: =Лист1!J54/1000 -> 0 | H25: =Лист1!K54/1000 -> 0 | I25: =Лист1!L54/1000 -> 0 | J25: =Лист1!M54/1000 -> 0 | K25: =G25/C25 -> 0
A26: 3 | B26: Национальный проект "Молодежь и дети" | C26: =Лист1!F57/1000 -> 5201.5 | D26: =Лист1!G57/1000 -> 1061.9 | E26: =Лист1!H57/1000 -> 4075.7 | F26: =Лист1!I57/1000 -> 63.9 | G26: =Лист1!J57/1000 -> 177 | H26: =Лист1!K57/1000 -> 1.6 | I26: =Лист1!L57/1000 -> 175.4 | J26: =Лист1!M57/1000 -> 0 | K26: =G26/C26 -> 0.034
A27: 3.1 | B27: Региональный проект "Все лучшее детям" | C27: =Лист1!F58/1000 -> 3853.9 | D27: =Лист1!G58/1000 -> 1057.701 | E27: =Лист1!H58/1000 -> 2732.285 | F27: =Лист1!I58/1000 -> 63.94 | G27: =Лист1!J58/1000 -> 1.5 | H27: =Лист1!K58/1000 -> 1.5 | I27: =Лист1!L58/1000 -> 0 | J27: =Лист1!M58/1000 -> 0 | K27: =G27/C27 -> 0
A28: 3.2 | B28: Региональный проект "Педагоги и наставники" | C28: =Лист1!F71/1000 -> 1347.6 | D28: =Лист1!G71/1000 -> 4.181 | E28: =Лист1!H71/1000 -> 1343.43 | F28: =Лист1!I71/1000 -> 0 | G28: =Лист1!J71/1000 -> 175.5 | H28: =Лист1!K71/1000 -> 0.1 | I28: =Лист1!L71/1000 -> 175.4 | J28: =Лист1!M71/1000 -> 0 | K28: =G28/C28 -> 0.13
A29: 3.3 | B29: Региональный проект "Профессионалитет" | C29: =Лист1!F80/1000 -> 0 | D29: =Лист1!G80/1000 -> 0 | E29: =Лист1!H80/1000 -> 0 | F29: =Лист1!I80/1000 -> 0 | G29: =Лист1!J80/1000 -> 0 | H29: =Лист1!K80/1000 -> 0 | I29: =Лист1!L80/1000 -> 0 | J29: =Лист1!M80/1000 -> 0 | K29: =G29/C29 -> #DIV/0!
A30: 4 | B30: Национальный проект "Экономика данных и цифровая трансформация государства" | C30: =Лист1!F83/1000 -> 133.2 | D30: =Лист1!G83/1000 -> 78.4 | E30: =Лист1!H83/1000 -> 54.7 | F30: =Лист1!I83/1000 -> 0 | G30: =Лист1!J83/1000 -> 73.6 | H30: =Лист1!K83/1000 -> 73.6 | I30: =Лист1!L83/1000 -> 0 | J30: =Лист1!M83/1000 -> 0 | K30: =G30/C30 -> 0.553
A31: 4.1 | B31: Региональный проект "Цифровые платформы в отраслях социальной сферы" | C31: =Лист1!F84/1000 -> 119.9 | D31: =Лист1!G84/1000 -> 78.2 | E31: =Лист1!H84/1000 -> 41.7 | F31: =Лист1!I84/1000 -> 0 | G31: =Лист1!J84/1000 -> 73.6 | H31: =Лист1!K84/1000 -> 73.6 | I31: =Лист1!L84/1000 -> 0 | J31: =Лист1!M84/1000 -> 0 | K31: =G31/C31 -> 0.614
A32: 4.2 | B32: Региональный проект "Цифровое государственное управление" | C32: =Лист1!F89/1000 -> 13.3 | D32: =Лист1!G89/1000 -> 0.3 | E32: =Лист1!H89/1000 -> 13 | F32: =Лист1!I89/1000 -> 0 | G32: =Лист1!J89/1000 -> 0 | H32: =Лист1!K89/1000 -> 0 | I32: =Лист1!L89/1000 -> 0 | J32: =Лист1!M89/1000 -> 0 | K32: =G32/C32 -> 0
A33: 5 | B33: Национальный проект "Экологическое благополучие" | C33: =Лист1!F92/1000 -> 15.2 | D33: =Лист1!G92/1000 -> 0 | E33: =Лист1!H92/1000 -> 15.2 | F33: =Лист1!I92/1000 -> 0 | G33: =Лист1!J92/1000 -> 0 | H33: =Лист1!K92/1000 -> 0 | I33: =Лист1!L92/1000 -> 0 | J33: =Лист1!M92/1000 -> 0 | K33: =G33/C33 -> 0
A34: 5.1 | B34: Региональный проект "Вода России" | C34: =Лист1!F93/1000 -> 0 | D34: =Лист1!G93/1000 -> 0 | E34: =Лист1!H93/1000 -> 0 | F34: =Лист1!I93/1000 -> 0 | G34: =Лист1!J93/1000 -> 0 | H34: =Лист1!K93/1000 -> 0 | I34: =Лист1!L93/1000 -> 0 | J34: =Лист1!M93/1000 -> 0 | K34: =G34/C34 -> #DIV/0!
A35: 5.2 | B35: Региональный проект "Сохранение лесов" | C35: =Лист1!F96/1000 -> 15.2 | D35: =Лист1!G96/1000 -> 0 | E35: =Лист1!H96/1000 -> 15.2 | F35: =Лист1!I96/1000 -> 0 | G35: =Лист1!J96/1000 -> 0 | H35: =Лист1!K96/1000 -> 0 | I35: =Лист1!L96/1000 -> 0 | J35: =Лист1!M96/1000 -> 0 | K35: =G35/C35 -> 0
A36: 6 | B36: Национальный проект "Инфраструктура для жизни" | C36: =Лист1!F102/1000 -> 8485.7 | D36: =Лист1!G102/1000 -> 2556.8 | E36: =Лист1!H102/1000 -> 5390.7 | F36: =Лист1!I102/1000 -> 538.2 | G36: =Лист1!J102/1000 -> 808.2 | H36: =Лист1!K102/1000 -> 690.7 | I36: =Лист1!L102/1000 -> 55.5 | J36: =Лист1!M102/1000 -> 62 | K36: =G36/C36 -> 0.095
A37: 6.1 | B37: Региональный проект "Региональная и местная дорожная сеть" | C37: =Лист1!F103/1000 -> 6969.9 | D37: =Лист1!G103/1000 -> 2175.7 | E37: =Лист1!H103/1000 -> 4390.6 | F37: =Лист1!I103/1000 -> 403.7 | G37: =Лист1!J103/1000 -> 808.2 | H37: =Лист1!K103/1000 -> 690.7 | I37: =Лист1!L103/1000 -> 55.5 | J37: =Лист1!M103/1000 -> 62 | K37: =G37/C37 -> 0.116
A38: 6.2 | B38: Федеральный проект "Жильё" | C38: =Лист1!F109/1000 -> 228.2 | D38: =Лист1!G109/1000 -> 66 | E38: =Лист1!H109/1000 -> 126.9 | F38: =Лист1!I109/1000 -> 35.4 | G38: =Лист1!J109/1000 -> 0 | H38: =Лист1!K109/1000 -> 0 | I38: =Лист1!L109/1000 -> 0 | J38: =Лист1!M109/1000 -> 0 | K38: =G38/C38 -> 0
A39: 6.3 | B39: Региональный проект "Формирование комфортной городской среды" | C39: =Лист1!F113/1000 -> 439.2 | D39: =Лист1!G113/1000 -> 7.9 | E39: =Лист1!H113/1000 -> 384.7 | F39: =Лист1!I113/1000 -> 46.7 | G39: =Лист1!J113/1000 -> 0 | H39: =Лист1!K113/1000 -> 0 | I39: =Лист1!L113/1000 -> 0 | J39: =Лист1!M113/1000 -> 0 | K39: =G39/C39 -> 0
A40: 6.4 | B40: Региональный проект "Общесистемные меры развития дорожного хозяйства" | C40: =Лист1!F117/1000 -> 48.4 | D40: =Лист1!G117/1000 -> 4.9 | E40: =Лист1!H117/1000 -> 43.5 | F40: =Лист1!I117/1000 -> 0 | G40: =Лист1!J117/1000 -> 0 | H40: =Лист1!K117/1000 -> 0 | I40: =Лист1!L117/1000 -> 0 | J40: =Лист1!M117/1000 -> 0 | K40: =G40/C40 -> 0
A41: 6.5 | B41: Региональный проект "Модернизация коммунальной инфраструктуры" | C41: =Лист1!F121/1000 -> 429.7 | D41: =Лист1!G121/1000 -> 115.5 | E41: =Лист1!H121/1000 -> 261.7 | F41: =Лист1!I121/1000 -> 52.5 | G41: =Лист1!J121/1000 -> 0 | H41: =Лист1!K121/1000 -> 0 | I41: =Лист1!L121/1000 -> 0 | J41: =Лист1!M121/1000 -> 0 | K41: =G41/C41 -> 0
A42: 6.6 | B42: Региональный проект "Безопасность дорожного движения" | C42: =Лист1!F125/1000 -> 183.1 | D42: =Лист1!G125/1000 -> 183.1 | E42: =Лист1!H125/1000 -> 0 | F42: =Лист1!I125/1000 -> 0 | G42: =Лист1!J125/1000 -> 0 | H42: =Лист1!K125/1000 -> 0 | I42: =Лист1!L125/1000 -> 0 | J42: =Лист1!M125/1000 -> 0 | K42: =G42/C42 -> 0
A43: 6.7 | B43: Региональный проект "Развитие общественного транспорта" | C43: =Лист1!F130/1000 -> 187.2 | D43: =Лист1!G130/1000 -> 3.7 | E43: =Лист1!H130/1000 -> 183.4 | F43: =Лист1!I130/1000 -> 0 | G43: =Лист1!J130/1000 -> 0 | H43: =Лист1!K130/1000 -> 0 | I43: =Лист1!L130/1000 -> 0 | J43: =Лист1!M130/1000 -> 0 | K43: =G43/C43 -> 0
A44: 7 | B44: Национальный проект "Семья" | C44: =Лист1!F133/1000 -> 1379.9 | D44: =Лист1!G133/1000 -> 92.1 | E44: =Лист1!H133/1000 -> 1282.4 | F44: =Лист1!I133/1000 -> 5.3 | G44: =Лист1!J133/1000 -> 130 | H44: =Лист1!K133/1000 -> 5.7 | I44: =Лист1!L133/1000 -> 124.3 | J44: =Лист1!M133/1000 -> 0 | K44: =G44/C44 -> 0.094
A45: 7.1 | B45: Региональный проект "Охрана материнства и детства" | C45: =Лист1!F134/1000 -> 228.4 | D45: =Лист1!G134/1000 -> 4.6 | E45: =Лист1!H134/1000 -> 223.9 | F45: =Лист1!I134/1000 -> 0 | G45: =Лист1!J134/1000 -> 0 | H45: =Лист1!K134/1000 -> 0 | I45: =Лист1!L134/1000 -> 0 | J45: =Лист1!M134/1000 -> 0 | K45: =G45/C45 -> 0
A46: 7.2 | B46: Региональный проект "Семейные ценности и инфраструктура культуры" | C46: =Лист1!F139/1000 -> 271.4 | D46: =Лист1!G139/1000 -> 37.8 | E46: =Лист1!H139/1000 -> 228.4 | F46: =Лист1!I139/1000 -> 5.3 | G46: =Лист1!J139/1000 -> 12.7 | H46: =Лист1!K139/1000 -> 0.3 | I46: =Лист1!L139/1000 -> 12.5 | J46: =Лист1!M139/1000 -> 0 | K46: =G46/C46 -> 0.047
...

Sheet Лист3
A5: Информация о плановых ассигнованиях и кассовом исполнении расходов консолидированного бюджета Томской области на реализацию региональных проектов Томской области по состоянию на 01.02.2026 года
A8: № п/п | B8: Наименование | C8: 2026 год | K8: % исполнения
C9: Плановые ассигнования*, в том числе | G9: Кассовое исполнение, в том числе
C10: ИТОГО | D10: за счет средств областного бюджета | E10: за счет средств федерального бюджета | F10: за счет средств местных бюджетов** | G10: ИТОГО | H10: за счет средств областного бюджета | I10: за счет средств федерального бюджета | J10: за счет средств местных бюджетов**
A11: 1 | B11: 2 | C11: 6 | D11: 7 | E11: 8 | F11: 9 | G11: 10 | H11: 11 | I11: 12 | J11: 13 | K11: 22
B12: ВСЕГО: | C12: =Лист2!C12 -> 17556.3 | D12: =Лист2!D12 -> 5022 | E12: =Лист2!E12 -> 11926.8 | F12: =Лист2!F12 -> 607.5 | G12: =Лист2!G12 -> 1327.6 | H12: =Лист2!H12 -> 863.8 | I12: =Лист2!I12 -> 401.7 | J12: =Лист2!J12 -> 62 | K12: =G12/C12 -> 0.076
A13: 1 | B13: Национальный проект "Кадры" | C13: =Лист2!C13 -> 27.1 | D13: =Лист2!D13 -> 0.5 | E13: =Лист2!E13 -> 26.6 | F13: =Лист2!F13 -> 0 | G13: =Лист2!G13 -> 0 | H13: =Лист2!H13 -> 0 | I13: =Лист2!I13 -> 0 | J13: =Лист2!J13 -> 0 | K13: =G13/C13 -> 0
A14: 2 | B14: Национальный проект "Продолжительная и активная жизнь" | C14: =Лист2!C17 -> 1967.9 | D14: =Лист2!D17 -> 984.4 | E14: =Лист2!E17 -> 983.5 | F14: =Лист2!F17 -> 0 | G14: =Лист2!G17 -> 83.7 | H14: =Лист2!H17 -> 57.5 | I14: =Лист2!I17 -> 26.2 | J14: =Лист2!J17 -> 0 | K14: =G14/C14 -> 0.043
A15: 3 | B15: Национальный проект "Молодежь и дети" | C15: =Лист2!C26 -> 5201.5 | D15: =Лист2!D26 -> 1061.9 | E15: =Лист2!E26 -> 4075.7 | F15: =Лист2!F26 -> 63.9 | G15: =Лист2!G26 -> 177 | H15: =Лист2!H26 -> 1.6 | I15: =Лист2!I26 -> 175.4 | J15: =Лист2!J26 -> 0 | K15: =G15/C15 -> 0.034
A16: 4 | B16: Национальный проект "Экономика данных и цифровая трансформация государства" | C16: =Лист2!C30 -> 133.2 | D16: =Лист2!D30 -> 78.4 | E16: =Лист2!E30 -> 54.7 | F16: =Лист2!F30 -> 0 | G16: =Лист2!G30 -> 73.6 | H16: =Лист2!H30 -> 73.6 | I16: =Лист2!I30 -> 0 | J16: =Лист2!J30 -> 0 | K16: =G16/C16 -> 0.553
A17: 5 | B17: Национальный проект "Экологическое благополучие" | C17: =Лист2!C33 -> 15.2 | D17: =Лист2!D33 -> 0 | E17: =Лист2!E33 -> 15.2 | F17: =Лист2!F33 -> 0 | G17: =Лист2!G33 -> 0 | H17: =Лист2!H33 -> 0 | I17: =Лист2!I33 -> 0 | J17: =Лист2!J33 -> 0 | K17: =G17/C17 -> 0
A18: 6 | B18: Национальный проект "Инфраструктура для жизни" | C18: =Лист2!C36 -> 8485.7 | D18: =Лист2!D36 -> 2556.8 | E18: =Лист2!E36 -> 5390.7 | F18: =Лист2!F36 -> 538.2 | G18: =Лист2!G36 -> 808.2 | H18: =Лист2!H36 -> 690.7 | I18: =Лист2!I36 -> 55.5 | J18: =Лист2!J36 -> 62 | K18: =G18/C18 -> 0.095
A19: 7 | B19: Национальный проект "Семья" | C19: =Лист2!C44 -> 1379.9 | D19: =Лист2!D44 -> 92.1 | E19: =Лист2!E44 -> 1282.4 | F19: =Лист2!F44 -> 5.3 | G19: =Лист2!G44 -> 130 | H19: =Лист2!H44 -> 5.7 | I19: =Лист2!I44 -> 124.3 | J19: =Лист2!J44 -> 0 | K19: =G19/C19 -> 0.094
A20: 8 | B20: Национальный проект "Эффективная и конкурентная экономика" | C20: =Лист2!C50 -> 50.1 | D20: =Лист2!D50 -> 7.4 | E20: =Лист2!E50 -> 42.8 | F20: =Лист2!F50 -> 0 | G20: =Лист2!G50 -> 27.2 | H20: =Лист2!H50 -> 6.9 | I20: =Лист2!I50 -> 20.3 | J20: =Лист2!J50 -> 0 | K20: =G20/C20 -> 0.543
A21: 9 | B21: Национальный проект "Технологическое обеспечение продовольственной безопасности" | C21: =Лист2!C53 -> 10.4 | D21: =Лист2!D53 -> 0.6 | E21: =Лист2!E53 -> 9.8 | F21: =Лист2!F53 -> 0 | G21: =Лист2!G53 -> 0 | H21: =Лист2!H53 -> 0 | I21: =Лист2!I53 -> 0 | J21: =Лист2!J53 -> 0 | K21: =G21/C21 -> 0
A22: 10 | B22: Национальный проект "Туризм и гостеприимство" | C22: =Лист2!C55 -> 46.4 | D22: =Лист2!D55 -> 0.9 | E22: =Лист2!E55 -> 45.5 | F22: =Лист2!F55 -> 0 | G22: =Лист2!G55 -> 0 | H22: =Лист2!H55 -> 0 | I22: =Лист2!I55 -> 0 | J22: =Лист2!J55 -> 0 | K22: =G22/C22 -> 0
A23: 11 | B23: Национальный проект "Беспилотные авиационные системы" | C23: =Лист2!C57 -> 238.9 | D23: =Лист2!D57 -> 238.9 | E23: =Лист2!E57 -> 0 | F23: =Лист2!F57 -> 0 | G23: =Лист2!G57 -> 27.9 | H23: =Лист2!H57 -> 27.9 | I23: =Лист2!I57 -> 0 | J23: =Лист2!J57 -> 0 | K23: =G23/C23 -> 0.117
