Workbook
Name Print_Titles: Лист1!$8:$11

Sheet Лист1
S1: Приложение к письму
S2: Департамента финансов Томской области
S3: от .06.2024 №50-02/18-
A5: Информация о плановых ассигнованиях и кассовом исполнении расходов консолидированного бюджета Томской области на реализацию региональных проектов Томской области по состоянию на 01.01.2026 года
U7: (тыс. рублей)
A8: № п/п | B8: Наименование | C8: Код ГРБС | D8: Наименование ГРБС | E8: Код целевой статьи областного бюджета | F8: 2025 год | N8: 2026 год | R8: 2027 год | V8: % исполнения
F9: Плановые ассигнования*, в том числе | J9: Кассовое исполнение, в том числе | N9: Плановые ассигнования*, в том числе | R9: Плановые ассигнования*, в том числе
F10: ИТОГО | G10: за счет средств областного бюджета | H10: за счет средств федерального бюджета | I10: за счет средств местных бюджетов** | J10: ИТОГО | K10: за счет средств областного бюджета | L10: за счет средств федерального бюджета | M10: за счет средств местных бюджетов** | N10: ИТОГО | O10: за счет средств областного бюджета | P10: за счет средств федерального бюджета | Q10: за счет средств местных бюджетов | R10: ИТОГО | S10: за счет средств областного бюджета | T10: за счет средств федерального бюджета | U10: за счет средств местных бюджетов
A11: 1 | B11: 2 | C11: 3 | D11: 4 | E11: 5 | F11: 6 | G11: 7 | H11: 8 | I11: 9 | J11: 10 | K11: 11 | L11: 12 | M11: 13 | N11: 10 | O11: 11 | P11: 12 | Q11: 13 | R11: 14 | S11: 15 | T11: 16 | U11: 17 | V11: 22
B12: ВСЕГО: | F12: =G12+H12+I12 -> 16912641 | G12: =G13+G24+G64+G91+G98+G105+G134+G167+G176+G181+G186+G194 -> 5655829.9 | H12: =H13+H24+H64+H91+H98+H105+H134+H167+H176+H181+H186+H194 -> 10626530 | I12: =I13+I24+I64+I91+I98+I105+I134+I167+I176+I181+I186+I194 -> 630281.8 | J12: =K12+L12+M12 -> 16062462 | K12: =K13+K24+K64+K91+K98+K105+K134+K167+K176+K181+K186+K194 -> 5292087.3 | L12: =L13+L24+L64+L91+L98+L105+L134+L167+L176+L181+L186+L194 -> 10171801 | M12: =M13+M24+M64+M91+M98+M105+M134+M167+M176+M181+M186+M194 -> 598573.8 | N12: =O12+P12+Q12 -> 16587714 | O12: =O13+O24+O64+O91+O98+O105+O134+O167+O176+O181+O186+O194 -> 4600817.1 | P12: =P13+P24+P64+P91+P98+P105+P134+P167+P176+P181+P186+P194 -> 11778082 | Q12: =Q13+Q24+Q64+Q91+Q98+Q105+Q134+Q167+Q176+Q181+Q186+Q194 -> 208814.3 | R12: =S12+T12+U12 -> 12532780 | S12: =S13+S24+S64+S91+S98+S105+S134+S167+S176+S181+S186+S194 -> 3036963.8 | T12: =T13+T24+T64+T91+T98+T105+T134+T167+T176+T181+T186+T194 -> 9379048.7 | U12: =U13+U24+U64+U91+U98+U105+U134+U167+U176+U181+U186+U194 -> 116767.4 | V12: =J12/F12 -> 0.95
A13: 1 | B13: Национальный проект "Кадры" | C13: Х | D13: Х | E13: Х | F13: =G13+H13+I13 -> 430491.9 | G13: =G15+G21+G18 -> 8609.9 | H13: =H15+H21+H18 -> 421882 | I13: =I15+I21+I18 -> 0 | J13: =K13+L13+M13 -> 430466.7 | K13: =K15+K18+K21 -> 8609.4 | L13: =L15+L18+L21 -> 421857.3 | M13: =M15+M18+M21 -> 0 | N13: =O13+P13+Q13 -> 23426.6 | O13: =O15+O21+O18 -> 468.6 | P13: =P15+P21+P18 -> 22958 | Q13: =Q15+Q21+Q18 -> 0 | R13: =S13+T13+U13 -> 22652 | S13: =S15+S21+S18 -> 453.1 | T13: =T15+T21+T18 -> 22198.9 | U13: =U15+U21+U18 -> 0 | V13: =J13/F13 -> 1
B14: из них
A15: 1.1 | B15: Региональный проект "Управление рынком труда" | C15: Х | D15: Х | E15: Х | F15: =G15+H15+I15 -> 411022.9 | G15: =SUM(G17:G17) -> 8220.5 | H15: =SUM(H17:H17) -> 402802.4 | I15: =SUM(I17:I17) -> 0 | J15: =K15+L15+M15 -> 411022.9 | K15: =K17 -> 8220.5 | L15: =L17 -> 402802.4 | M15: =M17 -> 0 | N15: =O15+P15+Q15 -> 0 | O15: =SUM(O17:O17) -> 0 | P15: =SUM(P17:P17) -> 0 | Q15: =SUM(Q17:Q17) -> 0 | R15: =S15+T15+U15 -> 0 | S15: =SUM(S17:S17) -> 0 | T15: =SUM(T17:T17) -> 0 | U15: =SUM(U17:U17) -> 0 | V15: =J15/F15 -> 1
B16: из них
B17: Повышение эффективности службы занятости | C17: 839 | D17: Департамент труда и занятости населения Томской области | E17: 05WЛ152910 | F17: =G17+H17+I17 -> 411022.9 | G17: 8220.5 | H17: 402802.4 | J17: =K17+L17+M17 -> 411022.9 | K17: 8220.5 | L17: 402802.38 | N17: =O17+P17+Q17 -> 0 | R17: =S17+T17+U17 -> 0 | V17: =J17/F17 -> 1
A18: 1.2 | B18: Региональный проект "Образование для рынка труда" | F18: =G18+H18+I18 -> 7698.7 | G18: =SUM(G20:G20) -> 154 | H18: =SUM(H20:H20) -> 7544.7 | I18: =SUM(I20:I20) -> 0 | J18: =K18+L18+M18 -> 7673.5 | K18: =K20 -> 153.5 | L18: =L20 -> 7519.98 | M18: =M20 -> 0 | N18: =O18+P18+Q18 -> 10426.6 | O18: =SUM(O20:O20) -> 208.6 | P18: =SUM(P20:P20) -> 10218 | Q18: =SUM(Q20:Q20) -> 0 | R18: =S18+T18+U18 -> 9652 | S18: =SUM(S20:S20) -> 193.1 | T18: =SUM(T20:T20) -> 9458.9 | U18: =SUM(U20:U20) -> 0 | V18: =J18/F18 -> 0.997
B19: из них
B20: Организация профессионального обучения и дополнительного профессионального образования работников организаций оборонно-промышленного комплекса | C20: 839 | D20: Департамент труда и занятости населения Томской области | E20: 05WЛ252920 | F20: =G20+H20+I20 -> 7698.7 | G20: 153.97 | H20: 7544.7 | I20: 0 | J20: =K20+L20+M20 -> 7673.5 | K20: 153.5 | L20: 7519.98 | M20: 0 | N20: =O20+P20+Q20 -> 10426.6 | O20: 208.6 | P20: 10218 | Q20: 0 | R20: =S20+T20+U20 -> 9652 | S20: 193.1 | T20: 9458.9 | U20: 0 | V20: =J20/F20 -> 0.997
A21: 1.3 | B21: Региональный проект "Человек труда" | C21: Х | D21: Х | E21: Х | F21: =G21+H21+I21 -> 11770.3 | G21: =SUM(G23:G23) -> 235.4 | H21: =SUM(H23:H23) -> 11534.9 | I21: =SUM(I23:I23) -> 0 | J21: =K21+L21+M21 -> 11770.3 | K21: =SUM(K23:K23) -> 235.4 | L21: =SUM(L23:L23) -> 11534.9 | M21: =SUM(M23:M23) -> 0 | N21: =O21+P21+Q21 -> 13000 | O21: =SUM(O23:O23) -> 260 | P21: =SUM(P23:P23) -> 12740 | Q21: =SUM(Q23:Q23) -> 0 | R21: =S21+T21+U21 -> 13000 | S21: =SUM(S23:S23) -> 260 | T21: =SUM(T23:T23) -> 12740 | U21: =SUM(U23:U23) -> 0 | V21: =J21/F21 -> 1
B22: из них
B23: Организация федеральных этапов Всероссийского конкурса профессионального мастерства "Лучший по профессии" | C23: 839 | D23: Департамент труда и занятости населения Томской области | E23: 05WЛ455700 | F23: =G23+H23+I23 -> 11770.3 | G23: 235.41 | H23: 11534.92 | J23: =K23+L23+M23 -> 11770.3 | K23: 235.4 | L23: 11534.92 | N23: =O23+P23+Q23 -> 13000 | O23: 260 | P23: 12740 | R23: =S23+T23+U23 -> 13000 | S23: 260 | T23: 12740 | V23: =J23/F23 -> 1
A24: 2 | B24: Национальный проект "Продолжительная и активная жизнь" | C24: Х | D24: Х | E24: Х | F24: =G24+H24+I24 -> 2882081.4 | G24: =G25+G29+G32+G35+G40+G55+G58+G61 -> 1496765 | H24: =H25+H29+H32+H35+H40+H55+H58+H61 -> 1385316.4 | I24: =I25+I29+I32+I35+I40+I55+I58+I61 -> 0 | J24: =K24+L24+M24 -> 2610329.7 | K24: =K25+K29+K32+K35+K40+K55+K58+K61 -> 1353747 | L24: =L25+L29+L32+L35+L40+L55+L58 -> 1256582.7 | M24: =M25+M29+M32+M35+M40+M55+M58 -> 0 | N24: =O24+P24+Q24 -> 1302213.4 | O24: =O25+O29+O32+O35+O40+O55+O58+O61 -> 874648.8 | P24: =P25+P29+P32+P35+P40+P55+P58+P61 -> 427564.6 | Q24: =Q25+Q29+Q32+Q35+Q40+Q55+Q58+Q61 -> 0 | R24: =S24+T24+U24 -> 742463.1 | S24: =S25+S29+S32+S35+S40+S55+S58+S61 -> 294721 | T24: =T25+T29+T32+T35+T40+T55+T58+T61 -> 447742.1 | U24: =U25+U29+U32+U35+U40+U55+U58+U61 -> 0 | V24: =J24/F24 -> 0.906
A25: 2.1 | B25: Региональный проект "Совершенствование экстренной медицинской помощи" | C25: Х | D25: Х | E25: Х | F25: =G25+H25+I25 -> 467142.5 | G25: =SUM(G27:G28) -> 342664.3 | H25: =SUM(H27:H28) -> 124478.2 | I25: =SUM(I27:I28) -> 0 | J25: =K25+L25+M25 -> 467142.5 | K25: =SUM(K27:K28) -> 342664.3 | L25: =SUM(L27:L28) -> 124478.2 | M25: =SUM(M27:M28) -> 0 | N25: =O25+P25+Q25 -> 459754 | O25: =SUM(O27:O28) -> 315058.1 | P25: =SUM(P27:P28) -> 144695.9 | Q25: =SUM(Q27:Q28) -> 0 | R25: =S25+T25+U25 -> 454993.2 | S25: =SUM(S27:S28) -> 288971.6 | T25: =SUM(T27:T28) -> 166021.6 | U25: =SUM(U27:U28) -> 0 | V25: =J25/F25 -> 1
B26: из них
B27: Обеспечение закупки авиационных работ в целях оказания медицинской помощи | C27: 811 | D27: Департамент здравоохранения Томской области | E27: 07WД655540 | F27: =G27+H27+I27 -> 309689.6 | G27: 185211.4 | H27: 124478.2 | J27: =SUM(K27:M27) -> 309689.6 | K27: 185211.4 | L27: 124478.2 | N27: =O27+P27+Q27 -> 376884.2 | O27: 232188.3 | P27: 144695.9 | R27: =S27+T27+U27 -> 448571.7 | S27: 282550.1 | T27: 166021.6 | V27: =J27/F27 -> 1
B28: Оказание медицинской помощи с применением санитарной авиации | C28: 811 | D28: Департамент здравоохранения Томской области | E28: 07WД6Д5540 | F28: =G28+H28+I28 -> 157452.9 | G28: 157452.9 | H28: 0 | J28: =SUM(K28:M28) -> 157452.9 | K28: 157452.9 | L28: 0 | N28: =O28+P28+Q28 -> 82869.8 | O28: 82869.8 | P28: 0 | R28: =S28+T28+U28 -> 6421.5 | S28: 6421.5 | T28: 0 | V28: =J28/F28 -> 1
A29: 2.2 | B29: Региональный проект "Борьба с сердечно-сосудистыми заболеваниями", всего | C29: Х | D29: Х | E29: Х | F29: =G29+H29+I29 -> 71208.2 | G29: =SUM(G31:G31) -> 1424.2 | H29: =SUM(H31:H31) -> 69784 | I29: =SUM(I31:I31) -> 0 | J29: =K29+L29+M29 -> 71208.2 | K29: =SUM(K31:K31) -> 1424.2 | L29: =SUM(L31:L31) -> 69784 | M29: =SUM(M31:M31) -> 0 | N29: =O29+P29+Q29 -> 70621.5 | O29: =SUM(O31:O31) -> 1412.4 | P29: =SUM(P31:P31) -> 69209.1 | Q29: =SUM(Q31:Q31) -> 0 | R29: =S29+T29+U29 -> 71710.5 | S29: =SUM(S31:S31) -> 1434.2 | T29: =SUM(T31:T31) -> 70276.3 | U29: =SUM(U31:U31) -> 0 | V29: =J29/F29 -> 1
B30: из них
B31: Обеспечение профилактики развития сердечно-сосудистых заболеваний и сердечно-сосудистых осложнений у пациентов высокого риска, находящихся на диспансерном наблюдении | C31: 811 | D31: Департамент здравоохранения Томской области | E31: 07WД255860 | F31: =G31+H31+I31 -> 71208.2 | G31: 1424.2 | H31: 69784 | J31: =SUM(K31:M31) -> 71208.2 | K31: 1424.2 | L31: 69784 | N31: =O31+P31+Q31 -> 70621.5 | O31: 1412.4 | P31: 69209.1 | R31: =S31+T31+U31 -> 71710.5 | S31: 1434.2 | T31: 70276.3 | V31: =J31/F31 -> 1
A32: 2.3 | B32: Региональный проект "Борьба с гепатитом С и минимизация рисков распространения данного заболевания" | C32: Х | D32: Х | E32: Х | F32: =G32+H32+I32 -> 28691.6 | G32: =SUM(G34:G34) -> 573.8 | H32: =SUM(H34:H34) -> 28117.8 | I32: =SUM(I34:I34) -> 0 | J32: =SUM(J34:J34) -> 28580.1 | K32: =SUM(K34:K34) -> 571.6 | L32: =SUM(L34:L34) -> 28008.5 | M32: =SUM(M34:M34) -> 0 | N32: =SUM(N34:N34) -> 29169.6 | ... U32: =SUM(U34:U34) -> 0 | V32: =J32/F32 -> 0.996
B33: из них
B34: Реализация мероприятий по обеспечению в амбулаторных условиях противовирусными лекарственными препаратами лиц, находящихся под диспансерным наблюдением, с диагнозом "хронический вирусный гепатит C" | C34: 811 | D34: Департамент здравоохранения Томской области | E34: 07WД552140 | F34: =G34+H34+I34 -> 28691.6 | G34: 573.8 | H34: 28117.8 | J34: =K34+L34+M34 -> 28580.1 | K34: 571.6 | L34: 28008.5 | N34: =O34+P34+Q34 -> 29169.6 | O34: 583.4 | P34: 28586.2 | R34: =S34+T34+U34 -> 29735.1 | S34: 594.7 | T34: 29140.4 | V34: =J34/F34 -> 0.996
A35: 2.4 | B35: Региональный проект "Борьба с сахарным диабетом" | C35: Х | D35: Х | E35: Х | F35: =G35+H35+I35 -> 48569.3 | G35: =SUM(G37:G39) -> 971.4 | H35: =SUM(H37:H39) -> 47597.9 | I35: =SUM(I37:I39) -> 0 | J35: =K35+L35+M35 -> 48569.2 | K35: =K39+K37+K38 -> 971.4 | L35: =L39+L37+L38 -> 47597.8 | M35: =M39+M37+M38 -> 0 | N35: =O35+P35+Q35 -> 107480.6 | O35: =SUM(O37:O39) -> 2149.6 | P35: =SUM(P37:P39) -> 105331 | Q35: =SUM(Q37:Q39) -> 0 | R35: =S35+T35+U35 -> 97770.5 | S35: =SUM(S37:S39) -> 1955.4 | T35: =SUM(T37:T39) -> 95815.1 | U35: =SUM(U37:U39) -> 0 | V35: =J35/F35 -> 1
B36: из них
B37: Обеспечение детей с сахарным диабетом 1 типа в возрасте от 2-х до 17-ти лет включительно системами непрерывного мониторинга глюкозы | C37: 811 | D37: Департамент здравоохранения Томской области | E37: 07WД451070 | F37: =G37+H37+I37 -> 42489.2 | G37: 849.8 | H37: 41639.4 | J37: =K37+L37+M37 -> 42489.2 | K37: 849.8 | L37: 41639.4 | N37: =O37+P37+Q37 -> 44239.8 | O37: 884.8 | P37: 43355 | R37: =S37+T37+U37 -> 45989.4 | S37: 919.8 | T37: 45069.6 | V37: =J37/F37 -> 1
B38: Обеспечение беременных женщин с сахарным диабетом системами непрерывного мониторинга глюкозы | C38: 811 | D38: Департамент здравоохранения Томской области | E38: 07WД451520 | F38: =G38+H38+I38 -> 6080.1 | G38: 121.59 | H38: 5958.5 | J38: =K38+L38+M38 -> 6080 | K38: 121.6 | L38: 5958.4 | N38: =O38+P38+Q38 -> 52788.8 | O38: 1055.8 | P38: 51733 | R38: =S38+T38+U38 -> 51781.1 | S38: 1035.6 | T38: 50745.5 | V38: =J38/F38 -> 1
B39: Оснащение региональных, межрайонных (районных) центров, оказывающих медицинскую помощь больным с нарушениями углеводного обмена и сахарным диабетом | C39: 811 | D39: Департамент здравоохранения Томской области | E39: 07WД451580 | F39: =G39+H39+I39 -> 0 | G39: 0 | H39: 0 | J39: =SUM(K39:M39) -> 0 | K39: 0 | L39: 0 | N39: =O39+P39+Q39 -> 10452 | O39: 209 | P39: 10243 | R39: =S39+T39+U39 -> 0 | S39: 0 | V39: =J39/F39 -> #DIV/0!
A40: 2.5 | B40: Региональный проект "Модернизация первичного звена здравоохранения Российской Федерации" | C40: Х | D40: Х | E40: Х | F40: =G40+H40+I40 -> 2238975 | G40: =SUM(G42:G54) -> 1150581.4 | H40: =SUM(H42:H54) -> 1088393.6 | I40: =SUM(I42:I54) -> 0 | J40: =K40+L40+M40 -> 1967334.9 | K40: =SUM(K42:K54) -> 1007565.6 | L40: =SUM(L42:L54) -> 959769.3 | M40: =SUM(M42:M54) -> 0 | N40: =O40+P40+Q40 -> 555259.1 | O40: =SUM(O42:O54) -> 555259.1 | P40: =SUM(P42:P54) -> 0 | Q40: =SUM(Q42:Q54) -> 0 | R40: =S40+T40+U40 -> 0 | S40: =SUM(S42:S54) -> 0 | T40: =SUM(T42:T54) -> 0 | U40: =SUM(U42:U54) -> 0 | V40: =J40/F40 -> 0.879
B41: из них
B42: Реализация региональных проектов модернизации первичного звена здравоохранения (капитальный ремонт зданий медицинских организаций) | C42: 821 | D42: Департамент строительства Томской области | E42: 07WД153651 | F42: =G42+H42+I42 -> 266693.5 | G42: 11271.86 | H42: 255421.68 | J42: =SUM(K42:M42) -> 147530.5 | K42: 6236.6 | L42: 141293.9 | N42: =O42+P42+Q42 -> 0 | O42: 0 | P42: 0 | R42: =S42+T42+U42 -> 0 | S42: 0 | T42: 0 | V42: =J42/F42 -> 0.553
...

Sheet Лист4

Sheet Лист5

Sheet Лист6

Sheet Лист7

Sheet Лист2
A5: Информация о плановых ассигнованиях и кассовом исполнении расходов консолидированного бюджета Томской области на реализацию региональных проектов Томской области по состоянию на 30.12.2025 года
A8: № п/п | B8: Наименование | C8: Код ГРБС | D8: Наименование ГРБС | E8: Код целевой статьи областного бюджета | F8: 2025 год | N8: % исполнения
F9: Плановые ассигнования*, в том числе | J9: Кассовое исполнение, в том числе
F10: ИТОГО | G10: за счет средств областного бюджета | H10: за счет средств федерального бюджета | I10: за счет средств местных бюджетов** | J10: ИТОГО | K10: за счет средств областного бюджета | L10: за счет средств федерального бюджета | M10: за счет средств местных бюджетов**
A11: 1 | B11: 2 | C11: 3 | D11: 4 | E11: 5 | F11: 6 | G11: 7 | H11: 8 | I11: 9 | J11: 10 | K11: 11 | L11: 12 | M11: 13 | N11: 22
B12: ВСЕГО: | F12: =Лист1!F12/1000 -> 16912.6 | G12: =Лист1!G12/1000 -> 5655.8 | H12: =Лист1!H12/1000 -> 10626.5 | I12: =Лист1!I12/1000 -> 630.3 | J12: =Лист1!J12/1000 -> 16062.5 | K12: =Лист1!K12/1000 -> 5292.1 | L12: =Лист1!L12/1000 -> 10171.8 | M12: =Лист1!M12/1000 -> 598.6 | N12: =J12/F12 -> 0.95 | O12: =K12/G12*100 -> 93.57 | P12: =L12/H12*100 -> 95.72 | Q12: =M12/I12*100 -> 94.97
A13: 1 | B13: Национальный проект "Кадры" | C13: Х | D13: Х | E13: Х | F13: =Лист1!F13/1000 -> 430.5 | G13: =Лист1!G13/1000 -> 8.6 | H13: =Лист1!H13/1000 -> 421.9 | I13: =Лист1!I13/1000 -> 0 | J13: =Лист1!J13/1000 -> 430.5 | K13: =Лист1!K13/1000 -> 8.6 | L13: =Лист1!L13/1000 -> 421.9 | M13: =Лист1!M13/1000 -> 0 | N13: =J13/F13 -> 1
B14: из них | F14: =Лист1!F14/1000 -> 0 | G14: =Лист1!G14/1000 -> 0 | H14: =Лист1!H14/1000 -> 0 | I14: =Лист1!I14/1000 -> 0 | J14: =Лист1!J14/1000 -> 0 | K14: =Лист1!K14/1000 -> 0 | L14: =Лист1!L14/1000 -> 0 | M14: =Лист1!M14/1000 -> 0
A15: 1.1 | B15: Региональный проект "Управление рынком труда" | C15: Х | D15: Х | E15: Х | F15: =Лист1!F15/1000 -> 411 | G15: =Лист1!G15/1000 -> 8.2 | H15: =Лист1!H15/1000 -> 402.8 | I15: =Лист1!I15/1000 -> 0 | J15: =Лист1!J15/1000 -> 411 | K15: =Лист1!K15/1000 -> 8.2 | L15: =Лист1!L15/1000 -> 402.8 | M15: =Лист1!M15/1000 -> 0 | N15: =J15/F15 -> 1
A16: 1.2 | B16: Региональный проект "Образование для рынка труда" | F16: =Лист1!F18/1000 -> 7.7 | G16: =Лист1!G18/1000 -> 0.2 | H16: =Лист1!H18/1000 -> 7.5 | I16: =Лист1!I18/1000 -> 0 | J16: =Лист1!J18/1000 -> 7.7 | K16: =Лист1!K18/1000 -> 0.15 | L16: =Лист1!L18/1000 -> 7.52 | M16: =Лист1!M18/1000 -> 0 | N16: =J16/F16 -> 1
A17: 1.3 | B17: Региональный проект "Человек труда" | C17: Х | D17: Х | E17: Х | F17: =Лист1!F21/1000 -> 11.8 | G17: =Лист1!G21/1000 -> 0.2 | H17: =Лист1!H21/1000 -> 11.5 | I17: =Лист1!I21/1000 -> 0 | J17: =Лист1!J21/1000 -> 11.8 | K17: =Лист1!K21/1000 -> 0.2 | L17: =Лист1!L21/1000 -> 11.5 | M17: =Лист1!M21/1000 -> 0 | N17: =J17/F17 -> 1
A18: 2 | B18: Национальный проект "Продолжительная и активная жизнь" | C18: Х | D18: Х | E18: Х | F18: =Лист1!F24/1000 -> 2882.1 | G18: =Лист1!G24/1000 -> 1496.8 | H18: =Лист1!H24/1000 -> 1385.3 | I18: =Лист1!I24/1000 -> 0 | J18: =Лист1!J24/1000 -> 2610.3 | K18: =Лист1!K24/1000 -> 1353.7 | L18: =Лист1!L24/1000 -> 1256.6 | M18: =Лист1!M24/1000 -> 0 | N18: =J18/F18 -> 0.906 | O18: =K18/G18*100 -> 90.44 | P18: =L18/H18*100 -> 90.71 | Q18: =M18/I18*100 -> #DIV/0!
A19: 2.1 | B19: Региональный проект "Совершенствование экстренной медицинской помощи" | C19: Х | D19: Х | E19: Х | F19: =Лист1!F25/1000 -> 467.1 | G19: =Лист1!G25/1000 -> 342.7 | H19: =Лист1!H25/1000 -> 124.5 | I19: =Лист1!I25/1000 -> 0 | J19: =Лист1!J25/1000 -> 467.1 | K19: =Лист1!K25/1000 -> 342.7 | L19: =Лист1!L25/1000 -> 124.5 | M19: =Лист1!M25/1000 -> 0 | N19: =J19/F19 -> 1
A20: 2.2 | B20: Региональный проект "Борьба с сердечно-сосудистыми заболеваниями", всего | C20: Х | D20: Х | E20: Х | F20: =Лист1!F29/1000 -> 71.2 | G20: =Лист1!G29/1000 -> 1.4 | H20: =Лист1!H29/1000 -> 69.8 | I20: =Лист1!I29/1000 -> 0 | J20: =Лист1!J29/1000 -> 71.2 | K20: =Лист1!K29/1000 -> 1.4 | L20: =Лист1!L29/1000 -> 69.8 | M20: =Лист1!M29/1000 -> 0 | N20: =J20/F20 -> 1
A21: 2.3 | B21: Региональный проект "Борьба с гепатитом С и минимизация рисков распространения данного заболевания" | C21: Х | D21: Х | E21: Х | F21: =Лист1!F32/1000 -> 28.7 | G21: =Лист1!G32/1000 -> 0.6 | H21: =Лист1!H32/1000 -> 28.1 | I21: =Лист1!I32/1000 -> 0 | J21: =Лист1!J32/1000 -> 28.6 | K21: =Лист1!K32/1000 -> 0.6 | L21: =Лист1!L32/1000 -> 28 | M21: =Лист1!M32/1000 -> 0 | N21: =J21/F21 -> 0.997
A22: 2.4 | B22: Региональный проект "Борьба с сахарным диабетом" | C22: Х | D22: Х | E22: Х | F22: =Лист1!F35/1000 -> 48.6 | G22: =Лист1!G35/1000 -> 1 | H22: =Лист1!H35/1000 -> 47.6 | I22: =Лист1!I35/1000 -> 0 | J22: =Лист1!J35/1000 -> 48.6 | K22: =Лист1!K35/1000 -> 1 | L22: =Лист1!L35/1000 -> 47.6 | M22: =Лист1!M35/1000 -> 0 | N22: =J22/F22 -> 1
A23: 2.5 | B23: Региональный проект "Модернизация первичного звена здравоохранения Российской Федерации" | C23: Х | D23: Х | E23: Х | F23: =Лист1!F40/1000 -> 2239 | G23: =Лист1!G40/1000 -> 1150.6 | H23: =Лист1!H40/1000 -> 1088.4 | I23: =Лист1!I40/1000 -> 0 | J23: =Лист1!J40/1000 -> 1967.3 | K23: =Лист1!K40/1000 -> 1007.6 | L23: =Лист1!L40/1000 -> 959.8 | M23: =Лист1!M40/1000 -> 0 | N23: =J23/F23 -> 0.879
A24: 2.6 | B24: Региональный проект "Оптимальная для восстановления здоровья медицинская реабилитация" | C24: Х | D24: Х | E24: Х | F24: =Лист1!F55/1000 -> 25.7 | G24: =Лист1!G55/1000 -> 0.5 | H24: =Лист1!H55/1000 -> 25.2 | I24: =Лист1!I55/1000 -> 0 | J24: =Лист1!J55/1000 -> 25.7 | K24: =Лист1!K55/1000 -> 0.5 | L24: =Лист1!L55/1000 -> 25.2 | M24: =Лист1!M55/1000 -> 0 | N24: =J24/F24 -> 1
A25: 2.7 | B25: Региональный проект "Здоровье для каждого" | C25: Х | D25: Х | E25: Х | F25: =Лист1!F58/1000 -> 1.8 | G25: =Лист1!G58/1000 -> 0 | H25: =Лист1!H58/1000 -> 1.8 | I25: =Лист1!I58/1000 -> 0 | J25: =Лист1!J58/1000 -> 1.8 | K25: =Лист1!K58/1000 -> 0 | L25: =Лист1!L58/1000 -> 1.8 | M25: =Лист1!M58/1000 -> 0 | N25: =J25/F25 -> 1
A26: 2.8 | B26: Региональный проект "Борьба с онкологическими заболеваниями" | C26: Х | D26: Х | E26: Х | F26: =Лист1!F61/1000 -> 0 | G26: =Лист1!G61/1000 -> 0 | H26: =Лист1!H61/1000 -> 0 | I26: =Лист1!I61/1000 -> 0 | J26: =Лист1!J61/1000 -> 0 | K26: =Лист1!K61/1000 -> 0 | L26: =Лист1!L61/1000 -> 0 | M26: =Лист1!M61/1000 -> 0 | N26: =J26/F26 -> #DIV/0!
A27: 3 | B27: Национальный проект "Молодежь и дети" | C27: Х | D27: Х | E27: Х | F27: =Лист1!F64/1000 -> 5044 | G27: =Лист1!G64/1000 -> 951.2 | H27: =Лист1!H64/1000 -> 4063.8 | I27: =Лист1!I64/1000 -> 29.1 | J27: =Лист1!J64/1000 -> 4631.8 | K27: =Лист1!K64/1000 -> 760.9 | L27: =Лист1!L64/1000 -> 3848.8 | M27: =Лист1!M64/1000 -> 22.1 | N27: =J27/F27 -> 0.918 | O27: =L27/H27*100 -> 94.709385 | P27: =K27/G27*100 -> 79.993692 | Q27: =M27/I27*100 -> 75.945017
A28: 3.1 | B28: Региональный проект "Все лучшее детям" | C28: Х | D28: Х | E28: Х | F28: =Лист1!F65/1000 -> 3527.3 | G28: =Лист1!G65/1000 -> 879.8 | H28: =Лист1!H65/1000 -> 2630.4 | I28: =Лист1!I65/1000 -> 17.1 | J28: =Лист1!J65/1000 -> 3122.6 | K28: =Лист1!K65/1000 -> 689.5 | L28: =Лист1!L65/1000 -> 2417.1 | M28: =Лист1!M65/1000 -> 16.1 | N28: =J28/F28 -> 0.885 | P28: =M27/1000 -> 0.02
A29: 3.2 | B29: Региональный проект "Педагоги и наставники" | C29: Х | D29: Х | E29: Х | F29: =Лист1!F78/1000 -> 1342.1 | G29: =Лист1!G78/1000 -> 2.4 | H29: =Лист1!H78/1000 -> 1339.8 | I29: =Лист1!I78/1000 -> 0 | J29: =Лист1!J78/1000 -> 1340.5 | K29: =Лист1!K78/1000 -> 2.4 | L29: =Лист1!L78/1000 -> 1338.2 | M29: =Лист1!M78/1000 -> 0 | N29: =J29/F29 -> 0.999
A30: 3.3 | B30: Региональный проект "Россия - страна возможностей" | C30: Х | D30: Х | E30: Х | F30: =Лист1!F87/1000 -> 174.6 | G30: =Лист1!G87/1000 -> 69.1 | H30: =Лист1!H87/1000 -> 93.6 | I30: =Лист1!I87/1000 -> 11.9 | J30: =Лист1!J87/1000 -> 168.6 | K30: =Лист1!K87/1000 -> 69.1 | L30: =Лист1!L87/1000 -> 93.6 | M30: =Лист1!M87/1000 -> 5.9 | N30: =J30/F30 -> 0.966
A31: 4 | B31: Национальный проект "Экономика данных и цифровая трансформация государства" | C31: Х | D31: Х | E31: Х | F31: =Лист1!F91/1000 -> 0 | G31: =Лист1!G91/1000 -> 0 | H31: =Лист1!H91/1000 -> 0 | I31: =Лист1!I91/1000 -> 0 | J31: =Лист1!J91/1000 -> 0 | K31: =Лист1!K91/1000 -> 0 | L31: =Лист1!L91/1000 -> 0 | M31: =Лист1!M91/1000 -> 0 | N31: =J31/F31 -> #DIV/0!
A32: 4.1 | B32: Региональный проект "Цифровые платформы в отраслях социальной сферы" | C32: Х | D32: Х | E32: Х | F32: =Лист1!F92/1000 -> 0 | G32: =Лист1!G92/1000 -> 0 | H32: =Лист1!H92/1000 -> 0 | I32: =Лист1!I92/1000 -> 0 | J32: =Лист1!J92/1000 -> 0 | K32: =Лист1!K92/1000 -> 0 | L32: =Лист1!L92/1000 -> 0 | M32: =Лист1!M92/1000 -> 0 | N32: =J32/F32 -> #DIV/0!
A33: 4.2 | B33: Региональный проект "Цифровое государственное управление" | C33: Х | D33: Х | E33: Х | F33: =Лист1!F95/1000 -> 0 | G33: =Лист1!G95/1000 -> 0 | H33: =Лист1!H95/1000 -> 0 | I33: =Лист1!I95/1000 -> 0 | J33: =Лист1!J95/1000 -> 0 | K33: =Лист1!K95/1000 -> 0 | L33: =Лист1!L95/1000 -> 0 | M33: =Лист1!M95/1000 -> 0 | N33: =J33/F33 -> #DIV/0!
A34: 5 | B34: Национальный проект "Экологическое благополучие" | C34: Х | D34: Х | E34: Х | F34: =Лист1!F98/1000 -> 1.3 | G34: =Лист1!G98/1000 -> 0 | H34: =Лист1!H98/1000 -> 1.3 | I34: =Лист1!I98/1000 -> 0 | J34: =Лист1!J98/1000 -> 1.3 | K34: =Лист1!K98/1000 -> 0 | L34: =Лист1!L98/1000 -> 1.3 | M34: =Лист1!M98/1000 -> 0 | N34: =J34/F34 -> 1
A35: 5.1 | B35: Региональный проект "Сохранение лесов" | C35: Х | D35: Х | E35: Х | F35: =Лист1!F99/1000 -> 1.3 | G35: =Лист1!G99/1000 -> 0 | H35: =Лист1!H99/1000 -> 1.3 | I35: =Лист1!I99/1000 -> 0 | J35: =Лист1!J99/1000 -> 1.3 | K35: =Лист1!K99/1000 -> 0 | L35: =Лист1!L99/1000 -> 1.3 | M35: =Лист1!M99/1000 -> 0 | N35: =J35/F35 -> 1
A36: 6 | B36: Национальный проект "Инфраструктура для жизни" | C36: Х | D36: Х | E36: Х | F36: =Лист1!F105/1000 -> 7230.3 | G36: =Лист1!G105/1000 -> 2751.2 | H36: =Лист1!H105/1000 -> 3882.7 | I36: =Лист1!I105/1000 -> 596.3 | J36: =Лист1!J105/1000 -> 7071.1 | K36: =Лист1!K105/1000 -> 2724.6 | L36: =Лист1!L105/1000 -> 3774.5 | M36: =Лист1!M105/1000 -> 572.1 | N36: =J36/F36 -> 0.978
A37: 6.1 | B37: Региональный проект "Региональная и местная дорожная сеть" | C37: Х | D37: Х | E37: Х | F37: =Лист1!F106/1000 -> 5498 | G37: =Лист1!G106/1000 -> 2230 | H37: =Лист1!H106/1000 -> 2828.9 | I37: =Лист1!I106/1000 -> 439.1 | J37: =Лист1!J106/1000 -> 5476.4 | K37: =Лист1!K106/1000 -> 2217.2 | L37: =Лист1!L106/1000 -> 2828.9 | M37: =Лист1!M106/1000 -> 430.3 | N37: =J37/F37 -> 0.996
A38: 6.2 | B38: Федеральный проект "Жильё" | C38: Х | D38: Х | E38: Х | F38: =Лист1!F111/1000 -> 394.9 | G38: =Лист1!G111/1000 -> 71.3 | H38: =Лист1!H111/1000 -> 286.8 | I38: =Лист1!I111/1000 -> 36.7 | J38: =Лист1!J111/1000 -> 319.2 | K38: =Лист1!K111/1000 -> 62.7 | L38: =Лист1!L111/1000 -> 222.1 | M38: =Лист1!M111/1000 -> 34.3 | N38: =J38/F38 -> 0.808
A39: 6.3 | B39: Региональный проект "Формирование комфортной городской среды" | C39: Х | D39: Х | E39: Х | F39: =Лист1!F117/1000 -> 553.2 | G39: =Лист1!G117/1000 -> 7.4 | H39: =Лист1!H117/1000 -> 461.9 | I39: =Лист1!I117/1000 -> 83.9 | J39: =Лист1!J117/1000 -> 497.6 | K39: =Лист1!K117/1000 -> 6.6 | L39: =Лист1!L117/1000 -> 418.9 | M39: =Лист1!M117/1000 -> 72.1 | N39: =J39/F39 -> 0.899
A40: 6.4 | B40: Региональный проект "Общесистемные меры развития дорожного хозяйства" | C40: Х | D40: Х | E40: Х | F40: =Лист1!F121/1000 -> 87.1 | G40: =Лист1!G121/1000 -> 87.1 | H40: =Лист1!H121/1000 -> 0 | I40: =Лист1!I121/1000 -> 0 | J40: =Лист1!J121/1000 -> 86.6 | K40: =Лист1!K121/1000 -> 86.6 | L40: =Лист1!L121/1000 -> 0 | M40: =Лист1!M121/1000 -> 0 | N40: =J40/F40 -> 0.994
A41: 6.5 | B41: Региональный проект "Модернизация коммунальной инфраструктуры" | C41: Х | D41: Х | E41: Х | F41: =Лист1!F125/1000 -> 471.3 | G41: =Лист1!G125/1000 -> 129.6 | H41: =Лист1!H125/1000 -> 305.1 | I41: =Лист1!I125/1000 -> 36.6 | J41: =Лист1!J125/1000 -> 469.2 | K41: =Лист1!K125/1000 -> 129.3 | L41: =Лист1!L125/1000 -> 304.6 | M41: =Лист1!M125/1000 -> 35.3 | N41: =J41/F41 -> 0.996
A42: 6.6 | B42: Региональный проект "Безопасность дорожного движения" | C42: Х | D42: Х | E42: Х | F42: =Лист1!F129/1000 -> 225.8 | G42: =Лист1!G129/1000 -> 225.8 | H42: =Лист1!H129/1000 -> 0 | I42: =Лист1!I129/1000 -> 0 | J42: =Лист1!J129/1000 -> 222.2 | K42: =Лист1!K129/1000 -> 222.2 | L42: =Лист1!L129/1000 -> 0 | M42: =Лист1!M129/1000 -> 0 | N42: =J42/F42 -> 0.984
A43: 7 | B43: Национальный проект "Семья" | C43: Х | D43: Х | E43: Х | F43: =Лист1!F134/1000 -> 870.2 | G43: =Лист1!G134/1000 -> 83.9 | H43: =Лист1!H134/1000 -> 784.4 | I43: =Лист1!I134/1000 -> 1.9 | J43: =Лист1!J134/1000 -> 867.2 | K43: =Лист1!K134/1000 -> 83.6 | L43: =Лист1!L134/1000 -> 781.7 | M43: =Лист1!M134/1000 -> 1.9 | N43: =J43/F43 -> 0.997
A44: 7.1 | B44: Региональный проект "Охрана материнства и детства" | C44: Х | D44: Х | E44: Х | F44: =Лист1!F135/1000 -> 0 | G44: =Лист1!G135/1000 -> 0 | H44: =Лист1!H135/1000 -> 0 | I44: =Лист1!I135/1000 -> 0 | J44: =Лист1!J135/1000 -> 0 | K44: =Лист1!K135/1000 -> 0 | L44: =Лист1!L135/1000 -> 0 | M44: =Лист1!M135/1000 -> 0 | N44: =J44/F44 -> #DIV/0!
A45: 7.2 | B45: Региональный проект "Семейные ценности и инфраструктура культуры" | C45: Х | D45: Х | E45: Х | F45: =Лист1!F138/1000 -> 159.4 | G45: =Лист1!G138/1000 -> 36.1 | H45: =Лист1!H138/1000 -> 121.3 | I45: =Лист1!I138/1000 -> 1.9 | J45: =Лист1!J138/1000 -> 156.4 | K45: =Лист1!K138/1000 -> 35.8 | L45: =Лист1!L138/1000 -> 118.6 | M45: =Лист1!M138/1000 -> 1.9 | N45: =J45/F45 -> 0.981
A46: 7.3 | B46: Региональный проект "Многодетная семья" | C46: Х | D46: Х | E46: Х | F46: =Лист1!F153/1000 -> 539.8 | G46: =Лист1!G153/1000 -> 44.3 | H46: =Лист1!H153/1000 -> 495.5 | I46: =Лист1!I153/1000 -> 0 | J46: =Лист1!J153/1000 -> 539.8 | K46: =Лист1!K153/1000 -> 44.3 | L46: =Лист1!L153/1000 -> 495.5 | M46: =Лист1!M153/1000 -> 0 | N46: =J46/F46 -> 1
...

Sheet Лист3
A5: Оперативная информация о плановых ассигнованиях и кассовом исполнении расходов консолидированного бюджета Томской области на реализацию региональных проектов Томской области по состоянию на 01.01.2026 года
A8: № п/п | B8: Наименование национальных проектов | C8: 2025 год | H8: % исполнения
C9: Плановые ассигнования*, в том числе | G9: Кассовое исполнение, в том числе
C10: ИТОГО | D10: за счет средств областного бюджета | E10: за счет средств федерального бюджета | F10: за счет средств местных бюджетов
A11: 1 | B11: 2 | C11: 6 | D11: 7 | E11: 8 | F11: 9 | G11: 10 | H11: 22
B12: ВСЕГО: | C12: =Лист1!F12/1000 -> 16912.64 | D12: =Лист1!G12/1000 -> 5655.83 | E12: =Лист1!H12/1000 -> 10626.53 | F12: =Лист1!I12/1000 -> 630.28 | G12: =Лист1!J12/1000 -> 16062.46 | H12: =G12/C12 -> 0.95
A13: 6 | B13: Инфраструктура для жизни | C13: =Лист1!F105/1000 -> 7230.25 | D13: =Лист1!G105/1000 -> 2751.24 | E13: =Лист1!H105/1000 -> 3882.71 | F13: =Лист1!I105/1000 -> 596.3 | G13: =Лист1!J105/1000 -> 7071.12 | H13: =G13/C13 -> 0.978 | I13: =G13-C13 -> -159.13
A14: 3 | B14: Молодежь и дети | C14: =Лист1!F64/1000 -> 5044.05 | D14: =Лист1!G64/1000 -> 951.2 | E14: =Лист1!H64/1000 -> 4063.79 | F14: =Лист1!I64/1000 -> 29.06 | G14: =Лист1!J64/1000 -> 4631.8 | H14: =G14/C14 -> 0.918 | I14: =G14-C14 -> -412.25
A15: 2 | B15: Продолжительная и активная жизнь | C15: =Лист1!F24/1000 -> 2882.08 | D15: =Лист1!G24/1000 -> 1496.77 | E15: =Лист1!H24/1000 -> 1385.32 | F15: =Лист1!I24/1000 -> 0 | G15: =Лист1!J24/1000 -> 2610.33 | H15: =G15/C15 -> 0.906 | I15: =G15-C15 -> -271.75
A16: 7 | B16: Семья | C16: =Лист1!F134/1000 -> 870.25 | D16: =Лист1!G134/1000 -> 83.89 | E16: =Лист1!H134/1000 -> 784.43 | F16: =Лист1!I134/1000 -> 1.92 | G16: =Лист1!J134/1000 -> 867.2 | H16: =G16/C16 -> 0.996 | I16: =G16-C16 -> -3.05
A17: 1 | B17: Кадры | C17: =Лист1!F13/1000 -> 430.49 | D17: =Лист1!G13/1000 -> 8.61 | E17: =Лист1!H13/1000 -> 421.88 | F17: =Лист1!I13/1000 -> 0 | G17: =Лист1!J13/1000 -> 430.47 | H17: =G17/C17 -> 1 | I17: =G17-C17 -> -0.02
A18: 11 | B18: Беспилотные авиационные системы | C18: =Лист1!F186/1000 -> 348.86 | D18: =Лист1!G186/1000 -> 342.11 | E18: =Лист1!H186/1000 -> 6.75 | F18: =Лист1!I186/1000 -> 0 | G18: =Лист1!J186/1000 -> 345.81 | H18: =G18/C18 -> 0.991 | I18: =G18-C18 -> -3.05
A19: 8 | B19: Эффективная и конкурентная экономика | C19: =Лист1!F167/1000 -> 49.12 | D19: =Лист1!G167/1000 -> 19.82 | E19: =Лист1!H167/1000 -> 29.3 | F19: =Лист1!I167/1000 -> 0 | G19: =Лист1!J167/1000 -> 49.12 | H19: =G19/C19 -> 1 | I19: =G19-C19 -> 0
A20: 10 | B20: Туризм и гостеприимство | C20: =Лист1!F181/1000 -> 28.74 | D20: =Лист1!G181/1000 -> 0.9 | E20: =Лист1!H181/1000 -> 24.84 | F20: =Лист1!I181/1000 -> 3 | G20: =Лист1!J181/1000 -> 27.82 | H20: =G20/C20 -> 0.968 | I20: =G20-C20 -> -0.92
A21: 12 | B21: Международная кооперация и экспорт | C21: =Лист1!F194/1000 -> 21.21 | D21: =Лист1!G194/1000 -> 0.42 | E21: =Лист1!H194/1000 -> 20.78 | F21: =Лист1!I194/1000 -> 0 | G21: =Лист1!J194/1000 -> 21.21 | H21: =G21/C21 -> 1 | I21: =G21-C21 -> 0
A22: 9 | B22: Технологическое обеспечение продовольственной безопасности | C22: =Лист1!F176/1000 -> 6.26 | D22: =Лист1!G176/1000 -> 0.86 | E22: =Лист1!H176/1000 -> 5.4 | F22: =Лист1!I176/1000 -> 0 | G22: =Лист1!J176/1000 -> 6.26 | H22: =G22/C22 -> 1 | I22: =G22-C22 -> 0
A23: 5 | B23: Экологическое благополучие | C23: =Лист1!F98/1000 -> 1.33 | D23: =Лист1!G98/1000 -> 0 | E23: =Лист1!H98/1000 -> 1.33 | F23: =Лист1!I98/1000 -> 0 | G23: =Лист1!J98/1000 -> 1.33 | H23: =G23/C23 -> 1 | I23: =G23-C23 -> 0
A27: № п/п | B27: Наименование национальных проектов | C27: 2025 год | H27: % исполнения
C28: Плановые ассигнования, в том числе | G28: Кассовое исполнение
C29: ИТОГО | D29: за счет средств
D30: областного бюджета | E30: федерального бюджета | F30: местных бюджетов
A31: 1 | B31: 2 | C31: 6 | D31: 7 | E31: 8 | F31: 9 | G31: 10 | H31: 22
B32: ВСЕГО: | C32: =SUM(D32:F32) -> 16915.3 | D32: =SUM(D33:D43) -> 5655.8 | E32: =SUM(E33:E43) -> 10626.5 | F32: =SUM(F33:F43) -> 633 | G32: =SUM(G33:G43) -> 16062.4 | H32: =G32/C32 -> 0.95 | I32: =SUM(D32:F32) -> 16915.3 | J32: =I32-C32 -> 0 | K32: =G32/C32 -> 0.95 | L32: =K32-H32 -> 0
A33: 1 | B33: Инфраструктура для жизни | C33: 7232.9 | D33: 2751.2 | E33: 3882.7 | F33: 599 | G33: 7071.1 | H33: =G33/C33 -> 0.978 | I33: =SUM(D33:F33) -> 7232.9 | J33: =I33-C33 -> 0 | K33: =G33/C33 -> 0.978 | L33: =K33-H33 -> 0
A34: 2 | B34: Молодежь и дети | C34: =SUM(D34:F34) -> 5044.1 | D34: 951.2 | E34: 4063.8 | F34: 29.1 | G34: 4631.8 | H34: =G34/C34 -> 0.918 | I34: =SUM(D34:F34) -> 5044.1 | J34: =I34-C34 -> 0 | K34: =G34/C34 -> 0.918 | L34: =K34-H34 -> 0
A35: 3 | B35: Продолжительная и активная жизнь | C35: 2882.1 | D35: 1496.8 | E35: 1385.3 | F35: 0 | G35: 2610.3 | H35: =G35/C35 -> 0.906 | I35: =SUM(D35:F35) -> 2882.1 | J35: =I35-C35 -> 0 | K35: =G35/C35 -> 0.906 | L35: =K35-H35 -> 0
A36: 4 | B36: Семья | C36: 870.2 | D36: 83.9 | E36: 784.4 | F36: 1.9 | G36: 867.2 | H36: =G36/C36 -> 0.997 | I36: =SUM(D36:F36) -> 870.2 | J36: =I36-C36 -> 0 | K36: =G36/C36 -> 0.997 | L36: =K36-H36 -> 0
A37: 5 | B37: Кадры | C37: 430.5 | D37: 8.6 | E37: 421.9 | F37: 0 | G37: 430.5 | H37: =G37/C37 -> 1 | I37: =SUM(D37:F37) -> 430.5 | J37: =I37-C37 -> 0 | K37: =G37/C37 -> 1 | L37: =K37-H37 -> 0
A38: 6 | B38: Беспилотные авиационные системы | C38: 348.9 | D38: 342.1 | E38: 6.8 | F38: 0 | G38: 345.8 | H38: =G38/C38 -> 0.991 | I38: =SUM(D38:F38) -> 348.9 | J38: =I38-C38 -> 0 | K38: =G38/C38 -> 0.991 | L38: =K38-H38 -> 0
A39: 7 | B39: Эффективная и конкурентная экономика | C39: 49.1 | D39: 19.8 | E39: 29.3 | F39: 0 | G39: 49.1 | H39: =G39/C39 -> 1 | I39: =SUM(D39:F39) -> 49.1 | J39: =I39-C39 -> 0 | K39: =G39/C39 -> 1 | L39: =K39-H39 -> 0
A40: 8 | B40: Туризм и гостеприимство | C40: 28.7 | D40: 0.9 | E40: 24.8 | F40: 3 | G40: 27.8 | H40: =G40/C40 -> 0.969 | I40: =SUM(D40:F40) -> 28.7 | J40: =I40-C40 -> 0 | K40: =G40/C40 -> 0.969 | L40: =K40-H40 -> 0
A41: 9 | B41: Международная кооперация и экспорт | C41: 21.2 | D41: 0.4 | E41: 20.8 | F41: 0 | G41: 21.2 | H41: =G41/C41 -> 1 | I41: =SUM(D41:F41) -> 21.2 | J41: =I41-C41 -> 0 | K41: =G41/C41 -> 1 | L41: =K41-H41 -> 0
A42: 10 | B42: Технологическое обеспечение продовольственной безопасности | C42: 6.3 | D42: 0.9 | E42: 5.4 | F42: 0 | G42: 6.3 | H42: =G42/C42 -> 1 | I42: =SUM(D42:F42) -> 6.3 | J42: =I42-C42 -> 0 | K42: =G42/C42 -> 1 | L42: =K42-H42 -> 0
A43: 11 | B43: Экологическое благополучие | C43: 1.3 | D43: 0 | E43: 1.3 | F43: 0 | G43: 1.3 | H43: =G43/C43 -> 1 | I43: =SUM(D43:F43) -> 1.3 | J43: =I43-C43 -> 0 | K43: =G43/C43 -> 1 | L43: =K43-H43 -> 0
C45: =SUM(C33:C43)-C32 -> 0 | D45: =SUM(D33:D43)-D32 -> 0 | E45: =SUM(E33:E43)-E32 -> 0 | F45: =SUM(F33:F43)-F32 -> 0 | G45: =SUM(G33:G43)-G32 -> 0
