Workbook
Name Print_Titles: Лист1!$4:$7

Sheet Лист1
A1: Информация о плановых ассигнованиях и кассовом исполнении расходов консолидированного бюджета Томской области на реализацию региональных проектов Томской области по состоянию на 01.01.2020
A4: № п/п | B4: Наименование | C4: Код ГРБС | D4: Наименование ГРБС | E4: Код целевой статьи областного бюджета | F4: 2019 год | N4: % исполнения
F5: Плановые ассигнования*, в том числе | J5: Кассовое исполнение, в том числе
F6: ИТОГО | G6: за счет средств областного бюджета | H6: за счет средств федерального бюджета | I6: за счет средств местного бюджета** | J6: ИТОГО | K6: за счет средств областного бюджета | L6: за счет средств федерального бюджета | M6: за счет средств местного бюджета**
A7: 1 | B7: 2 | C7: 3 | D7: 4 | E7: 5 | F7: 6 | G7: 7 | H7: 8 | I7: 9 | J7: 10 | K7: 11 | L7: 12 | M7: 13 | N7: 14
B8: ВСЕГО: | F8: =F9+F40+F64+F96+F117+F125+F140+F144+F156+F174 -> 11020958 | G8: =G9+G40+G64+G96+G117+G125+G140+G144+G156+G174 -> 3643493.9 | H8: =H9+H40+H64+H96+H117+H125+H140+H144+H156+H174 -> 6709560.1 | I8: =I9+I40+I64+I96+I117+I125+I140+I144+I156+I174 -> 667903.8 | J8: =J9+J40+J64+J96+J117+J125+J140+J144+J156+J174 -> 10288280 | K8: =K9+K40+K64+K96+K117+K125+K140+K144+K156+K174 -> 3492567 | L8: =L9+L40+L64+L96+L117+L125+L140+L144+L156+L174 -> 6136443.9 | M8: =M9+M40+M64+M96+M117+M125+M140+M144+M156+M174 -> 659269.2 | N8: =J8/F8 -> 0.934
A9: 1 | B9: Национальный проект "Демография" | C9: Х | D9: Х | E9: Х | F9: =F10+F20+F28+F33+F37 -> 3040622.5 | G9: =G10+G20+G28+G33+G37 -> 1563011.2 | H9: =H10+H20+H28+H33+H37 -> 1432604.4 | I9: =I10+I20+I28+I33+I37 -> 45006.9 | J9: =J10+J20+J28+J33+J37 -> 2647682.9 | K9: =K10+K20+K28+K33+K37 -> 1458920.4 | L9: =L10+L20+L28+L33+L37 -> 1146246.8 | M9: =M10+M20+M28+M33+M37 -> 42515.7 | N9: =J9/F9 -> 0.871
A10: 1.1 | B10: Региональный проект "Старшее поколение", всего | C10: Х | D10: Х | E10: Х | F10: =SUM(G10:H10) -> 348309.7 | G10: =SUM(G12:G19) -> 14610.8 | H10: =SUM(H12:H19) -> 333698.9 | I10: =SUM(I12:I19) -> 0 | J10: =SUM(K10:L10) -> 255060.3 | K10: =SUM(K12:K19) -> 11507.7 | L10: =SUM(L12:L19) -> 243552.6 | M10: =SUM(M12:M19) -> 0 | N10: =J10/F10 -> 0.732
B11: из них
A12: 024 | B12: Организация профессионального обучения и дополнительного профессионального образования лиц предпенсионного возраста | C12: 839 | D12: Департамент труда и занятости населения Томской области | E12: 051P352940 | F12: =SUM(G12:H12)+I12 -> 16712.8 | G12: =1257.1-165.9-181.53-74.07 -> 835.6 | H12: 15877.2 | J12: =SUM(K12:L12) -> 16712.8 | K12: =835.6 -> 835.6 | L12: =14613+1199.13+65.07 -> 15877.2 | N12: =J12/F12 -> 1
A13: 024 | B13: Возмещение затрат работодателям на профессиональное обучение и дополнительное профессиональное образование работников из числа лиц предпенсионного возраста | C13: 839 | D13: Департамент труда и занятости населения Томской области | E13: 051P352941 | F13: =SUM(G13:H13)+I13 -> 2640.9 | G13: =132 -> 132 | H13: 2508.9 | J13: =SUM(K13:L13) -> 2640.9 | K13: =40.9+7.8+33.5+1.18+28.64+4.5+15.52 -> 132 | L13: =1562+22.42+544.11+85.5+294.86 -> 2508.9 | N13: =J13/F13 -> 1
B14: Субсидия автономной некоммерческой организации дополнительного профессионального образования "Энергетик" (АНО ДПО "Энергетик") | C14: 839 | D14: Департамент труда и занятости населения Томской области | E14: 051P352942 | F14: =SUM(G14:H14)+I14 -> 9269.5 | G14: =222.6+181.53+59.36 -> 463.5 | H14: =4229.9+3448.98+1127.08 -> 8806 | J14: =K14+L14 -> 9269.5 | K14: 463.5 | L14: 8806 | N14: =J14/F14 -> 1
B15: Организация деятельности мобильных бригад по доставке лиц старше 65 лет, проживающих в сельской местности, в медицинские организации | C15: 809 | D15: Департамент социальной защиты населения Томской области | E15: 112P352931 | F15: =SUM(G15:H15)+I15 -> 2919.7 | G15: =3539.6-619.87 -> 2919.7 | J15: =SUM(K15:L15) -> 2698.9 | K15: =2634.9+56.39+7.65 -> 2698.9 | N15: =J15/F15 -> 0.924
A16: 024 | B16: Проведение вакцинации против пневмококковой инфекции граждан старше трудоспособного возраста из групп риска, проживающих в организациях социального обслуживания | C16: 811 | D16: Департамент здравоохранения Томской области | E16: 071P354680 | F16: =SUM(G16:H16)+I16 -> 1634.4 | H16: 1634.4 | J16: =SUM(K16:L16) -> 1625.5 | L16: 1625.5 | N16: =J16/F16 -> 0.995
A17: 022 | B17: Финансовое обеспечение программ, направленных на обеспечение безопасных и комфортных условий предоставления социальных услуг в сфере социального обслуживания | C17: 821 | D17: Департамент архитектуры и строительства Томской области | E17: 112P351210 | F17: =SUM(G17:H17)+I17 -> 292352.1 | G17: =8753.1+581.5 -> 9334.6 | H17: 283017.5 | J17: =SUM(K17:L17) -> 200702.4 | K17: =3721.4+0.9+501.64-0.3+230.07+10.12+2035.28+64.26 -> 6563.4 | L17: =114409.4+29.21+16219.6-9.81+7439.07+53973.79+2077.7 -> 194139 | N17: =J17/F17 -> 0.687
A18: 024 | B18: Приобретение автотранспорта | C18: 809 | D18: Департамент социальной защиты населения Томской области | E18: 112P352930 | F18: =SUM(G18:H18)+I18 -> 22780.3 | G18: =675.9+138.4+111.12 -> 925.4 | H18: 21854.9 | J18: =SUM(K18:L18) -> 21410.3 | K18: =814.3 -> 814.3 | L18: 20596.02 | N18: =J18/F18 -> 0.94
B19: Бюджетные ассигнования на объекты капитального строительства государственной собственности в сфере социального обслуживания населения | C19: 821 | D19: Департамент архитектуры и строительства Томской области | E19: 112P30И000 | F19: =SUM(G19:H19)+I19 -> 0 | G19: =581.5-581.5 -> 0 | J19: =SUM(K19:L19) -> 0
A20: 1.2 | B20: Региональный проект "Спорт - норма жизни", всего | C20: Х | D20: Х | E20: Х | F20: =SUM(G20:H20)+I20 -> 260096.7 | G20: =SUM(G22:G27) -> 202796.8 | H20: =SUM(H22:H27) -> 19758.1 | I20: =SUM(I22:I27) -> 37541.8 | J20: =SUM(K20:L20)+M20 -> 257381.7 | K20: =SUM(K22:K27) -> 202289.6 | L20: =SUM(L22:L27) -> 19752.2 | M20: =SUM(M22:M27) -> 35339.9 | N20: =J20/F20 -> 0.99
B21: из них
A22: 022 | B22: Оснащение объектов спортивной инфраструктуры спортивно-технологическим оборудованием | C22: 813 | D22: Департамент по молодежной политике, физической культуре и спорту Томской области | E22: 081P552280 | F22: =G22+H22+I22 -> 20999.1 | G22: 611.1 | H22: 19758.1 | I22: 629.9 | J22: =SUM(K22:L22)+M22 -> 20992.9 | K22: 610.9 | L22: 19752.2 | M22: 629.8 | N22: =J22/F22 -> 1
B23: Строительство универсальных спортивных площадок в муниципальных образованиях Томской области | C23: 821 | D23: Департамент архитектуры и строительства Томской области | E23: 083P54И380 | F23: =G23+H23+I23 -> 31709.8 | G23: =25122.7-1758.47 -> 23364.2 | I23: 8345.6 | J23: =SUM(K23:L23)+M23 -> 29833.3 | K23: 23347.6 | M23: 6485.7 | N23: =J23/F23 -> 0.941
B24: Капитальный ремонт муниципальных спортивных сооружений | C24: 821 | D24: Департамент архитектуры и строительства Томской области | E24: 083P540370 | F24: =G24+H24+I24 -> 91657.3 | G24: =79000-1370.93 -> 77629.1 | I24: 14028.2 | J24: =SUM(K24:L24)+M24 -> 90864.1 | K24: =57138.7+20000 -> 77138.7 | M24: 13725.4 | N24: =J24/F24 -> 0.991
B25: Приобретение оборудования для малобюджетных спортивных площадок по месту жительства и учебы в муниципальных образованиях Томской области, за исключением муниципального образования "Город Томск", муниципального образования "Городской округ закрытое административно-территориальное образование Северск Томской области" | C25: 813 | D25: Департамент по молодежной политике, физической культуре и спорту Томской области | E25: 081P500001 | F25: =G25+H25+I25 -> 10074.7 | G25: 9000 | I25: 1074.7 | J25: =SUM(K25:L25)+M25 -> 10073.3 | K25: 9000 | M25: 1073.3 | N25: =J25/F25 -> 1
B26: Приобретение спортивного инвентаря и оборудования для спортивных школ | C26: 813 | D26: Департамент по молодежной политике, физической культуре и спорту Томской области | E26: 082P500002 | F26: =G26+H26+I26 -> 31479.3 | G26: 30000 | I26: 1479.3 | J26: =SUM(K26:L26)+M26 -> 31479.3 | K26: =28094.6+1905.4 -> 30000 | M26: 1479.3 | N26: =J26/F26 -> 1
B27: Обеспечение условий для развития физической культуры и массового спорта | C27: 813 | D27: Департамент по молодежной политике, физической культуре и спорту Томской области | E27: 081P500003 | F27: =G27+H27+I27 -> 74176.5 | G27: 62192.4 | I27: 11984.1 | J27: =SUM(K27:L27)+M27 -> 74138.8 | K27: =53030.8+4303.3+3463.7+1235.3+2.8+51.1+105.4 -> 62192.4 | M27: 11946.4 | N27: =J27/F27 -> 0.999
A28: 1.3 | B28: Региональный проект "Содействие занятости женщин - создание условий дошкольного образования для детей в возрасте до трех лет", всего | C28: Х | D28: Х | E28: Х | F28: =G28+H28+I28 -> 1236337.1 | G28: =SUM(G30:G32) -> 582187.3 | H28: =SUM(H30:H32) -> 646684.7 | I28: =SUM(I30:I32) -> 7465.1 | J28: =SUM(K28:L28)+M28 -> 947426 | K28: =SUM(K30:K32) -> 482332.7 | L28: =SUM(L30:L32) -> 457917.5 | M28: =SUM(M30:M32) -> 7175.8 | N28: =J28/F28 -> 0.766
B29: из них
A30: 024 | B30: Создание дополнительных мест для детей в возрасте от 2 месяцев до 3 лет в образовательных организациях, осуществляющих образовательную деятельность по образовательным программам дошкольного образования | C30: 821 | D30: Департамент архитектуры и строительства Томской области | E30: 092P251590 | F30: =G30+H30+I30 -> 405122.9 | G30: =247570.3-8390.1 -> 239180.2 | H30: 165537.6 | I30: 405.1 | J30: =K30+L30+M30 -> 405122.9 | K30: =56246.7+182933.5 -> 239180.2 | L30: =49661.3+115876.3 -> 165537.6 | M30: 405.1 | N30: =J30/F30 -> 1
A31: 022 | B31: Создание дополнительных мест для детей в возрасте от 1,5 до 3 лет в образовательных организациях, осуществляющих образовательную деятельность по образовательным программам дошкольного образования | C31: 821 | D31: Департамент архитектуры и строительства Томской области | E31: 092P252320 | F31: =G31+H31+I31 -> 816571.7 | G31: =325217+9400 -> 334617 | H31: 481147.1 | I31: 807.6 | J31: =K31+L31+M31 -> 527660.6 | K31: 234762.4 | L31: 292379.9 | M31: 518.3 | N31: =J31/F31 -> 0.646
B32: Оснащение зданий оборудованием и инвентарем для размещения дошкольных образовательных организаций | C32: 815 | D32: Департамент общего образования Томской области | E32: 092P251591 | F32: =G32+H32+I32 -> 14642.5 | G32: 8390.1 | I32: 6252.4 | J32: =K32+L32+M32 -> 14642.5 | K32: 8390.1 | M32: 6252.4 | N32: =J32/F32 -> 1
A33: 1.4 | B33: Региональный проект "Финансовая поддержка семей при рождении детей", всего | C33: Х | D33: Х | E33: Х | F33: =SUM(G33:H33) -> 1192179 | G33: =SUM(G35:G36) -> 759716.3 | H33: =SUM(H35:H36) -> 432462.7 | I33: =SUM(I35:I36) -> 0 | J33: =SUM(K33:L33) -> 1184114.9 | K33: =SUM(K35:K36) -> 759090.4 | L33: =SUM(L35:L36) -> 425024.5 | M33: =SUM(M35:M36) -> 0 | N33: =J33/F33 -> 0.993
B34: из них
A35: 023 | B35: Осуществление ежемесячной выплаты в связи с рождением (усыновлением) первого ребенка | C35: 809 | D35: Департамент социальной защиты населения Томской области | E35: 111P155730 | F35: =G35+H35+I35 -> 432462.7 | H35: =369453.96+63008.7 -> 432462.7 | J35: =SUM(K35:L35) -> 425024.5 | L35: =348933.4+15777.12+425.73+45.91+40550.27+5461.75+8394.42+3654.13+1781.76 -> 425024.5 | N35: =J35/F35 -> 0.983
B36: Осуществление ежемесячной денежной выплаты, назначаемой в случае рождения третьего ребенка или последующих детей до достижения ребенком возраста трех лет | C36: 809 | D36: Департамент социальной защиты населения Томской области | E36: 111P1Д0840 | F36: =G36+H36+I36 -> 759716.3 | G36: =776166.8-20500+4049.5 -> 759716.3 | J36: =SUM(K36:L36) -> 759090.4 | K36: 759090.4 | N36: =J36/F36 -> 0.999
A37: 1.5 | B37: Региональный проект "Укрепление общественного здоровья" | C37: Х | D37: Х | E37: Х | F37: =F39 -> 3700 | G37: =G39 -> 3700 | H37: =H39 -> 0 | I37: =I39 -> 0 | J37: =J39 -> 3700 | K37: =K39 -> 3700 | L37: =L39 -> 0 | M37: =M39 -> 0 | N37: =J37/F37 -> 1
B38: из них
B39: Создание и демонстрация рекламно - информационных материалов в СМИ, сети "Интернет", в медицинских организациях и общественных местах, разработка печатной продукции по формированию здорового образа жизни | C39: 811 | D39: Департамент здравоохранения Томской области | E39: 071P4Д0003 | F39: =G39 -> 3700 | G39: 3700 | J39: =K39 -> 3700 | K39: =3519.6+180.38 -> 3700 | N39: =J39/F39 -> 1
A40: 2 | B40: Национальный проект "Здравоохранение" | C40: Х | D40: Х | E40: Х | F40: =F41+F48+F52+F56+F60 -> 1216123.5 | G40: =G41+G48+G52+G56+G60 -> 266674 | H40: =H41+H48+H52+H56+H60 -> 949449.5 | I40: =I41+I48+I52+I56+I60 -> 0 | J40: =J41+J48+J52+J56+J60 -> 1090774 | K40: =K41+K48+K52+K56+K60 -> 245338.9 | L40: =L41+L48+L52+L56+L60 -> 845435.1 | M40: =M41+M48+M52+M56+M60 -> 0 | N40: =J40/F40 -> 0.897
A41: 2.1 | B41: Региональный проект "Развитие системы оказания первичной медико-санитарной помощи", всего | C41: Х | D41: Х | E41: Х | F41: =SUM(G41:H41) -> 282225.8 | G41: =SUM(G43:G47) -> 135045 | H41: =SUM(H43:H47) -> 147180.8 | I41: =SUM(I43:I47) -> 0 | J41: =SUM(K41:L41) -> 281248.4 | K41: =SUM(K43:K47) -> 135045 | L41: =SUM(L43:L47) -> 146203.4 | M41: =SUM(M42:M47) -> 0 | N41: =J41/F41 -> 0.997
B42: из них
...

Sheet Лист2
A1: Информация о плановых ассигнованиях и кассовом исполнении расходов консолидированного бюджета Томской области на реализацию региональных проектов Томской области по состоянию на 01.01.2020
A4: № п/п | B4: Наименование | C4: Код ГРБС | D4: Наименование ГРБС | E4: Код целевой статьи областного бюджета | F4: 2019 год | L4: % исполнения
F5: Плановые ассигнования*, в том числе | I5: Кассовое исполнение, в том числе
F6: ИТОГО | G6: за счет средств областного бюджета | H6: за счет средств федерального бюджета | I6: ИТОГО | J6: за счет средств областного бюджета | K6: за счет средств федерального бюджета
A7: 1 | B7: 2 | C7: 3 | D7: 4 | E7: 5 | F7: 6 | G7: 7 | H7: 8 | I7: 10 | J7: 11 | K7: 12 | L7: 14
B8: ВСЕГО: | F8: =SUM(G8:H8) -> 10353054 | G8: =Лист1!G8 -> 3643493.9 | H8: =Лист1!H8 -> 6709560.1 | I8: =SUM(J8:K8) -> 9629010.9 | J8: =Лист1!K8 -> 3492567 | K8: =Лист1!L8 -> 6136443.9 | L8: =I8/F8 -> 0.93 | M8: =J8/I8*100 -> 36.3 | N8: =K8/I8*100 -> 63.7
A9: 1 | B9: Национальный проект "Демография" | C9: Х | D9: Х | E9: Х | F9: =SUM(G9:H9) -> 2995615.6 | G9: =Лист1!G9 -> 1563011.2 | H9: =Лист1!H9 -> 1432604.4 | I9: =SUM(J9:K9) -> 2605167.2 | J9: =Лист1!K9 -> 1458920.4 | K9: =Лист1!L9 -> 1146246.8 | L9: =I9/F9 -> 0.87 | M9: =J9/I9*100 -> 56 | N9: =K9/I9*100 -> 44
A10: 2 | B10: Национальный проект "Здравоохранение" | C10: Х | D10: Х | E10: Х | F10: =SUM(G10:H10) -> 1216123.5 | G10: =Лист1!G40 -> 266674 | H10: =Лист1!H40 -> 949449.5 | I10: =SUM(J10:K10) -> 1090774 | J10: =Лист1!K40 -> 245338.9 | K10: =Лист1!L40 -> 845435.1 | L10: =I10/F10 -> 0.897 | M10: =J10/I10*100 -> 22.5 | N10: =K10/I10*100 -> 77.5
A11: 3 | B11: Национальный проект "Образование" | C11: Х | D11: Х | E11: Х | F11: =SUM(G11:H11) -> 2110769.3 | G11: =Лист1!G64 -> 1054294.6 | H11: =Лист1!H64 -> 1056474.7 | I11: =SUM(J11:K11) -> 2011061.3 | J11: =Лист1!K64 -> 1050891 | K11: =Лист1!L64 -> 960170.3 | L11: =I11/F11 -> 0.953 | M11: =J11/I11*100 -> 52.3 | N11: =K11/I11*100 -> 47.7
A12: 4 | B12: Национальный проект "Цифровая экономика" | C12: Х | D12: Х | E12: Х | F12: =SUM(G12:H12) -> 105836.1 | G12: =Лист1!G96 -> 105836.1 | H12: =Лист1!H96 -> 0 | I12: =SUM(J12:K12) -> 104117.1 | J12: =Лист1!K96 -> 104117.1 | K12: =Лист1!L96 -> 0 | L12: =I12/F12 -> 0.984 | M12: =J12/I12*100 -> 100 | N12: =K12/I12*100 -> 0
A13: 5 | B13: Национальный проект "Жилье и городская среда" | C13: Х | D13: Х | E13: Х | F13: =SUM(G13:H13) -> 987392.8 | G13: =Лист1!G117 -> 28421.8 | H13: =Лист1!H117 -> 958971 | I13: =SUM(J13:K13) -> 938626.9 | J13: =Лист1!K117 -> 27767.9 | K13: =Лист1!L117 -> 910859 | L13: =I13/F13 -> 0.951 | M13: =J13/I13*100 -> 3 | N13: =K13/I13*100 -> 97
A14: 6 | B14: Национальный проект "Экология" | C14: Х | D14: Х | E14: Х | F14: =SUM(G14:H14) -> 162532 | G14: =Лист1!G125 -> 37123 | H14: =Лист1!H125 -> 125409 | I14: =SUM(J14:K14) -> 137759.1 | J14: =Лист1!K125 -> 21357.8 | K14: =Лист1!L125 -> 116401.3 | L14: =I14/F14 -> 0.848 | M14: =J14/I14*100 -> 15.5 | N14: =K14/I14*100 -> 84.5
A15: 7 | B15: Национальный проект "Безопасные и качественные автомобильные дороги" | C15: Х | D15: Х | E15: Х | F15: =SUM(G15:H15) -> 2344268.7 | G15: =Лист1!G140 -> 523000 | H15: =Лист1!H140 -> 1821268.7 | I15: =SUM(J15:K15) -> 2340995.8 | J15: =Лист1!K140 -> 519727.1 | K15: =Лист1!L140 -> 1821268.7 | L15: =I15/F15 -> 0.999 | M15: =J15/I15*100 -> 22.2 | N15: =K15/I15*100 -> 77.8
A16: 8 | B16: Национальный проект "Культура" | C16: Х | D16: Х | E16: Х | F16: =SUM(G16:H16) -> 132248.9 | G16: =Лист1!G144 -> 45752 | H16: =Лист1!H144 -> 86496.9 | I16: =SUM(J16:K16) -> 132248.9 | J16: =Лист1!K144 -> 45752 | K16: =Лист1!L144 -> 86496.9 | L16: =I16/F16 -> 1 | M16: =J16/I16*100 -> 34.6 | N16: =K16/I16*100 -> 65.4
A17: 9 | B17: Национальный проект "Малое и среднее предпринимательство и поддержка индивидуальной предпринимательской инициативы" | C17: Х | D17: Х | E17: Х | F17: =SUM(G17:H17) -> 213277.3 | G17: =Лист1!G156 -> 7645.5 | H17: =Лист1!H156 -> 205631.8 | I17: =SUM(J17:K17) -> 213277.3 | J17: =Лист1!K156 -> 7645.5 | K17: =Лист1!L156 -> 205631.8 | L17: =I17/F17 -> 1 | M17: =J17/I17*100 -> 3.6 | N17: =K17/I17*100 -> 96.4
A18: 10 | B18: Национальный проект "Производительность труда и поддержка занятости" | C18: Х | D18: Х | E18: Х | F18: =SUM(G18:H18) -> 84989.8 | G18: =Лист1!G174 -> 11735.7 | H18: =Лист1!H174 -> 73254.1 | I18: =SUM(J18:K18) -> 54983.3 | J18: =Лист1!K174 -> 11049.3 | K18: =Лист1!L174 -> 43934 | L18: =I18/F18 -> 0.647 | M18: =J18/I18*100 -> 20.1 | N18: =K18/I18*100 -> 79.9
