Workbook
Name Print_Titles: Лист1!$4:$7

Sheet Лист1
A1: Информация о плановых ассигнованиях и кассовом исполнении расходов консолидированного бюджета Томской области на реализацию региональных проектов Томской области по состоянию на 01.01.2020
A4: № п/п | B4: Наименование | C4: Код ГРБС | D4: Наименование ГРБС | E4: Код целевой статьи областного бюджета | F4: 2019 год | N4: % исполнения
F5: Плановые ассигнования*, в том числе | J5: Кассовое исполнение, в том числе
F6: ИТОГО | G6: за счет средств областного бюджета | H6: за счет средств федерального бюджета | I6: за счет средств местного бюджета** | J6: ИТОГО | K6: за счет средств областного бюджета | L6: за счет средств федерального бюджета | M6: за счет средств местного бюджета**
A7: 1 | B7: 2 | C7: 3 | D7: 4 | E7: 5 | F7: 6 | G7: 7 | H7: 8 | I7: 9 | J7: 10 | K7: 11 | L7: 12 | M7: 13 | N7: 14
B8: ВСЕГО: | F8: =F9+F40+F64+F96+F117+F125+F140+F144+F156+F174 -> 11020958 | G8: =G9+G40+G64+G96+G117+G125+G140+G144+G156+G174 -> 3643493.9 | H8: =H9+H40+H64+H96+H117+H125+H140+H144+H156+H174 -> 6709560.1 | I8: =I9+I40+I64+I96+I117+I125+I140+I144+I156+I174 -> 667903.8 | J8: =J9+J40+J64+J96+J117+J125+J140+J144+J156+J174 -> 10288280 | K8: =K9+K40+K64+K96+K117+K125+K140+K144+K156+K174 -> 3492567 | L8: =L9+L40+L64+L96+L117+L125+L140+L144+L156+L174 -> 6136443.9 | M8: =M9+M40+M64+M96+M117+M125+M140+M144+M156+M174 -> 659269.2 | N8: =J8/F8 -> 0.934
A9: 1 | B9: Национальный проект "Демография" | C9: Х | D9: Х | E9: Х | F9: =F10+F20+F28+F33+F37 -> 3040622.5 | G9: =G10+G20+G28+G33+G37 -> 1563011.2 | H9: =H10+H20+H28+H33+H37 -> 1432604.4 | I9: =I10+I20+I28+I33+I37 -> 45006.9 | J9: =J10+J20+J28+J33+J37 -> 2647682.9 | K9: =K10+K20+K28+K33+K37 -> 1458920.4 | L9: =L10+L20+L28+L33+L37 -> 1146246.8 | M9: =M10+M20+M28+M33+M37 -> 42515.7 | N9: =J9/F9 -> 0.871
A10: 1.1 | B10: Региональный проект "Старшее поколение", всего | C10: Х | D10: Х | E10: Х | F10: =SUM(G10:H10) -> 348309.7 | G10: =SUM(G12:G19) -> 14610.8 | H10: =SUM(H12:H19) -> 333698.9 | I10: =SUM(I12:I19) -> 0 | J10: =SUM(K10:L10) -> 255060.3 | K10: =SUM(K12:K19) -> 11507.7 | L10: =SUM(L12:L19) -> 243552.6 | M10: =SUM(M12:M19) -> 0 | N10: =J10/F10 -> 0.732
B11: из них
A12: 024 | B12: Организация профессионального обучения и дополнительного профессионального образования лиц предпенсионного возраста | C12: 839 | D12: Департамент труда и занятости населения Томской области | E12: 051P352940 | F12: =SUM(G12:H12)+I12 -> 16712.8 | G12: =1257.1-165.9-181.53-74.07 -> 835.6 | H12: 15877.2 | J12: =SUM(K12:L12) -> 16712.8 | K12: =835.6 -> 835.6 | L12: =14613+1199.13+65.07 -> 15877.2 | N12: =J12/F12 -> 1
A13: 024 | B13: Возмещение затрат работодателям на профессиональное обучение и дополнительное профессиональное образование работников из числа лиц предпенсионного возраста | C13: 839 | D13: Департамент труда и занятости населения Томской области | E13: 051P352941 | F13: =SUM(G13:H13)+I13 -> 2640.9 | G13: =132 -> 132 | H13: 2508.9 | J13: =SUM(K13:L13) -> 2640.9 | K13: =40.9+7.8+33.5+1.18+28.64+4.5+15.52 -> 132 | L13: =1562+22.42+544.11+85.5+294.86 -> 2508.9 | N13: =J13/F13 -> 1
B14: Субсидия автономной некоммерческой организации дополнительного профессионального образования "Энергетик" (АНО ДПО "Энергетик") | C14: 839 | D14: Департамент труда и занятости населения Томской области | E14: 051P352942 | F14: =SUM(G14:H14)+I14 -> 9269.5 | G14: =222.6+181.53+59.36 -> 463.5 | H14: =4229.9+3448.98+1127.08 -> 8806 | J14: =K14+L14 -> 9269.5 | K14: 463.5 | L14: 8806 | N14: =J14/F14 -> 1
B15: Организация деятельности мобильных бригад по доставке лиц старше 65 лет, проживающих в сельской местности, в медицинские организации | C15: 809 | D15: Департамент социальной защиты населения Томской области | E15: 112P352931 | F15: =SUM(G15:H15)+I15 -> 2919.7 | G15: =3539.6-619.87 -> 2919.7 | J15: =SUM(K15:L15) -> 2698.9 | K15: =2634.9+56.39+7.65 -> 2698.9 | N15: =J15/F15 -> 0.924
A16: 024 | B16: Проведение вакцинации против пневмококковой инфекции граждан старше трудоспособного возраста из групп риска, проживающих в организациях социального обслуживания | C16: 811 | D16: Департамент здравоохранения Томской области | E16: 071P354680 | F16: =SUM(G16:H16)+I16 -> 1634.4 | H16: 1634.4 | J16: =SUM(K16:L16) -> 1625.5 | L16: 1625.5 | N16: =J16/F16 -> 0.995
A17: 022 | B17: Финансовое обеспечение программ, направленных на обеспечение безопасных и комфортных условий предоставления социальных услуг в сфере социального обслуживания | C17: 821 | D17: Департамент архитектуры и строительства Томской области | E17: 112P351210 | F17: =SUM(G17:H17)+I17 -> 292352.1 | G17: =8753.1+581.5 -> 9334.6 | H17: 283017.5 | J17: =SUM(K17:L17) -> 200702.4 | K17: =3721.4+0.9+501.64-0.3+230.07+10.12+2035.28+64.26 -> 6563.4 | L17: =114409.4+29.21+16219.6-9.81+7439.07+53973.79+2077.7 -> 194139 | N17: =J17/F17 -> 0.687
A18: 024 | B18: Приобретение автотранспорта | C18: 809 | D18: Департамент социальной защиты населения Томской области | E18: 112P352930 | F18: =SUM(G18:H18)+I18 -> 22780.3 | G18: =675.9+138.4+111.12 -> 925.4 | H18: 21854.9 | J18: =SUM(K18:L18) -> 21410.3 | K18: =814.3 -> 814.3 | L18: 20596.02 | N18: =J18/F18 -> 0.94
B19: Бюджетные ассигнования на объекты капитального строительства государственной собственности в сфере социального обслуживания населения | C19: 821 | D19: Департамент архитектуры и строительства Томской области | E19: 112P30И000 | F19: =SUM(G19:H19)+I19 -> 0 | G19: =581.5-581.5 -> 0 | J19: =SUM(K19:L19) -> 0
A20: 1.2 | B20: Региональный проект "Спорт - норма жизни", всего | C20: Х | D20: Х | E20: Х | F20: =SUM(G20:H20)+I20 -> 260096.7 | G20: =SUM(G22:G27) -> 202796.8 | H20: =SUM(H22:H27) -> 19758.1 | I20: =SUM(I22:I27) -> 37541.8 | J20: =SUM(K20:L20)+M20 -> 257381.7 | K20: =SUM(K22:K27) -> 202289.6 | L20: =SUM(L22:L27) -> 19752.2 | M20: =SUM(M22:M27) -> 35339.9 | N20: =J20/F20 -> 0.99
B21: из них
A22: 022 | B22: Оснащение объектов спортивной инфраструктуры спортивно-технологическим оборудованием | C22: 813 | D22: Департамент по молодежной политике, физической культуре и спорту Томской области | E22: 081P552280 | F22: =G22+H22+I22 -> 20999.1 | G22: 611.1 | H22: 19758.1 | I22: 629.9 | J22: =SUM(K22:L22)+M22 -> 20992.9 | K22: 610.9 | L22: 19752.2 | M22: 629.8 | N22: =J22/F22 -> 1
B23: Строительство универсальных спортивных площадок в муниципальных образованиях Томской области | C23: 821 | D23: Департамент архитектуры и строительства Томской области | E23: 083P54И380 | F23: =G23+H23+I23 -> 31709.8 | G23: =25122.7-1758.47 -> 23364.2 | I23: 8345.6 | J23: =SUM(K23:L23)+M23 -> 29833.3 | K23: 23347.6 | M23: 6485.7 | N23: =J23/F23 -> 0.941
B24: Капитальный ремонт муниципальных спортивных сооружений | C24: 821 | D24: Департамент архитектуры и строительства Томской области | E24: 083P540370 | F24: =G24+H24+I24 -> 91657.3 | G24: =79000-1370.93 -> 77629.1 | I24: 14028.2 | J24: =SUM(K24:L24)+M24 -> 90864.1 | K24: =57138.7+20000 -> 77138.7 | M24: 13725.4 | N24: =J24/F24 -> 0.991
B25: Приобретение оборудования для малобюджетных спортивных площадок по месту жительства и учебы в муниципальных образованиях Томской области, за исключением муниципального образования "Город Томск", муниципального образования "Городской округ закрытое административно-территориальное образование Северск Томской области" | C25: 813 | D25: Департамент по молодежной политике, физической культуре и спорту Томской области | E25: 081P500001 | F25: =G25+H25+I25 -> 10074.7 | G25: 9000 | I25: 1074.7 | J25: =SUM(K25:L25)+M25 -> 10073.3 | K25: 9000 | M25: 1073.3 | N25: =J25/F25 -> 1
B26: Приобретение спортивного инвентаря и оборудования для спортивных школ | C26: 813 | D26: Департамент по молодежной политике, физической культуре и спорту Томской области | E26: 082P500002 | F26: =G26+H26+I26 -> 31479.3 | G26: 30000 | I26: 1479.3 | J26: =SUM(K26:L26)+M26 -> 31479.3 | K26: =28094.6+1905.4 -> 30000 | M26: 1479.3 | N26: =J26/F26 -> 1
B27: Обеспечение условий для развития физической культуры и массового спорта | C27: 813 | D27: Департамент по молодежной политике, физической культуре и спорту Томской области | E27: 081P500003 | F27: =G27+H27+I27 -> 74176.5 | G27: 62192.4 | I27: 11984.1 | J27: =SUM(K27:L27)+M27 -> 74138.8 | K27: =53030.8+4303.3+3463.7+1235.3+2.8+51.1+105.4 -> 62192.4 | M27: 11946.4 | N27: =J27/F27 -> 0.999
A28: 1.3 | B28: Региональный проект "Содействие занятости женщин - создание условий дошкольного образования для детей в возрасте до трех лет", всего | C28: Х | D28: Х | E28: Х | F28: =G28+H28+I28 -> 1236337.1 | G28: =SUM(G30:G32) -> 582187.3 | H28: =SUM(H30:H32) -> 646684.7 | I28: =SUM(I30:I32) -> 7465.1 | J28: =SUM(K28:L28)+M28 -> 947426 | K28: =SUM(K30:K32) -> 482332.7 | L28: =SUM(L30:L32) -> 457917.5 | M28: =SUM(M30:M32) -> 7175.8 | N28: =J28/F28 -> 0.766
B29: из них
A30: 024 | B30: Создание дополнительных мест для детей в возрасте от 2 месяцев до 3 лет в образовательных организациях, осуществляющих образовательную деятельность по образовательным программам дошкольного образования | C30: 821 | D30: Департамент архитектуры и строительства Томской области | E30: 092P251590 | F30: =G30+H30+I30 -> 405122.9 | G30: =247570.3-8390.1 -> 239180.2 | H30: 165537.6 | I30: 405.1 | J30: =K30+L30+M30 -> 405122.9 | K30: =56246.7+182933.5 -> 239180.2 | L30: =49661.3+115876.3 -> 165537.6 | M30: 405.1 | N30: =J30/F30 -> 1
A31: 022 | B31: Создание дополнительных мест для детей в возрасте от 1,5 до 3 лет в образовательных организациях, осуществляющих образовательную деятельность по образовательным программам дошкольного образования | C31: 821 | D31: Департамент архитектуры и строительства Томской области | E31: 092P252320 | F31: =G31+H31+I31 -> 816571.7 | G31: =325217+9400 -> 334617 | H31: 481147.1 | I31: 807.6 | J31: =K31+L31+M31 -> 527660.6 | K31: 234762.4 | L31: 292379.9 | M31: 518.3 | N31: =J31/F31 -> 0.646
B32: Оснащение зданий оборудованием и инвентарем для размещения дошкольных образовательных организаций | C32: 815 | D32: Департамент общего образования Томской области | E32: 092P251591 | F32: =G32+H32+I32 -> 14642.5 | G32: 8390.1 | I32: 6252.4 | J32: =K32+L32+M32 -> 14642.5 | K32: 8390.1 | M32: 6252.4 | N32: =J32/F32 -> 1
A33: 1.4 | B33: Региональный проект "Финансовая поддержка семей при рождении детей", всего | C33: Х | D33: Х | E33: Х | F33: =SUM(G33:H33) -> 1192179 | G33: =SUM(G35:G36) -> 759716.3 | H33: =SUM(H35:H36) -> 432462.7 | I33: =SUM(I35:I36) -> 0 | J33: =SUM(K33:L33) -> 1184114.9 | K33: =SUM(K35:K36) -> 759090.4 | L33: =SUM(L35:L36) -> 425024.5 | M33: =SUM(M35:M36) -> 0 | N33: =J33/F33 -> 0.993
B34: из них
A35: 023 | B35: Осуществление ежемесячной выплаты в связи с рождением (усыновлением) первого ребенка | C35: 809 | D35: Департамент социальной защиты населения Томской области | E35: 111P155730 | F35: =G35+H35+I35 -> 432462.7 | H35: =369453.96+63008.7 -> 432462.7 | J35: =SUM(K35:L35) -> 425024.5 | L35: =348933.4+15777.12+425.73+45.91+40550.27+5461.75+8394.42+3654.13+1781.76 -> 425024.5 | N35: =J35/F35 -> 0.983
B36: Осуществление ежемесячной денежной выплаты, назначаемой в случае рождения третьего ребенка или последующих детей до достижения ребенком возраста трех лет | C36: 809 | D36: Департамент социальной защиты населения Томской области | E36: 111P1Д0840 | F36: =G36+H36+I36 -> 759716.3 | G36: =776166.8-20500+4049.5 -> 759716.3 | J36: =SUM(K36:L36) -> 759090.4 | K36: 759090.4 | N36: =J36/F36 -> 0.999
A37: 1.5 | B37: Региональный проект "Укрепление общественного здоровья" | C37: Х | D37: Х | E37: Х | F37: =F39 -> 3700 | G37: =G39 -> 3700 | H37: =H39 -> 0 | I37: =I39 -> 0 | J37: =J39 -> 3700 | K37: =K39 -> 3700 | L37: =L39 -> 0 | M37: =M39 -> 0 | N37: =J37/F37 -> 1
B38: из них
B39: Создание и демонстрация рекламно - информационных материалов в СМИ, сети "Интернет", в медицинских организациях и общественных местах, разработка печатной продукции по формированию здорового образа жизни | C39: 811 | D39: Департамент здравоохранения Томской области | E39: 071P4Д0003 | F39: =G39 -> 3700 | G39: 3700 | J39: =K39 -> 3700 | K39: =3519.6+180.38 -> 3700 | N39: =J39/F39 -> 1
A40: 2 | B40: Национальный проект "Здравоохранение" | C40: Х | D40: Х | E40: Х | F40: =F41+F48+F52+F56+F60 -> 1216123.5 | G40: =G41+G48+G52+G56+G60 -> 266674 | H40: =H41+H48+H52+H56+H60 -> 949449.5 | I40: =I41+I48+I52+I56+I60 -> 0 | J40: =J41+J48+J52+J56+J60 -> 1090774 | K40: =K41+K48+K52+K56+K60 -> 245338.9 | L40: =L41+L48+L52+L56+L60 -> 845435.1 | M40: =M41+M48+M52+M56+M60 -> 0 | N40: =J40/F40 -> 0.897
A41: 2.1 | B41: Региональный проект "Развитие системы оказания первичной медико-санитарной помощи", всего | C41: Х | D41: Х | E41: Х | F41: =SUM(G41:H41) -> 282225.8 | G41: =SUM(G43:G47) -> 135045 | H41: =SUM(H43:H47) -> 147180.8 | I41: =SUM(I43:I47) -> 0 | J41: =SUM(K41:L41) -> 281248.4 | K41: =SUM(K43:K47) -> 135045 | L41: =SUM(L43:L47) -> 146203.4 | M41: =SUM(M42:M47) -> 0 | N41: =J41/F41 -> 0.997
B42: из них
A43: 024 | B43: Создание и замена фельдшерских, фельдшерско-акушерских пунктов и врачебных амбулаторий для населенных пунктов с численностью населения от 100 до 2000 человек | C43: 811 | D43: Департамент здравоохранения Томской области | E43: 071N151960 | F43: =SUM(G43:H43) -> 21521 | H43: 21521 | J43: =SUM(K43:L43) -> 20543.6 | L43: =17516.1+1715.34+567.66+744.52 -> 20543.6 | N43: =J43/F43 -> 0.955
A44: 022 | B44: Обеспечение закупки авиационных работ органами государственной власти субъектов Российской Федерации в целях оказания медицинской помощи | C44: 811 | D44: Департамент здравоохранения Томской области | E44: 072N155540 | F44: =SUM(G44:H44) -> 150000 | G44: 24340.2 | H44: 125659.8 | J44: =SUM(K44:L44) -> 150000 | K44: =17286.95+3786.25+3267 -> 24340.2 | L44: =89246.38+19547.08+16866.34 -> 125659.8 | N44: =J44/F44 -> 1
B45: Организация проведения профилактических медицинских осмотров | C45: 811 | D45: Департамент здравоохранения Томской области | E45: 071N100001 | F45: =SUM(G45:H45) -> 6000 | G45: 6000 | J45: =SUM(K45:L45) -> 6000 | K45: 6000 | N45: =J45/F45 -> 1
B46: Оказание медицинской помощи с применением санитарной авиации | C46: 811 | D46: Департамент здравоохранения Томской области | E46: 072N1Д5540 | F46: =SUM(G46:H46) -> 102804.8 | G46: =52059.8+50745 -> 102804.8 | J46: =SUM(K46:L46) -> 102804.8 | K46: =52059.8+50745 -> 102804.8 | N46: =J46/F46 -> 1
B47: Функционирование регионального проектного офиса по созданию и внедрению "Новой модели медицинской организации, оказывающей первичную медико-санитарную помощь" | C47: 811 | D47: Департамент здравоохранения Томской области | E47: 076N100101 | F47: =SUM(G47:H47) -> 1900 | G47: 1900 | J47: =SUM(K47:L47) -> 1900 | K47: =1520+380 -> 1900 | N47: =J47/F47 -> 1
A48: 2.2 | B48: Региональный проект "Борьба с сердечно-сосудистыми заболеваниями", всего | C48: Х | D48: Х | E48: Х | F48: =SUM(G48:H48) -> 80052.5 | G48: =SUM(G50:G51) -> 5500 | H48: =SUM(H50:H51) -> 74552.5 | I48: =SUM(I50:I51) -> 0 | J48: =SUM(J50:J51) -> 80039.1 | K48: =SUM(K50:K51) -> 5500 | L48: =SUM(L50:L51) -> 74539.1 | M48: =SUM(M50:M51) -> 0 | N48: =J48/F48 -> 1
B49: из них
A50: 024 | B50: Оснащение оборудованием региональных сосудистых центров и первичных сосудистых отделений | C50: 811 | D50: Департамент здравоохранения Томской области | E50: 072N251920 | F50: =SUM(G50:H50) -> 74552.5 | H50: 74552.5 | J50: =SUM(K50:L50) -> 74539.1 | L50: 74539.1 | N50: =J50/F50 -> 1
B51: Профилактика развития сердечно-сосудистых заболеваний и сердечно-сосудистых осложнений у пациентов высокого риска | C51: 811 | D51: Департамент здравоохранения Томской области | E51: 071N2Д0002 | F51: =SUM(G51:H51) -> 5500 | G51: 5500 | J51: =SUM(K51:L51) -> 5500 | K51: =4686.5+813.52 -> 5500 | N51: =J51/F51 -> 1
A52: 2.3 | B52: Региональный проект "Развитие детского здравоохранения, включая создание современной инфраструктуры оказания медицинской помощи детям", всего | C52: Х | D52: Х | E52: Х | F52: =SUM(G52:H52) -> 106204.4 | G52: =SUM(G54:G55) -> 20129.8 | H52: =SUM(H54:H55) -> 86074.6 | I52: =SUM(I54:I55) -> 0 | J52: =SUM(J54:J55) -> 106194 | K52: =SUM(K54:K55) -> 20128 | L52: =SUM(L54:L55) -> 86066 | M52: =SUM(M54:M55) -> 0 | N52: =J52/F52 -> 1
B53: из них
A54: 022 | B54: Развитие материально-технической базы детских поликлиник и детских поликлинических отделений медицинских организаций, оказывающих первичную медико-санитарную помощь | C54: 811 | D54: Департамент здравоохранения Томской области | E54: 073N451700 | F54: =SUM(G54:H54) -> 103704.4 | G54: =17629.8+102.1873-102.1873 -> 17629.8 | H54: =86074.6+498.9127-498.9127 -> 86074.6 | J54: =SUM(K54:L54) -> 103694 | K54: =6755.8+463.53+3032.45+7376.26 -> 17628 | L54: =32984.1+2263.12+14805.42+36013.36 -> 86066 | N54: =J54/F54 -> 1
B55: Развитие профилактического направления в педиатрии | C55: 811 | D55: Департамент здравоохранения Томской области | E55: 071N400004 | F55: =SUM(G55:H55) -> 2500 | G55: 2500 | J55: =SUM(K55:L55) -> 2500 | K55: =2149.42+350.58 -> 2500 | N55: =J55/F55 -> 1
A56: 2.4 | B56: Региональный проект "Создание единого цифрового контура в здравоохранении на основе единой государственной информационной системы здравоохранения (ЕГИСЗ)", всего | C56: Х | D56: Х | E56: Х | F56: =SUM(G56:H56) -> 138662 | G56: =SUM(G58:G59) -> 26290 | H56: =SUM(H58:H59) -> 112372 | I56: =SUM(I58:I59) -> 0 | J56: =SUM(J58:J59) -> 137438.8 | K56: =SUM(K58:K59) -> 26122.8 | L56: =SUM(L58:L59) -> 111316 | M56: =SUM(M58:M59) -> 0 | N56: =J56/F56 -> 0.991
B57: из них
A58: 022 | B58: Реализация региональных проектов "Создание единого цифрового контура в здравоохранении на основе единой государственной информационной системы здравоохранения (ЕГИСЗ)" | C58: 811 | D58: Департамент здравоохранения Томской области | E58: 076N751140 | F58: =SUM(G58:H58) -> 130162 | G58: 17790 | H58: 112372 | J58: =SUM(K58:L58) -> 128938.8 | K58: =8081.4+7737.38+754.16+1049.89 -> 17622.8 | L58: =51046.8+48873.77+4763.68+6631.74 -> 111316 | N58: =J58/F58 -> 0.991
B59: Обеспечение работоспособности государственных информационных систем в сфере здравоохранения, подключенных к ЕГИСЗ | C59: 811 | D59: Департамент здравоохранения Томской области | E59: 076N751141 | F59: =SUM(G59:H59) -> 8500 | G59: 8500 | J59: =SUM(K59:L59) -> 8500 | K59: =7000+1500 -> 8500 | N59: =J59/F59 -> 1
A60: 2.5 | B60: Региональный проект "Борьба с онкологическими заболеваниями", всего | C60: Х | D60: Х | E60: Х | F60: =SUM(F62:F63) -> 608978.8 | G60: =SUM(G62:G63) -> 79709.2 | H60: =SUM(H62:H63) -> 529269.6 | I60: =SUM(I62:I63) -> 0 | J60: =SUM(J62:J63) -> 485853.7 | K60: =SUM(K62:K63) -> 58543.1 | L60: =SUM(L62:L63) -> 427310.6 | M60: =SUM(M62:M63) -> 0 | N60: =J60/F60 -> 0.798
B61: из них
A62: 024 | B62: Создание и оснащение референс-центров для проведения иммуногистохимических, патоморфологических исследований и лучевых методов исследований, переоснащение сети региональных медицинских организаций, оказывающих помощь больным онкологическими заболеваниями в субъектах Российской Федерации | C62: 811 | D62: Департамент здравоохранения Томской области | E62: 072N351900 | F62: =SUM(G62:H62) -> 223067.6 | H62: 223067.6 | J62: =SUM(K62:L62) -> 223066.4 | L62: =169746.2+49995+1739.64+1585.6 -> 223066.4 | N62: =J62/F62 -> 1
A63: 022 | B63: Новое строительство и реконструкция(Хирургический корпус на 120 коек с поликлиникой на 200 п/смену ОГАУЗ "Томский областной онкологический диспансер" ) | C63: 821 | D63: Департамент архитектуры и строительства Томской области | E63: 076N352270 | F63: =G63+H63 -> 385911.2 | G63: 79709.2 | H63: 306202 | J63: =K63+L63 -> 262787.3 | K63: 58543.1 | L63: =204244.2 -> 204244.2 | N63: =J63/F63 -> 0.681
A64: 3 | B64: Национальный проект "Образование" | C64: Х | D64: Х | E64: Х | F64: =F65+F71+F77+F84+F92+F94 -> 2149989.1 | G64: =G65+G71+G77+G84+G92+G94 -> 1054294.6 | H64: =H65+H71+H77+H84+H92+H94 -> 1056474.7 | I64: =I65+I71+I77+I84+I92+I94 -> 39219.8 | J64: =J65+J71+J77+J84+J92+J94 -> 2050146.7 | K64: =K65+K71+K77+K84+K92+K94 -> 1050891 | L64: =L65+L71+L77+L84+L92+L94 -> 960170.3 | M64: =M65+M71+M77+M84+M92+M94 -> 39085.4 | N64: =J64/F64 -> 0.954
A65: 3.1 | B65: Региональный проект "Современная школа", всего | C65: Х | D65: Х | E65: Х | F65: =SUM(F67:F70) -> 1937980 | G65: =SUM(G67:G70) -> 937845.6 | H65: =SUM(H67:H70) -> 960927.8 | I65: =SUM(I67:I70) -> 39206.6 | J65: =SUM(J67:J70) -> 1838564.3 | K65: =SUM(K67:K70) -> 934867.2 | L65: =SUM(L67:L70) -> 864624.9 | M65: =SUM(M67:M70) -> 39072.2 | N65: =J65/F65 -> 0.949
B66: из них
A67: 022 | B67: Обновление материально-технической базы для формирования у обучающихся современных технологических и гуманитарных навыков | C67: 815 | D67: Департамент общего образования Томской области | E67: 091E151690 | F67: =SUM(G67:H67)+I67 -> 46409.3 | G67: 1392.3 | H67: 45017 | J67: =SUM(K67:L67) -> 46409.3 | K67: =721.9+181.04+5.24+143.39+340.75 -> 1392.3 | L67: =23340.3+5853.46+169.34+4636.26+11017.64 -> 45017 | N67: =J67/F67 -> 1
A68: 022 | B68: Создание новых мест в общеобразовательных организациях, расположенных в сельской местности и поселках городского типа (Корниловская СОШ) | C68: 821 | D68: Департамент архитектуры и строительства Томской области | E68: 241E152300 | F68: =SUM(G68:H68)+I68 -> 99380.7 | G68: 2978.4 | H68: 96302.9 | I68: 99.4 | J68: =SUM(K68:L68) -> 0 | N68: =J68/F68 -> 0
A69: 022 | B69: Создание новых мест в общеобразовательных организациях | C69: 821 | D69: Департамент архитектуры и строительства Томской области | E69: 241E155200 | F69: =G69+H69+I69 -> 1717190 | G69: =735974.9+160000 -> 895974.9 | H69: 819607.9 | I69: 1607.2 | J69: =SUM(K69:L69)+M69 -> 1717155 | K69: =655365.3+240609.6 -> 895974.9 | L69: =426043.4+393564.5 -> 819607.9 | M69: 1572.2 | N69: =J69/F69 -> 1
B70: Оснащение зданий средствами обучения и воспитания для размещения общеобразовательных организаций | C70: 815 | D70: Департамент общего образования Томской области | E70: 241E155201 | F70: =G70+H70+I70 -> 75000 | G70: 37500 | I70: 37500 | J70: =SUM(K70:L70)+M70 -> 75000 | K70: 37500 | M70: 37500 | N70: =J70/F70 -> 1
A71: 3.2 | B71: Региональный проект "Цифровая образовательная среда", всего | C71: Х | D71: Х | E71: Х | F71: =SUM(F73:F76) -> 37934.6 | G71: =SUM(G73:G76) -> 7443 | H71: =SUM(H73:H76) -> 30491.6 | I71: =SUM(I73:I76) -> 0 | J71: =SUM(J73:J76) -> 37934.6 | K71: =SUM(K73:K76) -> 7443 | L71: =SUM(L73:L76) -> 30491.6 | M71: =SUM(M73:M76) -> 0 | N71: =J71/F71 -> 1
B72: из них
A73: 022 | B73: Внедрение целевой модели цифровой образовательной среды в общеобразовательных организациях и профессиональных образовательных организациях | C73: 815 | D73: Департамент общего образования Томской области | E73: 091E452100 | F73: =SUM(G73:H73) -> 27001.7 | G73: 810.1 | H73: 26191.6 | J73: =SUM(K73:L73) -> 27001.7 | K73: 810.1 | L73: =456.5+1825.49+3242.64+10802.1+85.36+1975.95+5989.26+1814.27 -> 26191.6 | N73: =J73/F73 -> 1
A74: 022 | B74: Внедрение целевой модели цифровой образовательной среды в общеобразовательных организациях и профессиональных образовательных организациях | C74: 816 | D74: Департамент профессионального образования Томской области | E74: 093E452100 | F74: =SUM(G74:H74) -> 4433 | G74: 133 | H74: 4300 | J74: =SUM(K74:L74) -> 4433 | K74: 133 | L74: 4300 | N74: =J74/F74 -> 1
B75: Внедрение и функционирование целевой модели цифровой образовательной среды в общеобразовательных организациях | C75: 815 | D75: Департамент общего образования Томской области | E75: 091E452101 | F75: =SUM(G75:H75) -> 6249.9 | G75: 6249.9 | J75: =SUM(K75:L75) -> 6249.9 | K75: =5729.1+520.8 -> 6249.9 | N75: =J75/F75 -> 1
B76: Функционирование целевой модели цифровой образовательной среды в профессиональных образовательных организациях | C76: 816 | D76: Департамент профессионального образования Томской области | E76: 093E452101 | F76: =SUM(G76:H76) -> 250 | G76: 250 | J76: =SUM(K76:L76) -> 250 | K76: =205+45 -> 250 | N76: =J76/F76 -> 1
A77: 3.3 | B77: Региональный проект "Успех каждого ребенка", всего | C77: Х | D77: Х | E77: Х | F77: =SUM(F79:F83) -> 94449.6 | G77: =SUM(G79:G83) -> 83475.7 | H77: =SUM(H79:H83) -> 10960.7 | I77: =SUM(I79:I83) -> 13.2 | J77: =SUM(J79:J83) -> 94033.6 | K77: =SUM(K79:K83) -> 83061.2 | L77: =SUM(L79:L83) -> 10959.2 | M77: =SUM(M79:M83) -> 13.2 | N77: =J77/F77 -> 0.996
B78: из них
A79: 022 | B79: Создание в общеобразовательных организациях, расположенных в сельской местности, условий для занятий физической культурой и спортом | C79: 821 | D79: Департамент архитектуры и строительства Томской области | E79: 092E250970 | F79: =G79+H79+I79 -> 13244.6 | G79: 2270.7 | H79: 10960.7 | I79: 13.2 | J79: =SUM(K79:L79)+M79 -> 13242.8 | K79: 2270.4 | L79: 10959.2 | M79: 13.2 | N79: =J79/F79 -> 1
B80: Создание центров выявления и поддержки одаренных детей | C80: 815 | D80: Департамент общего образования Томской области | E80: 091E251890 | F80: =SUM(G80:H80) -> 30000 | G80: 30000 | J80: =SUM(K80:L80) -> 30000 | K80: =27092.5+1927.51+980 -> 30000 | N80: =J80/F80 -> 1
B81: Формирование современных управленческих и организационно-экономических механизмов в системе дополнительного образования детей в субъектах Российской Федерации | C81: 815 | D81: Департамент общего образования Томской области | E81: 091E255370 | F81: =SUM(G81:H81) -> 35464.5 | G81: 35464.5 | J81: =SUM(K81:L81) -> 35464.5 | K81: =35036+428.48 -> 35464.5 | N81: =J81/F81 -> 1
B82: Внедрение целевой модели развития региональных систем дополнительного образования детей | C82: 815 | D82: Департамент общего образования Томской области | E82: 091E255371 | F82: =SUM(G82:H82) -> 10720 | G82: 10720 | J82: =SUM(K82:L82) -> 10311.2 | K82: =7260.2+3051 -> 10311.2 | N82: =J82/F82 -> 0.962
B83: Реализация пилотных проектов по обновлению содержания и технологий дополнительного образования по приоритетным направлениям | C83: 815 | D83: Департамент общего образования Томской области | E83: 091E262352 | F83: =SUM(G83:H83) -> 5020.5 | G83: 5020.5 | J83: =SUM(K83:L83) -> 5015.1 | K83: 5015.1 | N83: =J83/F83 -> 0.999
A84: 3.4 | B84: Региональный проект "Молодые профессионалы (Повышение конкурентоспособности профессионального образования)", всего | C84: Х | D84: Х | E84: Х | F84: =F86+F87+F88+F89+F90+F91 -> 78319.7 | G84: =G86+G87+G88+G89+G90+G91 -> 24225.1 | H84: =H86+H87+H88+H89+H90+H91 -> 54094.6 | I84: =I86+I87+I88+I89+I90+I91 -> 0 | J84: =J86+J87+J88+J89+J90+J91 -> 78309 | K84: =K86+K87+K88+K89+K90+K91 -> 24214.4 | L84: =L86+L87+L88+L89+L90+L91 -> 54094.6 | M84: =M86+M87+M88+M89+M90+M91 -> 0 | N84: =J84/F84 -> 1
B85: из них
A86: 022 | B86: Разработка и распространение в системе среднего профессионального образования новых образовательных технологий и формы опережающей профессиональной подготовки | C86: 816 | D86: Департамент профессионального образования Томской области | E86: 093E651770 | F86: =SUM(G86:H86) -> 55767.6 | G86: 1673 | H86: 54094.6 | J86: =SUM(K86:L86) -> 55767.6 | K86: =1673 -> 1673 | L86: =38521.1+13276.12+1302.17+995.19 -> 54094.6 | N86: =J86/F86 -> 1
B87: Функционирование центра опережающей профессиональной подготовки | C87: 816 | D87: Департамент профессионального образования Томской области | E87: 093E651771 | F87: =SUM(G87:H87) -> 4975 | G87: 4975 | J87: =SUM(K87:L87) -> 4975 | K87: 4975 | N87: =J87/F87 -> 1
B88: Государственная поддержка профессиональных образовательных организаций в целях обеспечения соответствия их материально-технической базы современным требованиям | C88: 816 | D88: Департамент профессионального образования Томской области | E88: 093E661624 | F88: =SUM(G88:H88) -> 8907.1 | G88: 8907.1 | J88: =SUM(K88:L88) -> 8907.1 | K88: =4876.8+2400.35+15.51+1578.23+36.2 -> 8907.1 | N88: =J88/F88 -> 1
B89: Обеспечение проведения аттестации обучающихся по программам среднего профессионального образования с использованием механизма демонстрационного экзамена | C89: 816 | D89: Департамент профессионального образования Томской области | E89: 093E661634 | F89: =SUM(G89:H89) -> 3840 | G89: 3840 | J89: =SUM(K89:L89) -> 3840 | K89: 3840 | N89: =J89/F89 -> 1
B90: Внедрение программ профессионального обучения по наиболее востребованным и перспективным профессиям на уровне, соответствующем стандартам Ворлдскиллс, с учетом продолжительности программ не более 6 месяцев | C90: 816 | D90: Департамент профессионального образования Томской области | E90: 093E661635 | F90: =SUM(G90:H90) -> 280 | G90: 280 | J90: =SUM(K90:L90) -> 280 | K90: 280 | N90: =J90/F90 -> 1
B91: Повышение квалификации преподавателей (мастеров производственного обучения) по программам, основанным на опыте Союза Ворлдскиллс Россия | C91: 816 | D91: Департамент профессионального образования Томской области | E91: 093E661636 | F91: =SUM(G91:H91) -> 4550 | G91: 4550 | J91: =SUM(K91:L91) -> 4539.3 | K91: =4054+56.54+75.83+30.78+30.65+14.96+276.56 -> 4539.3 | N91: =J91/F91 -> 0.998
A92: 3.5 | B92: Региональный проект "Учитель будущего", всего | C92: Х | D92: Х | E92: Х | F92: =F93 -> 1066 | G92: =G93 -> 1066 | H92: =H93 -> 0 | I92: =I93 -> 0 | J92: =J93 -> 1066 | K92: =K93 -> 1066 | L92: =L93 -> 0 | M92: =M93 -> 0 | N92: =J92/F92 -> 1
B93: Обеспечение непрерывного и планомерного повышения квалификации педагогических работников | C93: 815 | D93: Департамент общего образования Томской области | E93: 091E516200 | F93: =SUM(G93:H93) -> 1066 | G93: 1066 | J93: =SUM(K93:L93) -> 1066 | K93: =701.4+10+5+100+1.32+5+243.3 -> 1066 | N93: =J93/F93 -> 1
A94: 3.6 | B94: Региональный проект "Поддержка семей, имеющих детей", всего | C94: Х | D94: Х | E94: Х | F94: =F95 -> 239.2 | G94: =G95 -> 239.2 | H94: =H95 -> 0 | J94: =J95 -> 239.2 | K94: =K95 -> 239.2 | L94: =L95 -> 0 | M94: =M95 -> 0 | N94: =J94/F94 -> 1
B95: Государственная поддержка некоммерческих организаций в целях оказания психолого-педагогической, методической и консультативной помощи гражданам, имеющим детей | C95: 815 | D95: Департамент общего образования Томской области | E95: 091E362292 | F95: =SUM(G95:H95) -> 239.2 | G95: 239.24 | J95: =SUM(K95:L95) -> 239.2 | K95: 239.2 | N95: =J95/F95 -> 1
A96: 4 | B96: Национальный проект "Цифровая экономика" | C96: Х | D96: Х | E96: Х | F96: =F97+F101+F104+F107+F114 -> 105836.2 | G96: =G97+G101+G104+G107+G114 -> 105836.1 | H96: =H97+H101+H104+H107+H114 -> 0 | I96: =I97+I101+I104+I107+I114 -> 0 | J96: =J97+J101+J104+J107+J114 -> 104117.1 | K96: =K97+K101+K104+K107+K114 -> 104117.1 | L96: =L97+L101+L104+L107+L114 -> 0 | M96: =M97+M101+M104+M107+M114 -> 0 | N96: =J96/F96 -> 0.984
A97: 4.1 | B97: Региональный проект "Кадры для цифровой экономики", всего | C97: Х | D97: Х | E97: Х | F97: =F98+F99+F100 -> 5428.6 | G97: =G98+G99+G100 -> 5428.6 | H97: =H98+H99 -> 0 | I97: =I98+I99 -> 0 | J97: =J98+J99+J100 -> 5428.6 | K97: =K98+K99+K100 -> 5428.6 | L97: =L98+L99 -> 0 | M97: =SUM(M98:M100) -> 0 | N97: =J97/F97 -> 1
B98: Подготовка кадров для цифровой экономики | C98: 815 | D98: Департамент общего образования Томской области | E98: 091D309100 | F98: =SUM(G98:H98) -> 5000 | G98: =3550+1450 -> 5000 | J98: =SUM(K98:L98) -> 5000 | K98: =3550+1450 -> 5000 | N98: =J98/F98 -> 1
B99: Проведение тематических смен в сезонных лагерях для школьников по передовым направлениям дискретной математики, информатики, цифровых технологий | C99: 815 | D99: Департамент общего образования Томской области | E99: 091D362357 | F99: =SUM(G99:H99) -> 244.9 | G99: 244.9 | J99: =SUM(K99:L99) -> 244.9 | K99: 244.9 | N99: =J99/F99 -> 1
B100: Государственная поддержка создания и функционирования организаций дополнительного образования детей и (или) детских объединений на базе школ для углубленного изучения математики и информатики | C100: 815 | D100: Департамент общего образования Томской области | E100: 091D364157 | F100: =SUM(G100:H100) -> 183.7 | G100: =61.2+122.45 -> 183.7 | J100: =SUM(K100:L100) -> 183.7 | K100: =61.2+61.23+61.23 -> 183.7 | N100: =J100/F100 -> 1
A101: 4.2 | B101: Региональный проект "Цифровые технологии" | C101: Х | D101: Х | E101: Х | F101: =F103 -> 60000 | G101: =G103 -> 60000 | H101: =H103 -> 0 | I101: =I103 -> 0 | J101: =J103 -> 59999 | K101: =SUM(K103) -> 59999 | L101: =SUM(L103) -> 0 | M101: =M103 -> 0 | N101: =J101/F101 -> 1
B102: из них
...

Sheet Лист2
A1: Информация о плановых ассигнованиях и кассовом исполнении расходов консолидированного бюджета Томской области на реализацию региональных проектов Томской области по состоянию на 01.01.2020
A4: № п/п | B4: Наименование | C4: Код ГРБС | D4: Наименование ГРБС | E4: Код целевой статьи областного бюджета | F4: 2019 год | L4: % исполнения
F5: Плановые ассигнования*, в том числе | I5: Кассовое исполнение, в том числе
F6: ИТОГО | G6: за счет средств областного бюджета | H6: за счет средств федерального бюджета | I6: ИТОГО | J6: за счет средств областного бюджета | K6: за счет средств федерального бюджета
A7: 1 | B7: 2 | C7: 3 | D7: 4 | E7: 5 | F7: 6 | G7: 7 | H7: 8 | I7: 10 | J7: 11 | K7: 12 | L7: 14
B8: ВСЕГО: | F8: =SUM(G8:H8) -> 10353054 | G8: =Лист1!G8 -> 3643493.9 | H8: =Лист1!H8 -> 6709560.1 | I8: =SUM(J8:K8) -> 9629010.9 | J8: =Лист1!K8 -> 3492567 | K8: =Лист1!L8 -> 6136443.9 | L8: =I8/F8 -> 0.93 | M8: =J8/I8*100 -> 36.3 | N8: =K8/I8*100 -> 63.7
A9: 1 | B9: Национальный проект "Демография" | C9: Х | D9: Х | E9: Х | F9: =SUM(G9:H9) -> 2995615.6 | G9: =Лист1!G9 -> 1563011.2 | H9: =Лист1!H9 -> 1432604.4 | I9: =SUM(J9:K9) -> 2605167.2 | J9: =Лист1!K9 -> 1458920.4 | K9: =Лист1!L9 -> 1146246.8 | L9: =I9/F9 -> 0.87 | M9: =J9/I9*100 -> 56 | N9: =K9/I9*100 -> 44
A10: 2 | B10: Национальный проект "Здравоохранение" | C10: Х | D10: Х | E10: Х | F10: =SUM(G10:H10) -> 1216123.5 | G10: =Лист1!G40 -> 266674 | H10: =Лист1!H40 -> 949449.5 | I10: =SUM(J10:K10) -> 1090774 | J10: =Лист1!K40 -> 245338.9 | K10: =Лист1!L40 -> 845435.1 | L10: =I10/F10 -> 0.897 | M10: =J10/I10*100 -> 22.5 | N10: =K10/I10*100 -> 77.5
A11: 3 | B11: Национальный проект "Образование" | C11: Х | D11: Х | E11: Х | F11: =SUM(G11:H11) -> 2110769.3 | G11: =Лист1!G64 -> 1054294.6 | H11: =Лист1!H64 -> 1056474.7 | I11: =SUM(J11:K11) -> 2011061.3 | J11: =Лист1!K64 -> 1050891 | K11: =Лист1!L64 -> 960170.3 | L11: =I11/F11 -> 0.953 | M11: =J11/I11*100 -> 52.3 | N11: =K11/I11*100 -> 47.7
A12: 4 | B12: Национальный проект "Цифровая экономика" | C12: Х | D12: Х | E12: Х | F12: =SUM(G12:H12) -> 105836.1 | G12: =Лист1!G96 -> 105836.1 | H12: =Лист1!H96 -> 0 | I12: =SUM(J12:K12) -> 104117.1 | J12: =Лист1!K96 -> 104117.1 | K12: =Лист1!L96 -> 0 | L12: =I12/F12 -> 0.984 | M12: =J12/I12*100 -> 100 | N12: =K12/I12*100 -> 0
A13: 5 | B13: Национальный проект "Жилье и городская среда" | C13: Х | D13: Х | E13: Х | F13: =SUM(G13:H13) -> 987392.8 | G13: =Лист1!G117 -> 28421.8 | H13: =Лист1!H117 -> 958971 | I13: =SUM(J13:K13) -> 938626.9 | J13: =Лист1!K117 -> 27767.9 | K13: =Лист1!L117 -> 910859 | L13: =I13/F13 -> 0.951 | M13: =J13/I13*100 -> 3 | N13: =K13/I13*100 -> 97
A14: 6 | B14: Национальный проект "Экология" | C14: Х | D14: Х | E14: Х | F14: =SUM(G14:H14) -> 162532 | G14: =Лист1!G125 -> 37123 | H14: =Лист1!H125 -> 125409 | I14: =SUM(J14:K14) -> 137759.1 | J14: =Лист1!K125 -> 21357.8 | K14: =Лист1!L125 -> 116401.3 | L14: =I14/F14 -> 0.848 | M14: =J14/I14*100 -> 15.5 | N14: =K14/I14*100 -> 84.5
A15: 7 | B15: Национальный проект "Безопасные и качественные автомобильные дороги" | C15: Х | D15: Х | E15: Х | F15: =SUM(G15:H15) -> 2344268.7 | G15: =Лист1!G140 -> 523000 | H15: =Лист1!H140 -> 1821268.7 | I15: =SUM(J15:K15) -> 2340995.8 | J15: =Лист1!K140 -> 519727.1 | K15: =Лист1!L140 -> 1821268.7 | L15: =I15/F15 -> 0.999 | M15: =J15/I15*100 -> 22.2 | N15: =K15/I15*100 -> 77.8
A16: 8 | B16: Национальный проект "Культура" | C16: Х | D16: Х | E16: Х | F16: =SUM(G16:H16) -> 132248.9 | G16: =Лист1!G144 -> 45752 | H16: =Лист1!H144 -> 86496.9 | I16: =SUM(J16:K16) -> 132248.9 | J16: =Лист1!K144 -> 45752 | K16: =Лист1!L144 -> 86496.9 | L16: =I16/F16 -> 1 | M16: =J16/I16*100 -> 34.6 | N16: =K16/I16*100 -> 65.4
A17: 9 | B17: Национальный проект "Малое и среднее предпринимательство и поддержка индивидуальной предпринимательской инициативы" | C17: Х | D17: Х | E17: Х | F17: =SUM(G17:H17) -> 213277.3 | G17: =Лист1!G156 -> 7645.5 | H17: =Лист1!H156 -> 205631.8 | I17: =SUM(J17:K17) -> 213277.3 | J17: =Лист1!K156 -> 7645.5 | K17: =Лист1!L156 -> 205631.8 | L17: =I17/F17 -> 1 | M17: =J17/I17*100 -> 3.6 | N17: =K17/I17*100 -> 96.4
A18: 10 | B18: Национальный проект "Производительность труда и поддержка занятости" | C18: Х | D18: Х | E18: Х | F18: =SUM(G18:H18) -> 84989.8 | G18: =Лист1!G174 -> 11735.7 | H18: =Лист1!H174 -> 73254.1 | I18: =SUM(J18:K18) -> 54983.3 | J18: =Лист1!K174 -> 11049.3 | K18: =Лист1!L174 -> 43934 | L18: =I18/F18 -> 0.647 | M18: =J18/I18*100 -> 20.1 | N18: =K18/I18*100 -> 79.9
