Workbook
Name _Hlk174538554: Лист3!$B$50

Sheet Лист1
S1: Приложение к письму
S2: Департамента финансов Томской области
S3: от .06.2024 №50-02/18-
A5: Информация о плановых ассигнованиях и кассовом исполнении расходов консолидированного бюджета Томской области на реализацию региональных проектов Томской области по состоянию на 01.09.2024
U7: (тыс. рублей)
A8: № п/п | B8: Наименование | C8: Код ГРБС | D8: Наименование ГРБС | E8: Код целевой статьи областного бюджета | F8: 2024 год | N8: 2025 год | R8: 2026 год | V8: % исполнения
F9: Плановые ассигнования*, в том числе | J9: Кассовое исполнение, в том числе | N9: Плановые ассигнования*, в том числе | R9: Плановые ассигнования*, в том числе
F10: ИТОГО | G10: за счет средств областного бюджета | H10: за счет средств федерального бюджета | I10: за счет средств местных бюджетов** | J10: ИТОГО | K10: за счет средств областного бюджета | L10: за счет средств федерального бюджета | M10: за счет средств местных бюджетов** | N10: ИТОГО | O10: за счет средств областного бюджета | P10: за счет средств федерального бюджета | Q10: за счет средств местных бюджетов | R10: ИТОГО | S10: за счет средств областного бюджета | T10: за счет средств федерального бюджета | U10: за счет средств местных бюджетов
A11: 1 | B11: 2 | C11: 3 | D11: 4 | E11: 5 | F11: 6 | G11: 7 | H11: 8 | I11: 9 | J11: 10 | K11: 11 | L11: 12 | M11: 13 | N11: 10 | O11: 11 | P11: 12 | Q11: 13 | R11: 14 | S11: 15 | T11: 16 | U11: 17 | V11: 22
B12: ВСЕГО: | F12: =G12+H12+I12 -> 19876546 | G12: =G13+G39+G66+G93+G97+G112+G127+G143+G166+G181+G187+G191+G196+G200 -> 7498631.6 | H12: =H13+H39+H66+H93+H97+H112+H127+H143+H166+H181+H187+H191+H196+H200 -> 11555376 | I12: =I13+I39+I66+I93+I97+I112+I127+I143+I166+I181+I187+I191+I196+I200 -> 822539.4 | J12: =K12+L12+M12 -> 8603079.3 | K12: =K13+K39+K66+K93+K97+K112+K127+K143+K166+K181+K187+K191+K196+K200 -> 1601396.2 | L12: =L13+L39+L66+L93+L97+L112+L127+L143+L166+L181+L187+L191+L196+L200 -> 6381884.1 | M12: =M13+M39+M66+M93+M97+M112+M127+M143+M166+M181+M187+M191+M196+M200 -> 619799 | N12: =O12+P12+Q12 -> 12663262 | O12: =O13+O39+O66+O93+O97+O112+O127+O143+O166+O181+O187+O191+O196+O200 -> 4558344.8 | P12: =P13+P39+P66+P93+P97+P112+P127+P143+P166+P181+P187+P191+P196+P200 -> 7760763.9 | Q12: =Q13+Q39+Q66+Q93+Q97+Q112+Q127+Q143+Q166+Q181+Q187+Q191+Q196+Q200 -> 344153.3 | R12: =S12+T12+U12 -> 8308194.5 | S12: =S13+S39+S66+S93+S97+S112+S127+S143+S166+S181+S187+S191+S196+S200 -> 3332526.1 | T12: =T13+T39+T66+T93+T97+T112+T127+T143+T166+T181+T187+T191+T196+T200 -> 4683208.1 | U12: =U13+U39+U66+U93+U97+U112+U127+U143+U166+U181+U187+U191+U196+U200 -> 292460.3 | V12: =J12/F12 -> 0.433
A13: 1 | B13: Национальный проект "Демография" | C13: Х | D13: Х | E13: Х | F13: =G13+H13+I13 -> 553549.5 | G13: =G15+G29+G32+G18 -> 210884 | H13: =H15+H29+H32+H18 -> 324842.1 | I13: =I15+I29+I32+I18 -> 17823.4 | J13: =K13+L13+M13 -> 277342.6 | K13: =K15+K18+K29+K32 -> 134597.2 | L13: =L15+L18+L29+L32 -> 129740.8 | M13: =M15+M18+M29+M32 -> 13004.6 | N13: =O13+P13+Q13 -> 273942.4 | O13: =O15+O29+O32+O18 -> 168345.8 | P13: =P15+P29+P32+P18 -> 91993 | Q13: =Q15+Q29+Q32+Q18 -> 13603.6 | R13: =S13+T13+U13 -> 203032.1 | S13: =S15+S29+S32+S18 -> 189140.9 | T13: =T15+T29+T32+T18 -> 151 | U13: =U15+U29+U32+U18 -> 13740.2 | V13: =J13/F13 -> 0.501
B14: из них
A15: 1.1 | B15: Региональный проект "Содействие занятости" | C15: Х | D15: Х | E15: Х | F15: =G15+H15+I15 -> 8937.1 | G15: =SUM(G17:G17) -> 268.2 | H15: =SUM(H17:H17) -> 8668.9 | I15: =SUM(I17:I17) -> 0 | J15: =K15+L15+M15 -> 4067 | K15: =K17 -> 122.1 | L15: =L17 -> 3944.9 | M15: =M17 -> 0 | N15: =O15+P15+Q15 -> 127.6 | O15: =SUM(O17:O17) -> 127.6 | P15: =SUM(P17:P17) -> 0 | Q15: =SUM(Q17:Q17) -> 0 | R15: =S15+T15+U15 -> 127.6 | S15: =SUM(S17:S17) -> 127.6 | T15: =SUM(T17:T17) -> 0 | U15: =SUM(U17:U17) -> 0 | V15: =J15/F15 -> 0.455
B16: из них
B17: Организация профессионального обучения и дополнительного профессионального образования работников предприятий оборонно-промышленного комплекса, а также граждан, обратившихся в органы службы занятости за содействием в поиске подходящей работы и заключивших ученический договор с предприятиями оборонно-промышленного комплекса | C17: 839 | D17: Департамент труда и занятости населения Томской области | E17: 05WP252920 | F17: =G17+H17+I17 -> 8937.1 | G17: 268.2 | H17: 8668.9 | J17: =K17+L17+M17 -> 4067 | K17: 122.06 | L17: 3944.9 | N17: =O17+P17+Q17 -> 127.6 | O17: 127.6 | R17: =S17+T17+U17 -> 127.6 | S17: 127.6 | V17: =J17/F17 -> 0.455
A18: 1.2 | B18: Региональный проект "Спорт - норма жизни", всего | F18: =G18+H18+I18 -> 197454.1 | G18: =SUM(G20:G28) -> 173869 | H18: =SUM(H20:H28) -> 5761.7 | I18: =SUM(I20:I28) -> 17823.4 | J18: =K18+L18+M18 -> 139751.3 | K18: =K20+K22+K24+K27+K28+K21+K23+K25 -> 124006.71 | L18: =L20+L22+L24+L27+L28+L21+L23+L25 -> 2739.94 | M18: =M20+M22+M24+M27+M28+M21+M23+M25 -> 13004.6 | N18: =O18+P18+Q18 -> 173835.9 | O18: =SUM(O20:O28) -> 160232.3 | P18: =SUM(P20:P28) -> 0 | Q18: =SUM(Q20:Q28) -> 13603.6 | R18: =S18+T18+U18 -> 173972.5 | S18: =SUM(S20:S28) -> 160232.3 | T18: =SUM(T20:T28) -> 0 | U18: =SUM(U20:U28) -> 13740.2 | V18: =J18/F18 -> 0.708
B19: из них
B20: Приобретение оборудования для малобюджетных спортивных площадок по месту жительства и учебы в муниципальных образованиях Томской области, за исключением муниципального образования "Город Томск", муниципального образования "Городской округ закрытое административно-территориальное образование Северск Томской области" | C20: 813 | D20: Департамент по молодежной политике, физической культуре и спорту Томской области | E20: 08WP540006 | F20: =G20+H20+I20 -> 8522.1 | G20: 6142.5 | I20: 2379.6 | J20: =K20+L20+M20 -> 7189.1 | K20: 6142.5 | M20: 1046.6 | N20: =O20+P20+Q20 -> 1562.1 | O20: 0 | Q20: 1562.1 | R20: =S20+T20+U20 -> 1698.6 | S20: 0 | U20: 1698.6 | V20: =J20/F20 -> 0.844
B21: Приобретение оборудования для малобюджетных спортивных площадок по месту жительства и учебы в муниципальных образованиях Томской области, за исключением муниципального образования "Город Томск", муниципального образования "Городской округ закрытое административно-территориальное образование Северск Томской области" | C21: 847 | D21: Департамент спорта Томской области | E21: 08WP540006 | F21: =G21+H21+I21 -> 14332.5 | G21: 14332.5 | J21: =K21+L21+M21 -> 11357.3 | K21: 11357.27 | N21: =O21+P21+Q21 -> 20475 | O21: 20475 | R21: =S21+T21+U21 -> 20475 | S21: 20475 | V21: =J21/F21 -> 0.792
B22: Обеспечение уровня финансирования организаций, осуществляющих спортивную подготовку, в соответствии с требованиями федеральных стандартов спортивной подготовки | C22: 813 | D22: Департамент по молодежной политике, физической культуре и спорту Томской области | E22: 08WP540007 | F22: =G22+H22+I22 -> 3627.1 | G22: 2002.9 | I22: 1624.2 | J22: =K22+L22+M22 -> 3533.1 | K22: 2002.9 | M22: 1530.2 | N22: =O22+P22+Q22 -> 1613.4 | O22: 0 | Q22: 1613.4 | R22: =S22+T22+U22 -> 1623.4 | S22: 0 | U22: 1623.4 | V22: =J22/F22 -> 0.974
B23: Обеспечение уровня финансирования организаций, реализующих дополнительные образовательные программы спортивной подготовки, в соответствии с требованиями федеральных стандартов спортивной подготовки | C23: 847 | D23: Департамент спорта Томской области | E23: 08WP540007 | F23: =G23+H23+I23 -> 27997.1 | G23: 27997.1 | J23: =K23+L23+M23 -> 27997.1 | K23: 27997.1 | N23: =O23+P23+Q23 -> 30000 | O23: 30000 | R23: =S23+T23+U23 -> 30000 | S23: 30000 | V23: =J23/F23 -> 1
B24: Обеспечение условий для развития физической культуры и массового спорта | C24: 813 | D24: Департамент по молодежной политике, физической культуре и спорту Томской области | E24: 08WP540008 | F24: =G24+H24+I24 -> 34254.4 | G24: 20645.4 | I24: 13609 | J24: =K24+L24+M24 -> 31014.4 | K24: 20645.4 | M24: 10369 | N24: =O24+P24+Q24 -> 10408 | O24: 0 | Q24: 10408 | R24: =S24+T24+U24 -> 10408.1 | S24: 0 | U24: 10408.1 | V24: =J24/F24 -> 0.905
B25: Обеспечение условий для развития физической культуры и массового спорта | C25: 847 | D25: Департамент спорта Томской области | E25: 08WP540008 | F25: =G25+H25+I25 -> 89111.9 | G25: 89111.9 | J25: =K25+L25+M25 -> 54195.7 | K25: 54195.7 | N25: =O25+P25+Q25 -> 109757.3 | O25: 109757.3 | R25: =S25+T25+U25 -> 109757.3 | S25: 109757.3 | V25: =J25/F25 -> 0.608
B26: Разработка проектной документации на строительство спортивных объектов муниципальной собственности | C26: 821 | D26: Департамент архитектуры и строительства Томской области | E26: 08WP54П020 | F26: =G26+H26+I26 -> 10080 | G26: 10080 | J26: =K26+L26+M26 -> 0 | N26: =O26+P26+Q26 -> 0 | R26: =S26+T26+U26 -> 0 | V26: =J26/F26 -> 0
B27: Государственная поддержка спортивных организаций, осуществляющих подготовку спортивного резерва для спортивных сборных команд, в том числе спортивных сборных команд Российской Федерации | C27: 847 | D27: Департамент спорта Томской области | E27: 08WP550810 | F27: =G27+H27+I27 -> 8004.6 | G27: 3000 | H27: 4794 | I27: 210.6 | J27: =K27+L27+M27 -> 2943.8 | K27: 1110.44 | L27: 1774.51 | M27: 58.8 | N27: =O27+P27+Q27 -> 20.1 | O27: 0 | P27: 0 | Q27: 20.1 | R27: =S27+T27+U27 -> 10.1 | S27: 0 | U27: 10.1 | V27: =J27/F27 -> 0.368
B28: Приобретение спортивного оборудования и инвентаря для приведения организаций спортивной подготовки в нормативное состояние | C28: 847 | D28: Департамент спорта Томской области | E28: 08WP552290 | F28: =G28+H28+I28 -> 1524.4 | G28: 556.7 | H28: 967.7 | J28: =K28+L28+M28 -> 1520.8 | K28: 555.4 | L28: 965.43 | N28: =O28+P28+Q28 -> 0 | O28: 0 | P28: 0 | R28: =S28+T28+U28 -> 0 | S28: 0 | V28: =J28/F28 -> 0.998
A29: 1.3 | B29: Региональный проект "Финансовая поддержка семей при рождении детей", всего | C29: Х | D29: Х | E29: Х | F29: =G29+H29+I29 -> 251056.1 | G29: =SUM(G31:G31) -> 32637.3 | H29: =SUM(H31:H31) -> 218418.8 | I29: =SUM(I31:I31) -> 0 | J29: =K29+L29+M29 -> 64050.9 | K29: =SUM(K31:K31) -> 8326.6 | L29: =SUM(L31:L31) -> 55724.3 | M29: =SUM(M31:M31) -> 0 | N29: =O29+P29+Q29 -> 99823.7 | O29: =SUM(O31:O31) -> 7985.9 | P29: =SUM(P31:P31) -> 91837.8 | Q29: =SUM(Q31:Q31) -> 0 | R29: =S29+T29+U29 -> 0 | S29: =SUM(S31:S31) -> 0 | T29: =SUM(T31:T31) -> 0 | U29: =SUM(U31:U31) -> 0 | V29: =J29/F29 -> 0.255
B30: из них
B31: Осуществление ежемесячной денежной выплаты, назначаемой в случае рождения третьего ребенка или последующих детей до достижения ребенком возраста трех лет | C31: 809 | D31: Департамент социальной защиты населения Томской области | E31: 11WP150840 | F31: =G31+H31+I31 -> 251056.1 | G31: 32637.3 | H31: 218418.8 | J31: =K31+L31+M31 -> 64050.9 | K31: 8326.6 | L31: 55724.26 | N31: =O31+P31+Q31 -> 99823.7 | O31: 7985.9 | P31: 91837.8 | R31: =S31+T31+U31 -> 0 | S31: 0 | T31: 0 | V31: =J31/F31 -> 0.255
A32: 1.4 | B32: Региональный проект "Старшее поколение" | E32: Х | F32: =G32+H32+I32 -> 96102.2 | G32: =SUM(G34:G38) -> 4109.5 | H32: =SUM(H34:H38) -> 91992.7 | I32: =SUM(I34:I38) -> 0 | J32: =K32+L32+M32 -> 69473.5 | K32: =K38+K35+K37+K34+K36 -> 2141.8 | L32: =L34+L35+L36+L37+L38 -> 67331.7 | M32: =M38+M35+M37+M34+M36 -> 0 | N32: =O32+P32+Q32 -> 155.2 | O32: =SUM(O34:O38) -> 0 | P32: =SUM(P34:P38) -> 155.2 | Q32: =SUM(Q34:Q38) -> 0 | R32: =S32+T32+U32 -> 28932 | S32: =SUM(S34:S38) -> 28781 | T32: =SUM(T34:T38) -> 151 | U32: =SUM(U34:U38) -> 0 | V32: =J32/F32 -> 0.723
B33: из них
B34: Финансовое обеспечение программ, направленных на обеспечение безопасных и комфортных условий предоставления социальных услуг в сфере социального обслуживания | C34: 821 | D34: Департамент архитектуры и строительства Томской области | E34: 11WP351210 | F34: =G34+H34+I34 -> 0 | J34: =K34+L34+M34 -> 0 | N34: =O34+P34+Q34 -> 0 | P34: 0 | R34: =S34+T34+U34 -> 28781 | S34: 28781 | T34: 0 | V34: =J34/F34 -> #DIV/0!
B35: Создание системы долговременного ухода за гражданами пожилого возраста и инвалидами за счет средств резервного фонда Правительства Российской Федерации | C35: 809 | D35: Департамент социальной защиты населения Томской области | E35: 11WP35163F | F35: =G35+H35+I35 -> 25422.4 | G35: 762.7 | H35: 24659.7 | J35: =K35+L35+M35 -> 0 | K35: 0 | L35: 0 | N35: =O35+P35+Q35 -> 0 | R35: =S35+T35+U35 -> 0 | V35: =J35/F35 -> 0
B36: Создание системы долговременного ухода за гражданами пожилого возраста и инвалидами | C36: 809 | D36: Департамент социальной защиты населения Томской области | E36: 11WP351630 | F36: =G36+H36+I36 -> 69256.7 | G36: 2077.7 | H36: 67179 | J36: =K36+L36+M36 -> 69256.7 | K36: 2077.7 | L36: 67179 | N36: =O36+P36+Q36 -> 0 | R36: =S36+T36+U36 -> 0 | V36: =J36/F36 -> 1
B37: Создание системы долговременного ухода за гражданами пожилого возраста и инвалидами в части средств, несофинансируемых из федерального бюджета | C37: 809 | D37: Департамент социальной защиты населения Томской области | E37: 11WP3А1630 | F37: =G37+H37+I37 -> 1269.1 | G37: 1269.1 | J37: =K37+L37+M37 -> 64.1 | K37: 64.1 | N37: =O37+P37+Q37 -> 0 | R37: =S37+T37+U37 -> 0 | V37: =J37/F37 -> 0.051
B38: Проведение вакцинации против пневмококковой инфекции граждан старше трудоспособного возраста из групп риска, проживающих в организациях социального обслуживания | C38: 811 | D38: Департамент здравоохранения Томской области | E38: 11WP354680 | F38: =G38+H38+I38 -> 154 | H38: 154 | J38: =K38+L38+M38 -> 152.7 | L38: 152.7 | N38: =O38+P38+Q38 -> 155.2 | P38: 155.2 | R38: =S38+T38+U38 -> 151 | T38: 151 | V38: =J38/F38 -> 0.992
A39: 2 | B39: Национальный проект "Здравоохранение" | C39: Х | D39: Х | E39: Х | F39: =G39+H39+I39 -> 2181948.1 | G39: =G40+G44+G48+G51+G54 -> 1037536.4 | H39: =H40+H44+H48+H51+H54 -> 1144411.7 | I39: =I40+I44+I48+I51+I54 -> 0 | J39: =K39+L39+M39 -> 668597 | K39: =K40+K44+K48+K51+K54 -> 211519.3 | L39: =L40+L44+L48+L51+L54 -> 457077.7 | M39: =M40+M44+M48+M51+M54 -> 0 | N39: =O39+P39+Q39 -> 2382808.8 | O39: =O40+O44+O48+O51+O54 -> 1207101.5 | P39: =P40+P44+P48+P51+P54 -> 1175707.3 | Q39: =Q40+Q44+Q48+Q51+Q54 -> 0 | R39: =S39+T39+U39 -> 448550.5 | S39: =S40+S44+S48+S51+S54 -> 285945.6 | T39: =T40+T44+T48+T51+T54 -> 162604.9 | U39: =U40+U44+U48+U51+U54 -> 0 | V39: =J39/F39 -> 0.306
A40: 2.1 | B40: Региональный проект "Развитие системы оказания первичной медико-санитарной помощи", всего | C40: Х | D40: Х | E40: Х | F40: =G40+H40+I40 -> 367359.9 | G40: =SUM(G42:G43) -> 283266.1 | H40: =SUM(H42:H43) -> 84093.8 | I40: =SUM(I42:I43) -> 0 | J40: =K40+L40+M40 -> 241162.8 | K40: =SUM(K42:K43) -> 157069 | L40: =SUM(L42:L43) -> 84093.8 | M40: =SUM(M42:M43) -> 0 | N40: =O40+P40+Q40 -> 370651.2 | O40: =SUM(O42:O43) -> 290231.9 | P40: =SUM(P42:P43) -> 80419.3 | Q40: =SUM(Q42:Q43) -> 0 | R40: =S40+T40+U40 -> 370651.2 | S40: =SUM(S42:S43) -> 278934.7 | T40: =SUM(T42:T43) -> 91716.5 | U40: =SUM(U42:U43) -> 0 | V40: =J40/F40 -> 0.656
B41: из них
B42: Обеспечение закупки авиационных работ в целях оказания медицинской помощи | C42: 811 | D42: Департамент здравоохранения Томской области | E42: 07WN155540 | F42: =G42+H42+I42 -> 198000 | G42: 113906.2 | H42: 84093.8 | J42: =SUM(K42:M42) -> 198000 | K42: 113906.2 | L42: 84093.8 | N42: =O42+P42+Q42 -> 198000 | O42: 117580.7 | P42: 80419.3 | R42: =S42+T42+U42 -> 198000 | S42: 106283.5 | T42: 91716.5 | V42: =J42/F42 -> 1
...

Sheet Лист2
A5: Информация о плановых ассигнованиях и кассовом исполнении расходов консолидированного бюджета Томской области на реализацию региональных проектов Томской области по состоянию на 12.08.2024
D7: =D12+E12 -> 19054007 | H7: =H12+I12 -> 7983280.3 | I7: 7412565.3
A8: № п/п | B8: Наименование | C8: 2024 год | K8: % исполнения
C9: Плановые ассигнования*, в том числе | G9: Кассовое исполнение, в том числе
C10: ИТОГО | D10: за счет средств областного бюджета | E10: за счет средств федерального бюджета | F10: за счет средств местных бюджетов** | G10: ИТОГО | H10: за счет средств областного бюджета | I10: за счет средств федерального бюджета | J10: за счет средств местных бюджетов**
A11: 1 | B11: 2 | C11: 6 | D11: 7 | E11: 8 | F11: 9 | G11: 10 | H11: 11 | I11: 12 | J11: 13 | K11: 22
B12: ВСЕГО: | C12: =SUM(C13:C28) -> 19876546 | D12: =SUM(D13:D28) -> 7498631.6 | E12: =SUM(E13:E28) -> 11555376 | F12: =SUM(F13:F28) -> 822539.4 | G12: =SUM(G13:G28) -> 8603079.3 | H12: =SUM(H13:H28) -> 1601396.2 | I12: =SUM(I13:I28) -> 6381884.1 | J12: =SUM(J13:J28) -> 619799 | K12: =G12/C12 -> 0.433
A13: 1 | B13: Национальный проект "Демография" | C13: =Лист1!F13 -> 553549.5 | D13: =Лист1!G13 -> 210884 | E13: =Лист1!H13 -> 324842.1 | F13: =Лист1!I13 -> 17823.4 | G13: =Лист1!J13 -> 277342.6 | H13: =Лист1!K13 -> 134597.2 | I13: =Лист1!L13 -> 129740.8 | J13: =Лист1!M13 -> 13004.6 | K13: =G13/C13 -> 0.501
A14: 2 | B14: Национальный проект "Здравоохранение" | C14: =Лист1!F39 -> 2181948.1 | D14: =Лист1!G39 -> 1037536.4 | E14: =Лист1!H39 -> 1144411.7 | F14: =Лист1!I39 -> 0 | G14: =Лист1!J39 -> 668597 | H14: =Лист1!K39 -> 211519.3 | I14: =Лист1!L39 -> 457077.7 | J14: =Лист1!M39 -> 0 | K14: =G14/C14 -> 0.306
A15: 3 | B15: Национальный проект "Образование" | C15: =Лист1!F66 -> 1786139.3 | D15: =Лист1!G66 -> 859750 | E15: =Лист1!H66 -> 916510.5 | F15: =Лист1!I66 -> 9878.8 | G15: =Лист1!J66 -> 803816.6 | H15: =Лист1!K66 -> 72453.9 | I15: =Лист1!L66 -> 730720.8 | J15: =Лист1!M66 -> 641.9 | K15: =G15/C15 -> 0.45
A16: 4 | B16: Национальный проект "Цифровая экономика" | C16: =Лист1!F93 -> 1924.5 | D16: =Лист1!G93 -> 1924.5 | E16: =Лист1!H93 -> 0 | F16: =Лист1!I93 -> 0 | G16: =Лист1!J93 -> 1924.5 | H16: =Лист1!K93 -> 1924.5 | I16: =Лист1!L93 -> 0 | J16: =Лист1!M93 -> 0 | K16: =G16/C16 -> 1
A17: 5 | B17: Национальный проект "Жилье и городская среда" | C17: =Лист1!F97 -> 2188680.9 | D17: =Лист1!G97 -> 281071.8 | E17: =Лист1!H97 -> 1552701.2 | F17: =Лист1!I97 -> 354907.9 | G17: =Лист1!J97 -> 1201572.4 | H17: =Лист1!K97 -> 132814.1 | I17: =Лист1!L97 -> 785326.4 | J17: =Лист1!M97 -> 283431.9 | K17: =G17/C17 -> 0.549
A18: 6 | B18: Национальный проект "Экология" | C18: =Лист1!F112 -> 978360.8 | D18: =Лист1!G112 -> 722189.3 | E18: =Лист1!H112 -> 222630.5 | F18: =Лист1!I112 -> 33541 | G18: =Лист1!J112 -> 84896.3 | H18: =Лист1!K112 -> 44837.4 | I18: =Лист1!L112 -> 25113.1 | J18: =Лист1!M112 -> 14945.8 | K18: =G18/C18 -> 0.087
A19: 7 | B19: Национальный проект "Безопасные качественные дороги" | C19: =Лист1!F127 -> 8386532.8 | D19: =Лист1!G127 -> 3914747.6 | E19: =Лист1!H127 -> 4085708.3 | F19: =Лист1!I127 -> 386076.9 | G19: =Лист1!J127 -> 2448736 | H19: =Лист1!K127 -> 607064.7 | I19: =Лист1!L127 -> 1536678.9 | J19: =Лист1!M127 -> 304992.4 | K19: =G19/C19 -> 0.292
A20: 8 | B20: Национальный проект "Культура" | C20: =Лист1!F143 -> 475312.3 | D20: =Лист1!G143 -> 52968.1 | E20: =Лист1!H143 -> 415717.9 | F20: =Лист1!I143 -> 6626.3 | G20: =Лист1!J143 -> 285862.5 | H20: =Лист1!K143 -> 39398.3 | I20: =Лист1!L143 -> 243681.8 | J20: =Лист1!M143 -> 2782.4 | K20: =G20/C20 -> 0.601
A21: 8.3 | B21: Региональный проект "Цифровая культура" | C21: =Лист1!F163 -> 0 | D21: =Лист1!G163 -> 0 | E21: =Лист1!H163 -> 0 | F21: =Лист1!I163 -> 0 | G21: =Лист1!J163 -> 0 | H21: =Лист1!K163 -> 0 | I21: =Лист1!L163 -> 0 | J21: =Лист1!M163 -> 0 | K21: =G21/C21 -> #DIV/0!
B22: из них | C22: =Лист1!F164 -> 0 | D22: =Лист1!G164 -> 0 | E22: =Лист1!H164 -> 0 | F22: =Лист1!I164 -> 0 | G22: =Лист1!J164 -> 0 | H22: =Лист1!K164 -> 0 | I22: =Лист1!L164 -> 0 | J22: =Лист1!M164 -> 0
C23: =Лист1!F165 -> 0 | D23: =Лист1!G165 -> 0 | E23: =Лист1!H165 -> 0 | F23: =Лист1!I165 -> 0 | G23: =Лист1!J165 -> 0 | H23: =Лист1!K165 -> 0 | I23: =Лист1!L165 -> 0 | J23: =Лист1!M165 -> 0 | K23: =G23/C23 -> #DIV/0!
A24: 9 | B24: Национальный проект "Малое и среднее предпринимательство и поддержка индивидуальной предпринимательской инициативы" | C24: =Лист1!F166 -> 114229.8 | D24: =Лист1!G166 -> 13876.9 | E24: =Лист1!H166 -> 100352.9 | F24: =Лист1!I166 -> 0 | G24: =Лист1!J166 -> 66801.1 | H24: =Лист1!K166 -> 2004 | I24: =Лист1!L166 -> 64797.1 | J24: =Лист1!M166 -> 0 | K24: =G24/C24 -> 0.585
A25: 10 | B25: Национальный проект "Производительность труда" | C25: =Лист1!F181 -> 27870.2 | D25: =Лист1!G181 -> 7141.1 | E25: =Лист1!H181 -> 20729.1 | F25: =Лист1!I181 -> 0 | G25: =Лист1!J181 -> 26274.2 | H25: =Лист1!K181 -> 5545.1 | I25: =Лист1!L181 -> 20729.1 | J25: =Лист1!M181 -> 0 | K25: =G25/C25 -> 0.943
A26: 11 | B26: Национальный проект "Международная кооперация и экспорт" | C26: =Лист1!F187 -> 2875.7 | D26: =Лист1!G187 -> 86.3 | E26: =Лист1!H187 -> 2789.4 | F26: =Лист1!I187 -> 0 | G26: =Лист1!J187 -> 682.1 | H26: =Лист1!K187 -> 20.5 | I26: =Лист1!L187 -> 661.6 | J26: =Лист1!M187 -> 0 | K26: =G26/C26 -> 0.237
A27: 12 | B27: Национальный проект "Туризм и индустрия гостеприимства" | C27: =Лист1!F191 -> 50771.6 | D27: =Лист1!G191 -> 1112.6 | E27: =Лист1!H191 -> 35973.9 | F27: =Лист1!I191 -> 13685.1 | G27: =Лист1!J191 -> 149.6 | H27: =Лист1!K191 -> 4.5 | I27: =Лист1!L191 -> 145.1 | J27: =Лист1!M191 -> 0 | K27: =G27/C27 -> 0.003
A28: 14 | B28: Национальный проект "Беспилотные авиационные системы" | C28: =Лист1!F200 -> 3128351 | D28: =Лист1!G200 -> 395343 | E28: =Лист1!H200 -> 2733008 | F28: =Лист1!I200 -> 0 | G28: =Лист1!J200 -> 2736424.4 | H28: =Лист1!K200 -> 349212.7 | I28: =Лист1!L200 -> 2387211.7 | J28: =Лист1!M200 -> 0 | K28: =G28/C28 -> 0.875

Sheet Лист3
A5: Информация о плановых ассигнованиях и кассовом исполнении расходов консолидированного бюджета Томской области на реализацию региональных проектов Томской области по состоянию на 12.08.2024
D7: =D12+E12 -> 19054 | H7: =H12+I12 -> 7983.3 | I7: 7412565.3
A8: № п/п | B8: Наименование | C8: 2024 год | K8: % исполнения
C9: Плановые ассигнования*, в том числе | G9: Кассовое исполнение, в том числе
C10: ИТОГО | D10: за счет средств областного бюджета | E10: за счет средств федерального бюджета | F10: за счет средств местных бюджетов** | G10: ИТОГО | H10: за счет средств областного бюджета | I10: за счет средств федерального бюджета | J10: за счет средств местных бюджетов**
A11: 1 | B11: 2 | C11: 6 | D11: 7 | E11: 8 | F11: 9 | G11: 10 | H11: 11 | I11: 12 | J11: 13 | K11: 22
B12: ВСЕГО: | C12: =Лист2!C12/1000 -> 19876.5 | D12: =Лист2!D12/1000 -> 7498.6 | E12: =Лист2!E12/1000 -> 11555.4 | F12: =Лист2!F12/1000 -> 822.5 | G12: =Лист2!G12/1000 -> 8603.1 | H12: =Лист2!H12/1000 -> 1601.4 | I12: =Лист2!I12/1000 -> 6381.9 | J12: =Лист2!J12/1000 -> 619.8 | K12: =G12/C12 -> 0.433
A13: 1 | B13: Национальный проект "Демография" | C13: =Лист2!C13/1000 -> 553.5 | D13: =Лист2!D13/1000 -> 210.9 | E13: =Лист2!E13/1000 -> 324.8 | F13: =Лист2!F13/1000 -> 17.8 | G13: =Лист2!G13/1000 -> 277.3 | H13: =Лист2!H13/1000 -> 134.6 | I13: =Лист2!I13/1000 -> 129.7 | J13: =Лист2!J13/1000 -> 13 | K13: =G13/C13 -> 0.501
A14: 2 | B14: Национальный проект "Здравоохранение" | C14: =Лист2!C14/1000 -> 2181.9 | D14: =Лист2!D14/1000 -> 1037.5 | E14: =Лист2!E14/1000 -> 1144.4 | F14: =Лист2!F14/1000 -> 0 | G14: =Лист2!G14/1000 -> 668.6 | H14: =Лист2!H14/1000 -> 211.5 | I14: =Лист2!I14/1000 -> 457.1 | J14: =Лист2!J14/1000 -> 0 | K14: =G14/C14 -> 0.306
A15: 3 | B15: Национальный проект "Образование" | C15: =Лист2!C15/1000 -> 1786.1 | D15: =Лист2!D15/1000 -> 859.8 | E15: =Лист2!E15/1000 -> 916.5 | F15: =Лист2!F15/1000 -> 9.9 | G15: =Лист2!G15/1000 -> 803.8 | H15: =Лист2!H15/1000 -> 72.5 | I15: =Лист2!I15/1000 -> 730.7 | J15: =Лист2!J15/1000 -> 0.6 | K15: =G15/C15 -> 0.45
A16: 4 | B16: Национальный проект "Цифровая экономика" | C16: =Лист2!C16/1000 -> 1.9 | D16: =Лист2!D16/1000 -> 1.9 | E16: =Лист2!E16/1000 -> 0 | F16: =Лист2!F16/1000 -> 0 | G16: =Лист2!G16/1000 -> 1.9 | H16: =Лист2!H16/1000 -> 1.9 | I16: =Лист2!I16/1000 -> 0 | J16: =Лист2!J16/1000 -> 0 | K16: =G16/C16 -> 1
A17: 5 | B17: Национальный проект "Жилье и городская среда" | C17: =Лист2!C17/1000 -> 2188.7 | D17: =Лист2!D17/1000 -> 281.1 | E17: =Лист2!E17/1000 -> 1552.7 | F17: =Лист2!F17/1000 -> 354.9 | G17: =Лист2!G17/1000 -> 1201.6 | H17: =Лист2!H17/1000 -> 132.8 | I17: =Лист2!I17/1000 -> 785.3 | J17: =Лист2!J17/1000 -> 283.4 | K17: =G17/C17 -> 0.549
A18: 6 | B18: Национальный проект "Экология" | C18: =Лист2!C18/1000 -> 978.4 | D18: =Лист2!D18/1000 -> 722.2 | E18: =Лист2!E18/1000 -> 222.6 | F18: =Лист2!F18/1000 -> 33.5 | G18: =Лист2!G18/1000 -> 84.9 | H18: =Лист2!H18/1000 -> 44.8 | I18: =Лист2!I18/1000 -> 25.1 | J18: =Лист2!J18/1000 -> 14.9 | K18: =G18/C18 -> 0.087
A19: 7 | B19: Национальный проект "Безопасные качественные дороги" | C19: =Лист2!C19/1000 -> 8386.5 | D19: =Лист2!D19/1000 -> 3914.7 | E19: =Лист2!E19/1000 -> 4085.7 | F19: =Лист2!F19/1000 -> 386.1 | G19: =Лист2!G19/1000 -> 2448.7 | H19: =Лист2!H19/1000 -> 607.1 | I19: =Лист2!I19/1000 -> 1536.7 | J19: =Лист2!J19/1000 -> 305 | K19: =G19/C19 -> 0.292
A20: 8 | B20: Национальный проект "Культура" | C20: =Лист2!C20/1000 -> 475.3 | D20: =Лист2!D20/1000 -> 53 | E20: =Лист2!E20/1000 -> 415.7 | F20: =Лист2!F20/1000 -> 6.6 | G20: =Лист2!G20/1000 -> 285.9 | H20: =Лист2!H20/1000 -> 39.4 | I20: =Лист2!I20/1000 -> 243.7 | J20: =Лист2!J20/1000 -> 2.8 | K20: =G20/C20 -> 0.602
A21: 8.3 | B21: Региональный проект "Цифровая культура" | C21: =Лист2!C21/1000 -> 0 | D21: =Лист2!D21/1000 -> 0 | E21: =Лист2!E21/1000 -> 0 | F21: =Лист2!F21/1000 -> 0 | G21: =Лист2!G21/1000 -> 0 | H21: =Лист2!H21/1000 -> 0 | I21: =Лист2!I21/1000 -> 0 | J21: =Лист2!J21/1000 -> 0 | K21: =G21/C21 -> #DIV/0!
B22: из них | C22: =Лист2!C22/1000 -> 0 | D22: =Лист2!D22/1000 -> 0 | E22: =Лист2!E22/1000 -> 0 | F22: =Лист2!F22/1000 -> 0 | G22: =Лист2!G22/1000 -> 0 | H22: =Лист2!H22/1000 -> 0 | I22: =Лист2!I22/1000 -> 0 | J22: =Лист2!J22/1000 -> 0
C23: =Лист2!C23/1000 -> 0 | D23: =Лист2!D23/1000 -> 0 | E23: =Лист2!E23/1000 -> 0 | F23: =Лист2!F23/1000 -> 0 | G23: =Лист2!G23/1000 -> 0 | H23: =Лист2!H23/1000 -> 0 | I23: =Лист2!I23/1000 -> 0 | J23: =Лист2!J23/1000 -> 0 | K23: =G23/C23 -> #DIV/0!
A24: 9 | B24: Национальный проект "Малое и среднее предпринимательство и поддержка индивидуальной предпринимательской инициативы" | C24: =Лист2!C24/1000 -> 114.2 | D24: =Лист2!D24/1000 -> 13.9 | E24: =Лист2!E24/1000 -> 100.4 | F24: =Лист2!F24/1000 -> 0 | G24: =Лист2!G24/1000 -> 66.8 | H24: =Лист2!H24/1000 -> 2 | I24: =Лист2!I24/1000 -> 64.8 | J24: =Лист2!J24/1000 -> 0 | K24: =G24/C24 -> 0.585
A25: 10 | B25: Национальный проект "Производительность труда" | C25: =Лист2!C25/1000 -> 27.9 | D25: =Лист2!D25/1000 -> 7.1 | E25: =Лист2!E25/1000 -> 20.7 | F25: =Лист2!F25/1000 -> 0 | G25: =Лист2!G25/1000 -> 26.3 | H25: =Лист2!H25/1000 -> 5.5 | I25: =Лист2!I25/1000 -> 20.7 | J25: =Лист2!J25/1000 -> 0 | K25: =G25/C25 -> 0.943
A26: 11 | B26: Национальный проект "Международная кооперация и экспорт" | C26: =Лист2!C26/1000 -> 2.9 | D26: =Лист2!D26/1000 -> 0.1 | E26: =Лист2!E26/1000 -> 2.8 | F26: =Лист2!F26/1000 -> 0 | G26: =Лист2!G26/1000 -> 0.7 | H26: =Лист2!H26/1000 -> 0 | I26: =Лист2!I26/1000 -> 0.7 | J26: =Лист2!J26/1000 -> 0 | K26: =G26/C26 -> 0.241
A27: 12 | B27: Национальный проект "Туризм и индустрия гостеприимства" | C27: =Лист2!C27/1000 -> 50.8 | D27: =Лист2!D27/1000 -> 1.1 | E27: =Лист2!E27/1000 -> 36 | F27: =Лист2!F27/1000 -> 13.7 | G27: =Лист2!G27/1000 -> 0.1 | H27: =Лист2!H27/1000 -> 0 | I27: =Лист2!I27/1000 -> 0.1 | J27: =Лист2!J27/1000 -> 0 | K27: =G27/C27 -> 0.002
A28: 14 | B28: Национальный проект "Беспилотные авиационные системы" | C28: =Лист2!C28/1000 -> 3128.4 | D28: =Лист2!D28/1000 -> 395.3 | E28: =Лист2!E28/1000 -> 2733 | F28: =Лист2!F28/1000 -> 0 | G28: =Лист2!G28/1000 -> 2736.4 | H28: =Лист2!H28/1000 -> 349.2 | I28: =Лист2!I28/1000 -> 2387.2 | J28: =Лист2!J28/1000 -> 0 | K28: =G28/C28 -> 0.875
B44: Наименование национального проекта | C44: План | H44: Исполнено
C45: ИТОГО, | D45: областного | E45: федерального | F45: местного | G45: ИТОГО, | I45: областного | J45: федерального | K45: местного | L45: % исполнения
C46: в том | G46: в том
C47: числе за счет бюджета | G47: числе за счет бюджета
B48: ВСЕГО: | C48: 19769 | D48: 7402.8 | E48: 11558.7 | F48: 807.5 | G48: 8191.2 | I48: 1464.3 | J48: 6150.7 | K48: 576.2 | L48: 41.4 | N48: =SUM(D48:F48)-C48 -> 0 | O48: =SUM(I48:K48)-G48 -> 0 | P48: =G48/C48*100-L48 -> 0
B49: Цифровая экономика | C49: 1.9 | D49: 1.9 | E49: 0 | F49: 0 | G49: 1.9 | I49: 1.9 | J49: 0 | K49: 0 | L49: 100 | N49: =SUM(D49:F49)-C49 -> 0 | O49: =SUM(I49:K49)-G49 -> 0 | P49: =G49/C49*100-L49 -> 0
B50: Производительность труда | C50: 27.8 | D50: 7.1 | E50: 20.7 | F50: 0 | G50: 26.2 | I50: 5.5 | J50: 20.7 | K50: 0 | L50: 94.2 | N50: =SUM(D50:F50)-C50 -> 0 | O50: =SUM(I50:K50)-G50 -> 0 | P50: =G50/C50*100-L50 -> 0 | Q50: =G50/C50 -> 0.94244604
B51: Беспилотные авиационные системы | C51: 3128.3 | D51: 395.3 | E51: 2733 | F51: 0 | G51: 2643.8 | I51: 346.6 | J51: 2297.2 | K51: 0 | L51: 84.5 | N51: =SUM(D51:F51)-C51 -> 0 | O51: =SUM(I51:K51)-G51 -> 0 | P51: =G51/C51*100-L51 -> 0
B52: Культура | C52: 476.1 | D52: 53 | E52: 415.7 | F52: 7.4 | G52: 283 | I52: 37.9 | J52: 242.4 | K52: 2.7 | L52: 59.4 | N52: =SUM(D52:F52)-C52 -> 0 | O52: =SUM(I52:K52)-G52 -> 0 | P52: =G52/C52*100-L52 -> 0 | Q52: =G52/C52 -> 0.59441294
B53: Малое и среднее предпринимательство и поддержка индивидуальной предпринимательской инициативы | C53: 114.3 | D53: 13.9 | E53: 100.4 | F53: 0 | N53: =SUM(D53:F53)-C53 -> 0 | O53: =SUM(I53:K53)-G53 -> 0 | P53: =G53/C53*100-L53 -> 0
N54: =SUM(D54:F54)-C54 -> 0 | O54: =SUM(I54:K54)-G54 -> 0
G55: 62.9 | I55: 1.9 | J55: 61 | K55: 0 | L55: 55.1 | N55: =SUM(D55:F55)-C55 -> 0 | O55: =SUM(I55:K55)-G55 -> 0
B56: Демография | C56: 553.2 | D56: 210.9 | E56: 324.8 | F56: 17.5 | G56: 267.5 | I56: 131.6 | J56: 125.2 | K56: 10.7 | L56: 48.4 | N56: =SUM(D56:F56)-C56 -> 0 | O56: =SUM(I56:K56)-G56 -> 0 | P56: =G56/C56*100-L56 -> 0
B57: Жилье и городская среда | C57: 2091.3 | D57: 185.2 | E57: 1552.7 | F57: 353.4 | G57: 954 | I57: 36.6 | J57: 669.6 | K57: 247.8 | L57: 45.6 | N57: =SUM(D57:F57)-C57 -> 0 | O57: =SUM(I57:K57)-G57 -> 0 | P57: =G57/C57*100-L57 -> 0
B58: Образование | C58: 1789.4 | D58: 859.9 | E58: 919.9 | F58: 9.6 | G58: 711.9 | I58: 68.8 | J58: 642.5 | K58: 0.6 | L58: 39.8 | N58: =SUM(D58:F58)-C58 -> 0 | O58: =SUM(I58:K58)-G58 -> 0 | P58: =G58/C58*100-L58 -> 0
B59: Здравоохранение | C59: 2181.9 | D59: 1037.5 | E59: 1144.4 | F59: 0 | G59: 662 | I59: 211.2 | J59: 450.8 | K59: 0 | L59: 30.3 | N59: =SUM(D59:F59)-C59 -> 0 | O59: =SUM(I59:K59)-G59 -> 0 | P59: =G59/C59*100-L59 -> 0
B60: Безопасные качественные дороги | C60: 8386.5 | D60: 3914.7 | E60: 4085.7 | F60: 386.1 | G60: 2512.2 | I60: 592.3 | J60: 1615.5 | K60: 304.4 | L60: 30 | N60: =SUM(D60:F60)-C60 -> 0 | O60: =SUM(I60:K60)-G60 -> 0 | P60: =G60/C60*100-L60 -> 0
...

Sheet Лист4

Sheet Лист5

Sheet Лист6

Sheet Лист7
