Workbook

Sheet Лист1
A1: Информация о плановых ассигнованиях и кассовом исполнении расходов консолидированного бюджета Томской области на реализацию региональных проектов Томской области по состоянию на 01.01.2023
U3: (тыс. рублей)
A4: № п/п | B4: Наименование | C4: Код ГРБС | D4: Наименование ГРБС | E4: Код целевой статьи областного бюджета | F4: 2022 год | J4: 2022 год | N4: 2023 год | R4: 2024 год | V4: % исполнения
F5: Плановые ассигнования*, в том числе | J5: Кассовое исполнение, в том числе | N5: Плановые ассигнования*, в том числе | R5: Плановые ассигнования*, в том числе
F6: ИТОГО | G6: за счет средств областного бюджета | H6: за счет средств федерального бюджета | I6: за счет средств местных бюджетов** | J6: ИТОГО | K6: за счет средств областного бюджета | L6: за счет средств федерального бюджета | M6: за счет средств местных бюджетов** | N6: ИТОГО | O6: за счет средств областного бюджета | P6: за счет средств федерального бюджета | Q6: за счет средств местных бюджетов | R6: ИТОГО | S6: за счет средств областного бюджета | T6: за счет средств федерального бюджета | U6: за счет средств местных бюджетов
A7: 1 | B7: 2 | C7: 3 | D7: 4 | E7: 5 | F7: 6 | G7: 7 | H7: 8 | I7: 9 | J7: 10 | K7: 11 | L7: 12 | M7: 13 | N7: 14 | O7: 15 | P7: 16 | Q7: 17 | R7: 18 | S7: 19 | T7: 20 | U7: 21 | V7: 22
B8: ВСЕГО: | F8: =G8+H8+I8 -> 18035376 | G8: =G9+G37+G69+G109+G118+G134+G147+G164+G185+G203+G211 -> 5643838.1 | H8: =H9+H37+H69+H109+H118+H134+H147+H164+H185+H203+H211 -> 11787991 | I8: =I9+I37+I69+I109+I118+I134+I147+I164+I185+I203+I211 -> 603547 | J8: =K8+L8+M8 -> 14573120 | K8: =K9+K37+K69+K109+K118+K134+K147+K164+K185+K203+K211 -> 5352246.9 | L8: =L9+L37+L69+L109+L118+L134+L147+L164+L185+L203+L211 -> 8716234 | M8: =M9+M37+M69+M109+M118+M134+M147+M164+M185+M203+M211 -> 504638.6 | N8: =O8+P8+Q8 -> 15589693 | O8: =O9+O37+O69+O109+O118+O134+O147+O164+O185+O203+O211 -> 4748467.8 | P8: =P9+P37+P69+P109+P118+P134+P147+P164+P185+P203+P211 -> 10673024 | Q8: =Q9+Q37+Q69+Q109+Q118+Q134+Q147+Q164+Q185+Q203+Q211 -> 168201.5 | R8: =S8+T8+U8 -> 14690978 | S8: =S9+S37+S69+S109+S118+S134+S147+S164+S185+S203+S211 -> 4699081.2 | T8: =T9+T37+T69+T109+T118+T134+T147+T164+T185+T203+T211 -> 9856757.2 | U8: =U9+U37+U69+U109+U118+U134+U147+U164+U185+U203+U211 -> 135139.7 | V8: =J8/F8 -> 0.808
A9: 1 | B9: Национальный проект "Демография" | C9: Х | D9: Х | E9: Х | F9: =G9+H9+I9 -> 2505907.6 | G9: =G10+G16+G25+G31 -> 476885.5 | H9: =H10+H16+H25+H31 -> 1935137.8 | I9: =I10+I16+I25+I31 -> 93884.3 | J9: =K9+L9+M9 -> 2472110 | K9: =K10+K16+K25+K31 -> 467080.6 | L9: =L10+L16+L25+L31 -> 1929970.5 | M9: =M10+M16+M25+M31 -> 75058.9 | N9: =O9+P9+Q9 -> 2238923.6 | O9: =O10+O16+O25+O31 -> 212421.8 | P9: =P10+P16+P25+P31 -> 2013499.5 | Q9: =Q10+Q16+Q25+Q31 -> 13002.3 | R9: =S9+T9+U9 -> 2324546.9 | S9: =S10+S16+S25+S31 -> 218134 | T9: =T10+T16+T25+T31 -> 2094560 | U9: =U10+U16+U25+U31 -> 11852.9 | V9: =J9/F9 -> 0.987
A10: 1.1 | B10: Региональный проект "Старшее поколение", всего | C10: Х | D10: Х | E10: Х | F10: =G10+H10+I10 -> 189.4 | G10: =SUM(G12:G15) -> 0 | H10: =SUM(H12:H15) -> 189.4 | I10: =SUM(I12:I15) -> 0 | J10: =K10+L10+M10 -> 188.8 | K10: =SUM(K12:K15) -> 0 | L10: =SUM(L12:L15) -> 188.8 | M10: =SUM(M12:M15) -> 0 | N10: =O10+P10+Q10 -> 189.4 | O10: =SUM(O12:O15) -> 0 | P10: =SUM(P12:P15) -> 189.4 | Q10: =SUM(Q12:Q15) -> 0 | R10: =S10+T10+U10 -> 210.4 | S10: =SUM(S12:S15) -> 0 | T10: =SUM(T12:T15) -> 210.4 | U10: =SUM(U12:U15) -> 0 | V10: =J10/F10 -> 0.997
B11: из них
B12: Строительство (приобретение) объектов коммунальной инфраструктуры государственной собственности Томской области | C12: 821 | D12: Департамент архитектуры и строительства Томской области | E12: 11WP30И130 | F12: =G12+H12+I12 -> 0 | G12: =66370-66370 -> 0 | J12: =K12+L12+M12 -> 0 | N12: =O12+P12+Q12 -> 0 | R12: =S12+T12+U12 -> 0 | V12: =J12/F12 -> #DIV/0!
B13: Разработка проектной документации на строительство объектов коммунальной инфраструктуры государственной собственности Томской области | C13: 821 | D13: Департамент архитектуры и строительства Томской области | E13: 11WP30П130 | F13: =G13+H13+I13 -> 0 | G13: =5255-5255 -> 0 | J13: =K13+L13+M13 -> 0 | N13: =O13+P13+Q13 -> 0 | R13: =S13+T13+U13 -> 0 | V13: =J13/F13 -> #DIV/0!
B14: Финансовое обеспечение программ, направленных на обеспечение безопасных и комфортных условий предоставления социальных услуг в сфере социального обслуживания | C14: 821 | D14: Департамент архитектуры и строительства Томской области | E14: 11WP351210 | F14: =G14+H14+I14 -> 0 | G14: =375.2-375.2 -> 0 | J14: =K14+L14+M14 -> 0 | N14: =O14+P14+Q14 -> 0 | R14: =S14+T14+U14 -> 0 | V14: =J14/F14 -> #DIV/0!
B15: Проведение вакцинации против пневмококковой инфекции граждан старше трудоспособного возраста из групп риска, проживающих в организациях социального обслуживания | C15: 811 | D15: Департамент здравоохранения Томской области | E15: 11WP354680 | F15: =G15+H15+I15 -> 189.4 | H15: 189.4 | J15: =K15+L15+M15 -> 188.8 | L15: 188.8 | N15: =O15+P15+Q15 -> 189.4 | P15: 189.4 | R15: =S15+T15+U15 -> 210.4 | T15: 210.4 | V15: =J15/F15 -> 0.997
A16: 1.2 | B16: Региональный проект "Спорт - норма жизни", всего | C16: Х | D16: Х | E16: Х | F16: =G16+H16+I16 -> 234459.6 | G16: =SUM(G18:G24) -> 116046.1 | H16: =SUM(H18:H24) -> 101919.1 | I16: =SUM(I18:I24) -> 16494.4 | J16: =K16+L16+M16 -> 231861.8 | K16: =SUM(K18:K24) -> 115911.3 | L16: =SUM(L18:L24) -> 99586.9 | M16: =SUM(M18:M24) -> 16363.6 | N16: =O16+P16+Q16 -> 147065 | O16: =SUM(O18:O24) -> 104919.6 | P16: =SUM(P18:P24) -> 29143.1 | Q16: =SUM(Q18:Q24) -> 13002.3 | R16: =S16+T16+U16 -> 140556.7 | S16: =SUM(S18:S24) -> 104733.9 | T16: =SUM(T18:T24) -> 23969.9 | U16: =SUM(U18:U24) -> 11852.9 | V16: =J16/F16 -> 0.989
B17: из них
B18: Приобретение оборудования для малобюджетных спортивных площадок по месту жительства и учебы в муниципальных образованиях Томской области, за исключением муниципального образования "Город Томск", муниципального образования "Городской округ закрытое административно-территориальное образование Северск Томской области" | C18: 813 | D18: Департамент по молодежной политике, физической культуре и спорту Томской области | E18: 08WP540006 | F18: =G18+H18+I18 -> 10710.5 | G18: 9000 | I18: 1710.5 | J18: =K18+L18+M18 -> 10710.5 | K18: =1500+3600+1200+2700 -> 9000 | M18: 1710.5 | N18: =O18+P18+Q18 -> 9719 | O18: 9000 | Q18: 719 | R18: =S18+T18+U18 -> 9629 | S18: 9000 | U18: 629 | V18: =J18/F18 -> 1
B19: Обеспечение уровня финансирования организаций, осуществляющих спортивную подготовку, в соответствии с требованиями федеральных стандартов спортивной подготовки | C19: 813 | D19: Департамент по молодежной политике, физической культуре и спорту Томской области | E19: 08WP540007 | F19: =G19+H19+I19 -> 13078.7 | G19: =30000-17583.3 -> 12416.7 | I19: 662 | J19: =K19+L19+M19 -> 13078.7 | K19: =2113.4+6146.6+4156.7 -> 12416.7 | M19: 662 | N19: =O19+P19+Q19 -> 10621.6 | O19: 10000 | Q19: 621.6 | R19: =S19+T19+U19 -> 10620.7 | S19: 10000 | U19: 620.7 | V19: =J19/F19 -> 1
B20: Обеспечение условий для развития физической культуры и массового спорта | C20: 813 | D20: Департамент по молодежной политике, физической культуре и спорту Томской области | E20: 08WP540008 | F20: =G20+H20+I20 -> 99502.8 | G20: 86353.2 | I20: 13149.6 | J20: =K20+L20+M20 -> 99390.3 | K20: 86353.2 | M20: 13037.1 | N20: =O20+P20+Q20 -> 93594.8 | O20: 82177.2 | Q20: 11417.6 | R20: =S20+T20+U20 -> 92519.1 | S20: 82177.2 | U20: 10341.9 | V20: =J20/F20 -> 0.999
B21: Государственная поддержка спортивных организаций, осуществляющих подготовку спортивного резерва для спортивных сборных команд, в том числе спортивных сборных команд Российской Федерации | C21: 813 | D21: Департамент по молодежной политике, физической культуре и спорту Томской области | E21: 08WP550810 | F21: =G21+H21+I21 -> 8371.3 | G21: 3000 | H21: 5137.7 | I21: 233.6 | J21: =K21+L21+M21 -> 8186.3 | K21: 2933.8 | L21: 5024.4 | M21: 228.1 | N21: =O21+P21+Q21 -> 8381.8 | O21: 3000 | P21: 5137.7 | Q21: 244.1 | R21: =S21+T21+U21 -> 9231.2 | S21: 3000 | T21: 5969.9 | U21: 261.3 | V21: =J21/F21 -> 0.978
B22: Создание и модернизация объектов спортивной инфраструктуры региональной собственности (муниципальной собственности) для занятий физической культурой и спортом | C22: 821 | D22: Департамент архитектуры и строительства Томской области | E22: 08WP551390 | F22: =G22+H22+I22 -> 75536 | G22: 2253.5 | H22: 72862.4 | I22: 420.1 | J22: =K22+L22+M22 -> 73235.7 | K22: 2184.9 | L22: 70643.5 | M22: 407.3 | N22: =O22+P22+Q22 -> 0 | O22: 0 | Q22: 0 | R22: =S22+T22+U22 -> 0 | S22: 0 | U22: 0 | V22: =J22/F22 -> 0.97
B23: Оснащение объектов спортивной инфраструктуры спортивно-технологическим оборудованием | C23: 813 | D23: Департамент по молодежной политике, физической культуре и спорту Томской области | E23: 08WP552280 | F23: =G23+H23+I23 -> 8703.6 | G23: 2466 | H23: 5919 | I23: 318.6 | J23: =K23+L23+M23 -> 8703.6 | K23: 2466 | L23: 5919 | M23: 318.6 | N23: =O23+P23+Q23 -> 6191.1 | O23: 185.7 | P23: 6005.4 | R23: =S23+T23+U23 -> 0 | S23: 0 | V23: =J23/F23 -> 1
B24: Приобретение спортивного оборудования и инвентаря для приведения организаций спортивной подготовки в нормативное состояние | C24: 813 | D24: Департамент по молодежной политике, физической культуре и спорту Томской области | E24: 08WP552290 | F24: =G24+H24+I24 -> 18556.7 | G24: 556.7 | H24: 18000 | J24: =K24+L24+M24 -> 18556.7 | K24: 556.7 | L24: 18000 | N24: =O24+P24+Q24 -> 18556.7 | O24: 556.7 | P24: 18000 | R24: =S24+T24+U24 -> 18556.7 | S24: 556.7 | T24: 18000 | V24: =J24/F24 -> 1
A25: 1.3 | B25: Региональный проект "Содействие занятости", всего | C25: Х | D25: Х | E25: Х | F25: =G25+H25+I25 -> 357099.5 | G25: =SUM(G27:G30) -> 158511.8 | H25: =SUM(H27:H30) -> 121197.8 | I25: =SUM(I27:I30) -> 77389.9 | J25: =K25+L25+M25 -> 335546.8 | K25: =SUM(K27:K30) -> 158426 | L25: =SUM(L27:L30) -> 118425.5 | M25: =SUM(M27:M30) -> 58695.3 | N25: =O25+P25+Q25 -> 9202.1 | O25: =SUM(O27:O30) -> 276.2 | P25: =SUM(P27:P30) -> 8925.9 | Q25: =SUM(Q27:Q30) -> 0 | R25: =S25+T25+U25 -> 5500.1 | S25: =SUM(S27:S30) -> 165.1 | T25: =SUM(T27:T30) -> 5335 | U25: =SUM(U27:U30) -> 0 | V25: =J25/F25 -> 0.94
B26: из них
B27: Повышение эффективности службы занятости | C27: 839 | D27: Департамент труда и занятости населения Томской области | E27: 05WP252910 | F27: =G27+H27+I27 -> 10000 | G27: 300 | H27: 9700 | J27: =K27+L27+M27 -> 10000 | K27: 300 | L27: 9700 | N27: =O27+P27+Q27 -> 5500.1 | O27: 165.1 | P27: 5335 | R27: =S27+T27+U27 -> 5500.1 | S27: 165.1 | T27: 5335 | V27: =J27/F27 -> 1
B28: Создание дополнительных мест для детей в возрасте от 1,5 до 3 лет в образовательных организациях, осуществляющих образовательную деятельность по образовательным программам дошкольного образования | C28: 821 | D28: Департамент архитектуры и строительства Томской области | E28: 09WP252320 | F28: =G28+H28+I28 -> 115061.3 | G28: 3448.4 | H28: 111497.8 | I28: 115.1 | J28: =K28+L28+M28 -> 112200.3 | K28: 3362.6 | L28: 108725.5 | M28: 112.2 | N28: =O28+P28+Q28 -> 0 | R28: =S28+T28+U28 -> 0 | V28: =J28/F28 -> 0.975
B29: Создание дополнительных мест для детей в возрасте от 1,5 до 3 лет в образовательных организациях, осуществляющих образовательную деятельность по образовательным программам дошкольного образования | C29: 821 | D29: Департамент архитектуры и строительства Томской области | E29: 09WP252321 | F29: =G29+H29+I29 -> 232038.2 | G29: 154763.4 | I29: 77274.8 | J29: =K29+L29+M29 -> 213346.5 | K29: 154763.4 | M29: 58583.1 | N29: =O29+P29+Q29 -> 0 | R29: =S29+T29+U29 -> 0 | V29: =J29/F29 -> 0.919
B30: Создание дополнительных мест для детей в возрасте от 1,5 до 3 лет любой направленности в организациях, осуществляющих образовательную деятельность (за исключением государственных, муниципальных), и у индивидуальных предпринимателей, осуществляющих образовательную деятельность по образовательным программам дошкольного образования, в том числе адаптированным, и присмотр и уход за детьми | C30: 815 | D30: Департамент общего образования Томской области | E30: 09WP252530 | F30: =G30+H30+I30 -> 0 | J30: =K30+L30+M30 -> 0 | N30: =O30+P30+Q30 -> 3702 | O30: 111.06 | P30: 3590.9 | R30: =S30+T30+U30 -> 0 | S30: 0 | T30: 0 | V30: =J30/F30 -> #DIV/0!
A31: 1.4 | B31: Региональный проект "Финансовая поддержка семей при рождении детей", всего | C31: Х | D31: Х | E31: Х | F31: =G31+H31+I31 -> 1914159.1 | G31: =SUM(G33:G36) -> 202327.6 | H31: =SUM(H33:H36) -> 1711831.5 | I31: =SUM(I33:I36) -> 0 | J31: =K31+L31+M31 -> 1904512.6 | K31: =SUM(K33:K36) -> 192743.3 | L31: =SUM(L33:L36) -> 1711769.3 | M31: =SUM(M33:M36) -> 0 | N31: =O31+P31+Q31 -> 2082467.1 | O31: =SUM(O33:O36) -> 107226 | P31: =SUM(P33:P36) -> 1975241.1 | Q31: =SUM(Q33:Q36) -> 0 | R31: =S31+T31+U31 -> 2178279.7 | S31: =SUM(S33:S36) -> 113235 | T31: =SUM(T33:T36) -> 2065044.7 | U31: =SUM(U33:U36) -> 0 | V31: =J31/F31 -> 0.995
B32: из них
B33: Осуществление ежемесячной денежной выплаты, назначаемой в случае рождения третьего ребенка или последующих детей до достижения ребенком возраста трех лет | C33: 809 | D33: Департамент социальной защиты населения Томской области | E33: 11WP150840 | F33: =G33+H33+I33 -> 553293.7 | G33: 71928.2 | H33: 481365.5 | J33: =K33+L33+M33 -> 553257.7 | K33: 71923.5 | L33: 481334.2 | N33: =O33+P33+Q33 -> 824815.6 | O33: 107226 | P33: 717589.6 | R33: =S33+T33+U33 -> 871038.2 | S33: 113235 | T33: 757803.2 | V33: =J33/F33 -> 1
B34: Осуществление ежемесячной денежной выплаты, назначаемой в случае рождения третьего ребенка или последующих детей до достижения ребенком возраста трех лет, за счет средств резервного фонда Правительства Российской Федерации | C34: 809 | D34: Департамент социальной защиты населения Томской области | E34: 11WP15084F | F34: =G34+H34+I34 -> 13367.7 | G34: 1737.8 | H34: 11629.9 | J34: =K34+L34+M34 -> 13360.6 | K34: 1736.9 | L34: 11623.7 | N34: =O34+P34+Q34 -> 0 | R34: =S34+T34+U34 -> 0 | V34: =J34/F34 -> 0.999
B35: Осуществление ежемесячной выплаты в связи с рождением (усыновлением) первого ребенка | C35: 809 | D35: Департамент социальной защиты населения Томской области | E35: 11WP155730 | F35: =G35+H35+I35 -> 1218836.1 | H35: 1218836.1 | J35: =K35+L35+M35 -> 1218811.4 | L35: 1218811.4 | N35: =O35+P35+Q35 -> 1257651.5 | P35: 1257651.5 | R35: =S35+T35+U35 -> 1307241.5 | T35: 1307241.5 | V35: =J35/F35 -> 1
B36: Ежемесячная денежная выплата нуждающейся в поддержке семье, назначаемая в случае рождения после 31 декабря 2012 года третьего ребенка или последующих детей до достижения ребенком возраста трех лет | C36: 809 | D36: Департамент социальной защиты населения Томской области | E36: 11WP1Д0840 | F36: =G36+H36+I36 -> 128661.6 | G36: 128661.6 | J36: =K36+L36+M36 -> 119082.9 | K36: 119082.9 | N36: =O36+P36+Q36 -> 0 | R36: =S36+T36+U36 -> 0 | V36: =J36/F36 -> 0.926
A37: 2 | B37: Национальный проект "Здравоохранение" | C37: Х | D37: Х | E37: Х | F37: =G37+H37+I37 -> 3769643.2 | G37: =G38+G42+G46+G54+G57 -> 797408.8 | H37: =H38+H42+H46+H54+H57 -> 2972234.4 | I37: =I38+I42+I46+I54+I57 -> 0 | J37: =K37+L37+M37 -> 2764742.1 | K37: =K38+K42+K46+K54+K57 -> 664413.1 | L37: =L38+L42+L46+L54+L57 -> 2100329 | M37: =M38+M42+M46+M54+M57 -> 0 | N37: =O37+P37+Q37 -> 1266859 | O37: =O38+O42+O46+O54+O57 -> 191286.3 | P37: =P38+P42+P46+P54+P57 -> 1075572.7 | Q37: =Q38+Q42+Q46+Q54+Q57 -> 0 | R37: =S37+T37+U37 -> 1317986.5 | S37: =S38+S42+S46+S54+S57 -> 163759.4 | T37: =T38+T42+T46+T54+T57 -> 1154227.1 | U37: =U38+U42+U46+U54+U57 -> 0 | V37: =J37/F37 -> 0.733
A38: 2.1 | B38: Региональный проект "Развитие системы оказания первичной медико-санитарной помощи", всего | C38: Х | D38: Х | E38: Х | F38: =G38+H38+I38 -> 366990.3 | G38: =SUM(G40:G41) -> 266925.1 | H38: =SUM(H40:H41) -> 100065.2 | I38: =SUM(I40:I41) -> 0 | J38: =K38+L38+M38 -> 366990.3 | K38: =SUM(K40:K41) -> 266925.1 | L38: =SUM(L40:L41) -> 100065.2 | M38: =SUM(M40:M41) -> 0 | N38: =O38+P38+Q38 -> 226690.3 | O38: =SUM(O40:O41) -> 139352.6 | P38: =SUM(P40:P41) -> 87337.7 | Q38: =SUM(Q40:Q41) -> 0 | R38: =S38+T38+U38 -> 226690.3 | S38: =SUM(S40:S41) -> 121119.4 | T38: =SUM(T40:T41) -> 105570.9 | U38: =SUM(U40:U41) -> 0 | V38: =J38/F38 -> 1
B39: из них
B40: Обеспечение закупки авиационных работ в целях оказания медицинской помощи | C40: 811 | D40: Департамент здравоохранения Томской области | E40: 07WN155540 | F40: =G40+H40+I40 -> 198000 | G40: 97934.8 | H40: 100065.2 | J40: =K40+L40+M40 -> 198000 | K40: 97934.8 | L40: 100065.2 | N40: =O40+P40+Q40 -> 198000 | O40: 110662.3 | P40: 87337.7 | R40: =S40+T40+U40 -> 198000 | S40: 92429.1 | T40: 105570.9 | V40: =J40/F40 -> 1
B41: Оказание медицинской помощи с применением санитарной авиации | C41: 811 | D41: Департамент здравоохранения Томской области | E41: 07WN1Д5540 | F41: =G41+H41+I41 -> 168990.3 | G41: 168990.3 | J41: =K41+L41+M41 -> 168990.3 | K41: 168990.3 | N41: =O41+P41+Q41 -> 28690.3 | O41: 28690.3 | R41: =S41+T41+U41 -> 28690.3 | S41: 28690.3 | V41: =J41/F41 -> 1
...

Sheet Лист2
A1: Информация о плановых ассигнованиях и кассовом исполнении расходов консолидированного бюджета Томской области на реализацию региональных проектов Томской области по состоянию на 01.08.2021
A4: № п/п | B4: Наименование | C4: 2021 год | D4: 2021 год | E4: % исполнения | F4: ФИО сотрудника Депатамента Финансов Томской области | G4: Описание процента исполнения | I4: № п/п | J4: Наименование | K4: Плановые ассигнования | L4: На 01.08.2021 | N4: На 20.08.2021
L5: исполнено | M5: % исполнения | N5: исполнено | O5: % исполнения
B6: ВСЕГО: | C6: =Лист1!F8/1000 -> 18035.4 | D6: =Лист1!J8/1000 -> 14573.1 | E6: =Лист1!V8 -> 0.808 | J6: ВСЕГО: | K6: =C6 -> 18035.4 | L6: =D6 -> 14573.1 | M6: =L6/K6*100 -> 80.8 | N6: 5306.5 | O6: =N6/K6 -> 0.294 | P6: =N6-L6 -> -9266.6
A7: 1 | B7: Национальный проект "Безопасные и качественные автомобильные дороги" | C7: =Лист1!F147/1000 -> 6406.2 | D7: =Лист1!J147/1000 -> 6368.3 | E7: =Лист1!V147/1000 -> 0.001 | I7: 1 | J7: Национальный проект "Безопасные и качественные автомобильные дороги" | K7: =C7 -> 6406.2 | L7: =D7 -> 6368.3 | M7: =L7/K7*100 -> 99.4 | N7: 1692.4 | O7: =N7/K7 -> 0.264 | P7: =N7-L7 -> -4675.9
A8: 2 | B8: Национальный проект "Демография" | C8: =Лист1!F9/1000 -> 2505.9 | D8: =Лист1!J9/1000 -> 2472.1 | E8: =Лист1!V9/1000 -> 0.001 | I8: 2 | J8: Национальный проект "Демография" | K8: =C8 -> 2505.9 | L8: =D8 -> 2472.1 | M8: =L8/K8*100 -> 98.7 | N8: 2032.2 | O8: =N8/K8 -> 0.811 | P8: =N8-L8 -> -439.9
A9: 3 | B9: Национальный проект "Здравоохранение" | C9: =Лист1!F37/1000 -> 3769.6 | D9: =Лист1!J37/1000 -> 2764.7 | E9: =Лист1!V37/1000 -> 0.001 | I9: 3 | J9: Национальный проект "Здравоохранение" | K9: =C9 -> 3769.6 | L9: =D9 -> 2764.7 | M9: =L9/K9*100 -> 73.3 | N9: 350.4 | O9: =N9/K9 -> 0.093 | P9: =N9-L9 -> -2414.3
A10: 4 | B10: Национальный проект "Жилье и городская среда" | C10: =Лист1!F118/1000 -> 3597.3 | D10: =Лист1!J118/1000 -> 1622.6 | E10: =Лист1!V118/1000 -> 0 | I10: 5 | J10: Национальный проект "Жилье и городская среда" | K10: =C10 -> 3597.3 | L10: =D10 -> 1622.6 | M10: =L10/K10*100 -> 45.1 | N10: 548.5 | O10: =N10/K10 -> 0.152 | P10: =N10-L10 -> -1074.1
A11: 5 | B11: Национальный проект "Образование" | C11: =Лист1!F69/1000 -> 1324.6 | D11: =Лист1!J69/1000 -> 954.3 | E11: =Лист1!V69/1000 -> 0.001 | I11: 4 | J11: Национальный проект "Образование" | K11: =C11 -> 1324.6 | L11: =D11 -> 954.3 | M11: =L11/K11*100 -> 72 | N11: 355 | O11: =N11/K11 -> 0.268 | P11: =N11-L11 -> -599.3
A12: 6 | B12: Национальный проект "Экология" | C12: =Лист1!F134/1000 -> 42.1 | D12: =Лист1!J134/1000 -> 22 | E12: =Лист1!V134/1000 -> 0.001 | I12: 6 | J12: Национальный проект "Экология" | K12: =C12 -> 42.1 | L12: =D12 -> 22 | M12: =L12/K12*100 -> 52.3 | N12: 120.2 | O12: =N12/K12 -> 2.855 | P12: =N12-L12 -> 98.2
A13: 7 | B13: Национальный проект "Малое и среднее предпринимательство и поддержка индивидуальной предпринимательской инициативы" | C13: =Лист1!F185/1000 -> 148 | D13: =Лист1!J185/1000 -> 146.5 | E13: =Лист1!V185/1000 -> 0.001 | I13: 7 | J13: Национальный проект "Малое и среднее предпринимательство и поддержка индивидуальной предпринимательской инициативы" | K13: =C13 -> 148 | L13: =D13 -> 146.5 | M13: =L13/K13*100 -> 99 | N13: 145.1 | O13: =N13/K13 -> 0.98 | P13: =N13-L13 -> -1.4
A14: 8 | B14: Национальный проект "Культура" | C14: =Лист1!F164/1000 -> 173.8 | D14: =Лист1!J164/1000 -> 154.8 | E14: =Лист1!V164/1000 -> 0.001 | I14: 8 | J14: Национальный проект "Культура" | K14: =C14 -> 173.8 | L14: =D14 -> 154.8 | M14: =L14/K14*100 -> 89.1 | N14: 46 | O14: =N14/K14 -> 0.265 | P14: =N14-L14 -> -108.8
A15: 9 | B15: Национальный проект "Цифровая экономика" | C15: =Лист1!F109/1000 -> 9.5 | D15: =Лист1!J109/1000 -> 9.5 | E15: =Лист1!V109/1000 -> 0.001 | I15: 9 | J15: Национальный проект "Цифровая экономика" | K15: =C15 -> 9.5 | L15: =D15 -> 9.5 | M15: =L15/K15*100 -> 100 | N15: 4.3 | O15: =N15/K15 -> 0.453 | P15: =N15-L15 -> -5.2
A16: 10 | B16: Национальный проект "Международная кооперация и экспорт" | C16: =Лист1!F211/1000 -> 35.9 | D16: =Лист1!J211/1000 -> 35.9 | E16: =Лист1!V211/1000 -> 0.001 | I16: 10 | J16: Национальный проект "Международная кооперация и экспорт" | K16: =C16 -> 35.9 | L16: =D16 -> 35.9 | M16: =L16/K16*100 -> 100 | N16: 0 | O16: =N16/K16 -> 0 | P16: =N16-L16 -> -35.9
A17: 11 | B17: Национальный проект "Производительность труда и поддержка занятости" | C17: =Лист1!F203/1000 -> 22.3 | D17: =Лист1!J203/1000 -> 22.3 | E17: =Лист1!V203/1000 -> 0.001 | I17: 11 | J17: Национальный проект "Производительность труда и поддержка занятости" | K17: =C17 -> 22.3 | L17: =D17 -> 22.3 | M17: =L17/K17*100 -> 100 | N17: 12.4 | O17: =N17/K17 -> 0.556 | P17: =N17-L17 -> -9.9
D19: 4395 | K19: =N19-D19 -> 672.3 | N19: 5067.3
