Workbook

Sheet Лист1
B1: Информация о плановых ассигнованиях и кассовом исполнении расходов консолидированного бюджета Томской области на реализацию региональных проектов Томской области по состоянию на 01.11.2019
A4: № п/п | B4: Наименование | C4: Код ГРБС | D4: Наименование ГРБС | E4: Код целевой статьи областного бюджета | F4: 2019 год | N4: 2020 год | R4: 2021 год | V4: % исполнения
F5: Плановые ассигнования*, в том числе | J5: Кассовое исполнение, в том числе | N5: Плановые ассигнования*, в том числе | R5: Плановые ассигнования*, в том числе
F6: ИТОГО | G6: за счет средств областного бюджета | H6: за счет средств федерального бюджета | I6: за счет средств местного бюджета** | J6: ИТОГО | K6: за счет средств областного бюджета | L6: за счет средств федерального бюджета | M6: за счет средств местного бюджета** | N6: ИТОГО | O6: за счет средств областного бюджета | P6: за счет средств федерального бюджета | Q6: за счет средств местного бюджета** | R6: ИТОГО | S6: за счет средств областного бюджета | T6: за счет средств федерального бюджета | U6: за счет средств местного бюджета**
A7: 1 | B7: 2 | C7: 3 | D7: 4 | E7: 5 | F7: 6 | G7: 7 | H7: 8 | I7: 9 | J7: 10 | K7: 11 | L7: 12 | M7: 13 | N7: 14 | O7: 15 | P7: 16 | Q7: 17 | R7: 18 | S7: 19 | T7: 20 | U7: 21 | V7: 22
B8: ВСЕГО: | F8: =F9+F41+F67+F102+F125+F137+F152+F156+F168+F188 -> 10207898 | G8: =G9+G41+G67+G102+G125+G137+G152+G156+G168+G188 -> 3426109.4 | H8: =H9+H41+H67+H102+H125+H137+H152+H156+H168+H188 -> 6201772.9 | I8: =I9+I41+I67+I102+I125+I137+I152+I156+I168+I188 -> 580015.4 | J8: =J9+J41+J67+J102+J125+J137+J152+J156+J168+J188 -> 6369966.2 | K8: =K9+K41+K67+K102+K125+K137+K152+K156+K168+K188 -> 2370003.2 | L8: =L9+L41+L67+L102+L125+L137+L152+L156+L168+L188 -> 3679767.9 | M8: =M9+M41+M67+M102+M125+M137+M152+M156+M168+M188 -> 320195 | ... U8: =U9+U41+U67+U102+U125+U137+U152+U156+U168+U188 -> 460211.1 | V8: =J8/F8 -> 0.624
A9: 1 | B9: Национальный проект "Демография" | C9: Х | D9: Х | E9: Х | F9: =F10+F20+F30+F34+F38 -> 2987622.6 | G9: =G10+G20+G30+G34+G38 -> 1573700 | H9: =H10+H20+H30+H34+H38 -> 1369595.5 | I9: =I10+I20+I30+I34+I38 -> 44327.1 | J9: =J10+J20+J30+J34+J38 -> 1296484.1 | K9: =K10+K20+K30+K34+K38 -> 783958.9 | L9: =L10+L20+L30+L34+L38 -> 486127.6 | M9: =M10+M20+M30+M34+M38 -> 26397.6 | ... U9: =U10+U20+U30+U34+U38 -> 5999.9 | V9: =J9/F9 -> 0.434
A10: 1.1 | B10: Региональный проект "Старшее поколение", всего | C10: Х | D10: Х | E10: Х | F10: =SUM(G10:I10) -> 348818.5 | G10: =SUM(G12:G19) -> 15119.7 | H10: =SUM(H12:H19) -> 333698.8 | I10: =SUM(I12:I19) -> 0 | J10: =SUM(K10:M10) -> 147427.1 | K10: =SUM(K12:K19) -> 5444.8 | L10: =SUM(L12:L19) -> 141982.3 | M10: =SUM(M12:M19) -> 0 | N10: =SUM(O10:Q10) -> 260053.7 | O10: =SUM(O12:O19) -> 7939.8 | P10: =SUM(P12:P19) -> 252113.9 | Q10: =SUM(Q12:Q19) -> 0 | R10: =SUM(S10:U10) -> 89065.4 | S10: =SUM(S12:S19) -> 3030.3 | T10: =SUM(T12:T19) -> 86035.1 | U10: =SUM(U12:U19) -> 0 | V10: =J10/F10 -> 0.423
B11: из них
A12: 024 | B12: Организация профессионального обучения и дополнительного профессионального образования лиц предпенсионного возраста | C12: 839 | D12: Департамент труда и занятости населения Томской области | E12: 051P352940 | F12: =SUM(G12:I12) -> 25141.7 | G12: 1257.1 | H12: 23884.6 | J12: =SUM(K12:M12) -> 4814.9 | K12: 240.8 | L12: 4574.1 | N12: =SUM(O12:Q12) -> 23985.9 | O12: 1199.3 | P12: 22786.6 | R12: =SUM(S12:U12) -> 23985.9 | S12: 1199.3 | T12: 22786.6 | V12: =J12/F12 -> 0.192
A13: 024 | B13: Возмещение затрат работодателям на профессиональное обучение и дополнительное профессиональное образование работников из числа лиц предпенсионного возраста | C13: 839 | D13: Департамент труда и занятости населения Томской области | E13: 051P352941 | F13: =SUM(G13:I13) -> 3481.5 | G13: 174.1 | H13: 3307.4 | J13: =SUM(K13:M13) -> 818.2 | K13: 40.9 | L13: 777.3 | N13: =SUM(O13:Q13) -> 4637.3 | O13: =231.9 -> 231.9 | P13: =4405.4 -> 4405.4 | R13: =SUM(S13:U13) -> 4637.3 | S13: 231.9 | T13: 4405.4 | V13: =J13/F13 -> 0.235
A14: 024 | B14: Проведение дополнительных скринингов лицам старше 65 лет, проживающим в сельской местности, на выявление отдельных социально значимых неинфекционных заболеваний, оказывающих вклад в структуру смертности населения, с возможностью доставки данных лиц в медицинские организации | C14: 811 | D14: Департамент здравоохранения Томской области | E14: 071P352950 | F14: =SUM(G14:I14) -> 0 | J14: =SUM(K14:M14) -> 0 | N14: =SUM(O14:Q14) -> 27312.6 | P14: 27312.6 | R14: =SUM(S14:U14) -> 7245 | T14: 7245
B15: Организация деятельности мобильных бригад по доставке лиц старше 65 лет, проживающих в сельской местности, в медицинские организации | C15: 809 | D15: Департамент социальной защиты населения Томской области | E15: 112P352931 | F15: =SUM(G15:I15) -> 3539.6 | G15: 3539.6 | J15: =SUM(K15:M15) -> 627.4 | K15: 627.4 | N15: =SUM(O15:Q15) -> 0 | R15: =SUM(S15:U15) -> 0 | V15: =J15/F15 -> 0.177
A16: 024 | B16: Проведение вакцинации против пневмококковой инфекции граждан старше трудоспособного возраста из групп риска, проживающих в организациях социального обслуживания | C16: 811 | D16: Департамент здравоохранения Томской области | E16: 071P354680 | F16: =SUM(G16:I16) -> 1634.4 | H16: 1634.4 | J16: =SUM(K16:M16) -> 1625.5 | L16: 1625.5 | N16: =SUM(O16:Q16) -> 163.7 | P16: 163.7 | R16: =SUM(S16:U16) -> 163.5 | T16: 163.5 | V16: =J16/F16 -> 0.995
A17: 022 | B17: Финансовое обеспечение программ, направленных на обеспечение безопасных и комфортных условий предоставления социальных услуг в сфере социального обслуживания | C17: 821 | D17: Департамент архитектуры и строительства Томской области | E17: 112P351210 | F17: =SUM(G17:I17) -> 292352.1 | G17: =8753.1+581.5 -> 9334.6 | H17: 283017.5 | J17: =SUM(K17:M17) -> 118130.8 | K17: 3721.4 | L17: 114409.4 | N17: =SUM(O17:Q17) -> 203954.2 | O17: =203954.2-197445.6 -> 6508.6 | P17: 197445.6 | R17: =SUM(S17:U17) -> 53033.7 | S17: =4047.7+32717+16269-51434.6 -> 1599.1 | T17: 51434.6 | V17: =J17/F17 -> 0.404
A18: 024 | B18: Приобретение автотранспорта | C18: 809 | D18: Департамент социальной защиты населения Томской области | E18: 112P352930 | F18: =SUM(G18:I18) -> 22669.2 | G18: =675.9+138.4 -> 814.3 | H18: 21854.9 | J18: =SUM(K18:M18) -> 21410.3 | K18: 814.3 | L18: 20596 | N18: =SUM(O18:Q18) -> 0 | R18: =SUM(S18:U18) -> 0 | V18: =J18/F18 -> 0.944
B19: Бюджетные ассигнования на объекты капитального строительства государственной собственности в сфере социального обслуживания населения | C19: 821 | D19: Департамент архитектуры и строительства Томской области | E19: 112P30И000 | F19: =SUM(G19:I19) -> 0 | G19: =581.5-581.5 -> 0 | J19: =SUM(K19:M19) -> 0 | N19: =SUM(O19:Q19) -> 0 | O19: =402-402 -> 0 | R19: =SUM(S19:U19) -> 0 | S19: =8.3-8.3 -> 0
A20: 1.2 | B20: Региональный проект "Спорт - норма жизни", всего | C20: Х | D20: Х | E20: Х | F20: =SUM(G20:I20) -> 268790.6 | G20: =SUM(G22:G29) -> 205926.2 | H20: =SUM(H22:H29) -> 19758.1 | I20: =SUM(I22:I29) -> 43106.3 | J20: =SUM(K20:M20) -> 182507.4 | K20: =SUM(K22:K29) -> 156109.8 | L20: =SUM(L22:L29) -> 0 | M20: =SUM(M22:M29) -> 26397.6 | N20: =SUM(O20:Q20) -> 167301.8 | O20: =SUM(O22:O29) -> 111731.6 | P20: =SUM(P22:P29) -> 35381.9 | Q20: =SUM(Q22:Q29) -> 20188.3 | R20: =SUM(S20:U20) -> 315551.8 | S20: =SUM(S22:S29) -> 82654.8 | T20: =SUM(T22:T29) -> 226897.1 | U20: =SUM(U22:U29) -> 5999.9 | V20: =J20/F20 -> 0.679
B21: из них
A22: 022 | B22: Оснащение объектов спортивной инфраструктуры спортивно-технологическим оборудованием | C22: 813 | D22: Департамент по молодежной политике, физической культуре и спорту Томской области | E22: 081P552280 | F22: =SUM(G22:I22) -> 20999.5 | G22: 611.1 | H22: 19758.1 | I22: 630.3 | J22: =SUM(K22:M22) -> 0 | N22: =SUM(O22:Q22) -> 10703 | O22: 321.1 | P22: 10381.9 | R22: =SUM(S22:U22) -> 6889.4 | S22: 206.7 | T22: 6682.7 | V22: =J22/F22 -> 0
B23: Строительство универсальных спортивных площадок в муниципальных образованиях Томской области | C23: 821 | D23: Департамент архитектуры и строительства Томской области | E23: 083P54И380 | F23: =SUM(G23:I23) -> 33564.4 | G23: 25122.7 | I23: 8441.7 | J23: =SUM(K23:M23) -> 9610.7 | K23: 8845.7 | M23: 765 | N23: =SUM(O23:Q23) -> 0 | R23: =SUM(S23:U23) -> 0 | V23: =J23/F23 -> 0.286
B24: Капитальный ремонт муниципальных спортивных сооружений | C24: 821 | D24: Департамент архитектуры и строительства Томской области | E24: 083P540370 | F24: =SUM(G24:I24) -> 98574.4 | G24: 79000 | I24: 19574.4 | J24: =SUM(K24:M24) -> 71655.9 | K24: 57138.7 | M24: 14517.2 | N24: =SUM(O24:Q24) -> 49188.4 | O24: 35000 | Q24: 14188.4 | R24: =SUM(S24:U24) -> 0 | V24: =J24/F24 -> 0.727
B25: Приобретение спортивного оборудования и инвентаря для приведения организаций спортивной подготовки в нормативное состояние | C25: 813 | D25: Департамент по молодежной политике, физической культуре и спорту Томской области | E25: 082P552290 | F25: =SUM(G25:I25) -> 0 | J25: =SUM(K25:M25) -> 0 | N25: =SUM(O25:Q25) -> 25773.2 | O25: 773.2 | P25: 25000 | R25: =SUM(S25:U25) -> 44329.9 | S25: 1329.9 | T25: 43000
B26: Создание и модернизация объектов спортивной инфраструктуры муниципальной собственности для занятий физической культурой и спортом | C26: 821 | D26: Департамент архитектуры и строительства Томской области | E26: 083P551390 | F26: =SUM(G26:I26) -> 0 | J26: =SUM(K26:M26) -> 0 | N26: =SUM(O26:Q26) -> 0 | R26: =SUM(S26:U26) -> 182695.3 | S26: 5480.9 | T26: 177214.4
B27: Приобретение оборудования для малобюджетных спортивных площадок по месту жительства и учебы в муниципальных образованиях Томской области, за исключением муниципального образования "Город Томск", муниципального образования "Городской округ закрытое административно-территориальное образование Северск Томской области" | C27: 813 | D27: Департамент по молодежной политике, физической культуре и спорту Томской области | E27: 081P500001 | F27: =SUM(G27:I27) -> 10014.7 | G27: 9000 | I27: 1014.7 | J27: =SUM(K27:M27) -> 9974.9 | K27: 9000 | M27: 974.9 | N27: =SUM(O27:Q27) -> 9090 | O27: 9000 | Q27: 90 | R27: =SUM(S27:U27) -> 9090 | S27: 9000 | U27: 90 | V27: =J27/F27 -> 0.996
B28: Приобретение спортивного инвентаря и оборудования для спортивных школ | C28: 813 | D28: Департамент по молодежной политике, физической культуре и спорту Томской области | E28: 082P500002 | F28: =SUM(G28:I28) -> 31425.4 | G28: 30000 | I28: 1425.4 | J28: =SUM(K28:M28) -> 28627.7 | K28: 28094.6 | M28: 533.1 | N28: =SUM(O28:Q28) -> 10000 | O28: 10000 | R28: =SUM(S28:U28) -> 10000 | S28: 10000 | V28: =J28/F28 -> 0.911
B29: Обеспечение условий для развития физической культуры и массового спорта | C29: 813 | D29: Департамент по молодежной политике, физической культуре и спорту Томской области | E29: 081P500003 | F29: =SUM(G29:I29) -> 74212.2 | G29: 62192.4 | I29: 12019.8 | J29: =SUM(K29:M29) -> 62638.2 | K29: 53030.8 | M29: 9607.4 | N29: =SUM(O29:Q29) -> 62547.2 | O29: 56637.3 | Q29: 5909.9 | R29: =SUM(S29:U29) -> 62547.2 | S29: 56637.3 | U29: 5909.9 | V29: =J29/F29 -> 0.844
A30: 1.3 | B30: Региональный проект "Содействие занятости женщин - создание условий дошкольного образования для детей в возрасте до трех лет", всего | C30: Х | D30: Х | E30: Х | F30: =SUM(G30:I30) -> 1220692.8 | G30: =SUM(G32:G33) -> 572787.3 | H30: =SUM(H32:H33) -> 646684.7 | I30: =SUM(I32:I33) -> 1220.8 | J30: =SUM(K30:M30) -> 0 | K30: =SUM(K32:K33) -> 0 | L30: =SUM(L32:L33) -> 0 | M30: =SUM(M32:M33) -> 0 | N30: =SUM(O30:Q30) -> 613603.1 | O30: =SUM(O32:O33) -> 339568.5 | P30: =SUM(P32:P33) -> 274034.6 | Q30: =SUM(Q32:Q33) -> 0 | R30: =SUM(S30:U30) -> 1229501.3 | S30: =SUM(S32:S33) -> 356541 | T30: =SUM(T32:T33) -> 872960.3 | U30: =SUM(U32:U33) -> 0 | V30: =J30/F30 -> 0
B31: из них
A32: 024 | B32: Создание дополнительных мест для детей в возрасте от 2 месяцев до 3 лет в образовательных организациях, осуществляющих образовательную деятельность по образовательным программам дошкольного образования | C32: 821 | D32: Департамент архитектуры и строительства Томской области | E32: 092P251590 | F32: =SUM(G32:I32) -> 413521.4 | G32: 247570.3 | H32: 165537.6 | I32: 413.5 | J32: =SUM(K32:M32) -> 0 | N32: =SUM(O32:Q32) -> 0 | R32: =SUM(S32:U32) -> 0 | V32: =J32/F32 -> 0
A33: 022 | B33: Создание дополнительных мест для детей в возрасте от 1,5 до 3 лет в образовательных организациях, осуществляющих образовательную деятельность по образовательным программам дошкольного образования | C33: 821 | D33: Департамент архитектуры и строительства Томской области | E33: 092P252320 | F33: =SUM(G33:I33) -> 807171.4 | G33: 325217 | H33: 481147.1 | I33: 807.3 | J33: =SUM(K33:M33) -> 0 | N33: =SUM(O33:Q33) -> 613603.1 | O33: =98303.6+241264.9 -> 339568.5 | P33: 274034.6 | R33: =SUM(S33:U33) -> 1229501.3 | S33: 356541 | T33: 872960.3 | V33: =J33/F33 -> 0
A34: 1.4 | B34: Региональный проект "Финансовая поддержка семей при рождении детей", всего | C34: Х | D34: Х | E34: Х | F34: =SUM(G34:I34) -> 1145620.7 | G34: =SUM(G36:G37) -> 776166.8 | H34: =SUM(H36:H37) -> 369453.9 | I34: =SUM(I36:I37) -> 0 | J34: =SUM(K34:M34) -> 963030 | K34: =SUM(K36:K37) -> 618884.7 | L34: =SUM(L36:L37) -> 344145.3 | M34: =SUM(M36:M37) -> 0 | N34: =SUM(O34:Q34) -> 1064287.3 | O34: =SUM(O36:O37) -> 776166.8 | P34: =SUM(P36:P37) -> 288120.5 | Q34: =SUM(Q36:Q37) -> 0 | R34: =SUM(S34:U34) -> 1066542.6 | S34: =SUM(S36:S37) -> 776166.8 | T34: =SUM(T36:T37) -> 290375.8 | U34: =SUM(U36:U37) -> 0 | V34: =J34/F34 -> 0.841
B35: из них
A36: 023 | B36: Осуществление ежемесячной выплаты в связи с рождением (усыновлением) первого ребенка | C36: 809 | D36: Департамент социальной защиты населения Томской области | E36: 111P155730 | F36: =SUM(G36:I36) -> 369453.9 | H36: 369453.9 | J36: =SUM(K36:M36) -> 344145.3 | L36: 344145.3 | N36: =SUM(O36:Q36) -> 288120.5 | P36: 288120.5 | R36: =SUM(S36:U36) -> 290375.8 | T36: 290375.8 | V36: =J36/F36 -> 0.931
B37: Осуществление ежемесячной денежной выплаты, назначаемой в случае рождения третьего ребенка или последующих детей до достижения ребенком возраста трех лет | C37: 809 | D37: Департамент социальной защиты населения Томской области | E37: 111P1Д0840 | F37: =SUM(G37:I37) -> 776166.8 | G37: 776166.8 | J37: =SUM(K37:M37) -> 618884.7 | K37: 618884.7 | N37: =SUM(O37:Q37) -> 776166.8 | O37: 776166.8 | R37: =SUM(S37:U37) -> 776166.8 | S37: 776166.8 | V37: =J37/F37 -> 0.797
A38: 1.5 | B38: Региональный проект "Укрепление общественного здоровья" | C38: Х | D38: Х | E38: Х | F38: =F40 -> 3700 | G38: =G40 -> 3700 | H38: =H40 -> 0 | I38: =I40 -> 0 | J38: =J40 -> 3519.6 | K38: =K40 -> 3519.6 | L38: =L40 -> 0 | M38: =M40 -> 0 | ... U38: =U40 -> 0 | V38: =J38/F38 -> 0.951
B39: из них
B40: Создание и демонстрация рекламно - информационных материалов в СМИ, сети "Интернет", в медицинских организациях и общественных местах, разработка печатной продукции по формированию здорового образа жизни | C40: 811 | D40: Департамент здравоохранения Томской области | E40: 071P4Д0003 | F40: =G40 -> 3700 | G40: 3700 | J40: =K40 -> 3519.6 | K40: 3519.6 | N40: =O40 -> 3700 | O40: 3700 | R40: =S40 -> 3700 | S40: 3700 | V40: =J40/F40 -> 0.951
A41: 2 | B41: Национальный проект "Здравоохранение" | C41: Х | D41: Х | E41: Х | F41: =F42+F50+F54+F58+F62 -> 1216123.5 | G41: =G42+G50+G54+G58+G62 -> 266674 | H41: =H42+H50+H54+H58+H62 -> 949449.5 | I41: =I42+I50+I54+I58+I62 -> 0 | J41: =J42+J50+J54+J58+J62 -> 569086.8 | K41: =K42+K50+K54+K58+K62 -> 166792.3 | L41: =L42+L50+L54+L58+L62 -> 402294.5 | M41: =M42+M50+M54+M58+M62 -> 0 | ... U41: =U42+U50+U54+U58+U62 -> 0 | V41: =J41/F41 -> 0.468
A42: 2.1 | B42: Региональный проект "Развитие системы оказания первичной медико-санитарной помощи", всего | C42: Х | D42: Х | E42: Х | F42: =SUM(G42:I42) -> 282225.8 | G42: =SUM(G44:G49) -> 135045 | H42: =SUM(H44:H49) -> 147180.8 | I42: =SUM(I44:I49) -> 0 | J42: =SUM(K42:M42) -> 273261.6 | K42: =SUM(K44:K49) -> 134665 | L42: =SUM(L44:L49) -> 138596.6 | M42: =SUM(M44:M49) -> 0 | N42: =SUM(O42:Q42) -> 198221.5 | O42: =SUM(O44:O49) -> 90100 | P42: =SUM(P44:P49) -> 108121.5 | Q42: =SUM(Q44:Q49) -> 0 | R42: =SUM(S42:U42) -> 263859.3 | S42: =SUM(S44:S49) -> 96000 | T42: =SUM(T44:T49) -> 167859.3 | U42: =SUM(U44:U49) -> 0 | V42: =J42/F42 -> 0.968
...

Sheet Лист4
A1: **.*.P*.*****,**.*.N*.*****,**.*.E*.*****,**.*.F*.*****,**.*.G*.*****,**.*.R*.*****,**.*.L*.*****,**.*.D*.*****,**.*.A*.*****,**.*.I*.*****

Sheet Лист2
A1: № п/п | B1: Наименование | C1: Плановые ассигнования | D1: Кассовое исполнение | E1: % исполнения | F1: =Лист1!H3 -> 0 | G1: =Лист1!K3 -> 0
B2: ВСЕГО: | C2: =SUM(C3:C12) -> 9.628 | D2: =SUM(D3:D12) -> 6.049 | E2: =D2/C2 -> 0.628 | F2: =SUM(F3:F12) -> 9.628 | G2: =SUM(G3:G12) -> 6.049
A3: 1 | B3: Национальный проект "Демография" | C3: =SUM(Лист1!G9:H9)/1000000 -> 2.943 | D3: =SUM(Лист1!K9:L9)/1000000 -> 1.27 | E3: 0.371 | F3: 2.943 | G3: 1.27
A4: 2 | B4: Национальный проект "Здравоохранение" | C4: =SUM(Лист1!G41:H41)/1000000 -> 1.216 | D4: =SUM(Лист1!K41:L41)/1000000 -> 0.569 | E4: 0.333 | F4: 1.216 | G4: 0.569
A5: 3 | B5: Национальный проект "Образование" | C5: =SUM(Лист1!G67:H67)/1000000 -> 1.48 | D5: =SUM(Лист1!K67:L67)/1000000 -> 1.253 | E5: 0.81 | F5: 1.48 | G5: 1.253
A6: 4 | B6: Национальный проект "Цифровая экономика" | C6: =SUM(Лист1!G102:H102)/1000000 -> 0.114 | D6: =SUM(Лист1!K102:L102)/1000000 -> 0.068 | E6: 0.47 | F6: 0.114 | G6: 0.068
A7: 5 | B7: Национальный проект "Жилье и городская среда" | C7: =SUM(Лист1!G125:H125)/1000000 -> 0.989 | D7: =SUM(Лист1!K125:L125)/1000000 -> 0.228 | E7: 0.149 | F7: 0.989 | G7: 0.228
A8: 6 | B8: Национальный проект "Экология" | C8: =SUM(Лист1!G137:H137)/1000000 -> 0.164 | D8: =SUM(Лист1!K137:L137)/1000000 -> 0.063 | E8: 0.337 | F8: 0.164 | G8: 0.063
A9: 7 | B9: Национальный проект "Безопасные и качественные автомобильные дороги" | C9: =SUM(Лист1!G152:H152)/1000000 -> 2.292 | D9: =SUM(Лист1!K152:L152)/1000000 -> 2.288 | E9: 0.874 | F9: 2.292 | G9: 2.288
A10: 8 | B10: Национальный проект "Культура" | C10: =SUM(Лист1!G156:H156)/1000000 -> 0.132 | D10: =SUM(Лист1!K156:L156)/1000000 -> 0.097 | E10: 0.668 | F10: 0.132 | G10: 0.097
A11: 9 | B11: Национальный проект "Малое и среднее предпринимательство и поддержка индивидуальной предпринимательской инициативы" | C11: =SUM(Лист1!G168:H168)/1000000 -> 0.213 | D11: =SUM(Лист1!K168:L168)/1000000 -> 0.197 | E11: 0.944 | F11: 0.213 | G11: 0.197
A12: 10 | B12: Национальный проект "Производительность труда и поддержка занятости" | C12: =SUM(Лист1!G188:H188)/1000000 -> 0.085 | D12: =SUM(Лист1!K188:L188)/1000000 -> 0.016 | E12: 0.175 | F12: 0.085 | G12: 0.016

Sheet Лист3
A3: КЦСР | B3: Наименование КЦСР | C3: Ассигнования 2019 год | D3: Всего выбытий (бух.уч.)
A4: 024D500400 | B4: Финансовое обеспечение затрат, возникающих при реализации проекта "Цифровые технологии" | C4: 56878282 | D4: 35000000 | E4: 56878.3 | F4: 35000 | G4: 024D500400 | H4: =G4=A4 -> TRUE | I4: =C4/1000-E4 -> 0 | J4: =D4/1000-F4 -> 0
A5: 031I455271 | B5: Развитие и обеспечение деятельности Гарантийного фонда Томской области | C5: 16405052 | D5: 12292062 | E5: 16405.1 | F5: 12292.1 | G5: 031I455271 | H5: =G5=A5 -> TRUE | I5: =C5/1000-E5 -> 0 | J5: =D5/1000-F5 -> 0
A6: 031I555270 | B6: Государственная поддержка малого и среднего предпринимательства в субъектах Российской Федерации | C6: 1.1439031e+08 | D6: 1.1439031e+08 | E6: 114390.3 | F6: 114390.3 | G6: 031I555270 | H6: =G6=A6 -> TRUE | I6: =C6/1000-E6 -> 0 | J6: =D6/1000-F6 -> 0 | K6: 071P352950
A7: 031I555272 | B7: Субсидии бюджетам монопрофильных муниципальных образований для оказания финансовой поддержки субъектам малого и среднего предпринимательства, занимающихся социально значимыми видами деятельности | C7: 10309278 | D7: 0 | E7: 10309.3 | F7: 0 | G7: 031I555272 | H7: =G7=A7 -> TRUE | I7: =C7/1000-E7 -> 0 | J7: =D7/1000-F7 -> 0
A8: 031I555273 | B8: Организация оказания комплекса услуг, сервисов и мер поддержки субъектам малого и среднего предпринимательства в центре "Мой бизнес" - Центре кластерного развития Томской области | C8: 7628886.6 | D8: 7628866 | E8: 7628.9 | F8: 7628.9 | G8: 031I555273 | H8: =G8=A8 -> TRUE | I8: =C8/1000-E8 -> 0 | J8: =D8/1000-F8 -> 0
A9: 031I555274 | B9: Развитие региональной гарантийной организации в целях ускоренного развития субъектов малого и среднего предпринимательства в моногородах | C9: 28124845 | D9: 28124845 | E9: 28124.8 | F9: 28124.8 | G9: 031I555274 | H9: =G9=A9 -> TRUE | I9: =C9/1000-E9 -> 0 | J9: =D9/1000-F9 -> 0
A10: 031I855270 | B10: Государственная поддержка малого и среднего предпринимательства в субъектах Российской Федерации | C10: 9090412.4 | D10: 9090412.4 | E10: 9090.4 | F10: 9090.4 | G10: 031I855270 | H10: =G10=A10 -> TRUE | I10: =C10/1000-E10 -> 0 | J10: =D10/1000-F10 -> 0
A11: 035L252960 | B11: Государственная поддержка субъектов Российской Федерации - участников национального проекта "Повышение производительности труда и поддержка занятости" | C11: 31375800 | D11: 7000000 | E11: 26875.8 | F11: 7000 | G11: 035L252960 | H11: =G11=A11 -> TRUE | I11: =C11/1000-E11 -> 4500 | J11: =D11/1000-F11 -> 0
E12: 4500 | F12: 0 | G12: 035L252960 | I12: =C12/1000-E12 -> -4500 | J12: =D12/1000-F12 -> 0
A13: 035L252961 | B13: Реализация мероприятий по созданию, техническому оснащению и организационно-методическому сопровождению учебной производственной площадки "Фабрика процессов" | C13: 6900000 | D13: 6900000 | E13: 6900 | F13: 6900 | G13: 035L252961 | H13: =G13=A13 -> TRUE | I13: =C13/1000-E13 -> 0 | J13: =D13/1000-F13 -> 0
A14: 051L355690 | B14: Переобучение, повышение квалификации работников предприятий в целях поддержки занятости и повышения эффективности рынка труда | C14: 19124800 | D14: 300645.4 | E14: 19124.8 | F14: 300.6 | G14: 051L355690 | H14: =G14=A14 -> TRUE | I14: =C14/1000-E14 -> 0 | J14: =D14/1000-F14 -> 0
A15: 051L355691 | B15: Возмещение затрат организациям – участникам регионального проекта "Поддержка занятости и повышение эффективности рынка труда для обеспечения роста производительности труда" на переобучение, повышение квалификации работников | C15: 27589200 | D15: 1805800 | E15: 27589.2 | F15: 1805.8 | G15: 051L355691 | H15: =G15=A15 -> TRUE | I15: =C15/1000-E15 -> 0 | J15: =D15/1000-F15 -> 0
A16: 051P352940 | B16: Организация профессионального обучения и дополнительного профессионального образования лиц предпенсионного возраста | C16: 25141677 | D16: 4814897.2 | E16: 25141.7 | F16: 4814.9 | G16: 051P352940 | H16: =G16=A16 -> TRUE | I16: =C16/1000-E16 -> 0 | J16: =D16/1000-F16 -> 0 | K16: =D16/1000 -> 4814.9
A17: 051P352941 | B17: Возмещение затрат работодателям на профессиональное обучение и дополнительное профессиональное образование работников из числа лиц предпенсионного возраста | C17: 3481523 | D17: 818208 | E17: 3481.5 | F17: 818.2 | G17: 051P352941 | H17: =G17=A17 -> TRUE | I17: =C17/1000-E17 -> 0 | J17: =D17/1000-F17 -> 0
A18: 061I754801 | B18: Гранты "Агростартап" на реализацию проектов создания и развития крестьянских (фермерских) хозяйств | C18: 24926845 | D18: 24926845 | E18: 24926.8 | F18: 24926.8 | G18: 061I754801 | H18: =G18=A18 -> TRUE | I18: =C18/1000-E18 -> 0 | J18: =D18/1000-F18 -> 0
A19: 061I754802 | B19: Осуществление текущей деятельности центра компетенций в сфере сельскохозяйственной кооперации и поддержки фермеров Томской области | C19: 1115938.1 | D19: 526750 | E19: 1116 | F19: 526.8 | G19: 061I754802 | H19: =G19=A19 -> TRUE | I19: =C19/1000-E19 -> -0.1 | J19: =D19/1000-F19 -> 0 | K19: =C19/1000 -> 1115.9
A20: 062I754802 | B20: Осуществление текущей деятельности центра компетенций в сфере сельскохозяйственной кооперации и поддержки фермеров Томской области | C20: 1285715 | D20: 469988.4 | E20: 1285.7 | F20: 470 | G20: 062I754802 | H20: =G20=A20 -> TRUE | I20: =C20/1000-E20 -> 0 | J20: =D20/1000-F20 -> 0
A21: 071N100001 | B21: Организация проведения профилактических медицинских осмотров | C21: 6000000 | D21: 6000000 | E21: 6000 | F21: 6000 | G21: 071N100001 | H21: =G21=A21 -> TRUE | I21: =C21/1000-E21 -> 0 | J21: =D21/1000-F21 -> 0
A22: 071N151960 | B22: Создание и замена фельдшерских, фельдшерско-акушерских пунктов и врачебных амбулаторий для населенных пунктов с численностью населения от 100 до 2000 человек | C22: 21521000 | D22: 12936800 | E22: 21521 | F22: 12936.8 | G22: 071N151960 | H22: =G22=A22 -> TRUE | I22: =C22/1000-E22 -> 0 | J22: =D22/1000-F22 -> 0
A23: 071N2Д0002 | B23: Профилактика развития сердечно-сосудистых заболеваний и сердечно-сосудистых осложнений у пациентов высокого риска | C23: 5500000 | D23: 4686478.5 | E23: 5500 | F23: 4686.5 | G23: 071N2Д0002 | H23: =G23=A23 -> TRUE | I23: =C23/1000-E23 -> 0 | J23: =D23/1000-F23 -> 0
A24: 071N400004 | B24: Развитие профилактического направления в педиатрии | C24: 2500000 | D24: 2149421.5 | E24: 2500 | F24: 2149.4 | G24: 071N400004 | H24: =G24=A24 -> TRUE | I24: =C24/1000-E24 -> 0 | J24: =D24/1000-F24 -> 0
A25: 071P354680 | B25: Проведение вакцинации против пневмококковой инфекции граждан старше трудоспособного возраста из групп риска, проживающих в организациях социального обслуживания | C25: 1634400 | D25: 1625490.8 | E25: 1634.4 | F25: 1625.5 | G25: 071P354680 | H25: =G25=A25 -> TRUE | I25: =C25/1000-E25 -> 0 | J25: =D25/1000-F25 -> 0
A26: 071P4Д0003 | B26: Создание и демонстрация рекламно - информационных материалов в СМИ, сети "Интернет", в медицинских организациях и общественных местах, разработка печатной продукции по формированию здорового образа жизни | C26: 3700000 | D26: 3519623.5 | E26: 3700 | F26: 3519.6 | G26: 071P4Д0003 | H26: =G26=A26 -> TRUE | I26: =C26/1000-E26 -> 0 | J26: =D26/1000-F26 -> 0
A27: 072N155540 | B27: Обеспечение закупки авиационных работ органами государственной власти субъектов Российской Федерации в целях оказания медицинской помощи | C27: 150000000 | D27: 150000000 | E27: 150000 | F27: 150000 | G27: 072N155540 | H27: =G27=A27 -> TRUE | I27: =C27/1000-E27 -> 0 | J27: =D27/1000-F27 -> 0
A28: 072N1Д5540 | B28: Оказание медицинской помощи с применением санитарной авиации | C28: 102804800 | D28: 102804800 | E28: 102804.8 | F28: 102804.8 | G28: 072N1Д5540 | H28: =G28=A28 -> TRUE | I28: =C28/1000-E28 -> 0 | J28: =D28/1000-F28 -> 0
A29: 072N251920 | B29: Оснащение оборудованием региональных сосудистых центров и первичных сосудистых отделений | C29: 74552500 | D29: 6517000 | E29: 74552.5 | F29: 6517 | G29: 072N251920 | H29: =G29=A29 -> TRUE | I29: =C29/1000-E29 -> 0 | J29: =D29/1000-F29 -> 0
A30: 072N351900 | B30: Создание и оснащение референс-центров для проведения иммуногистохимических, патоморфологических исследований и лучевых методов исследований, переоснащение сети региональных медицинских организаций, оказывающих помощь больным онкологическими заболеваниями в субъектах Российской Федерации | C30: 223067600 | D30: 169746160 | E30: 223067.6 | F30: 169746.2 | G30: 072N351900 | H30: =G30=A30 -> TRUE | I30: =C30/1000-E30 -> 0 | J30: =D30/1000-F30 -> 0
A31: 073N451700 | B31: Развитие материально-технической базы детских поликлиник и детских поликлинических отделений медицинских организаций, оказывающих первичную медико-санитарную помощь | C31: 103704400 | D31: 39739899 | E31: 103704.4 | F31: 39739.9 | G31: 073N451700 | H31: =G31=A31 -> TRUE | I31: =C31/1000-E31 -> 0 | J31: =D31/1000-F31 -> 0
A32: 076N100101 | B32: Функционирование регионального проектного офиса по созданию и внедрению "Новой модели медицинской организации, оказывающей первичную медико-санитарную помощь" | C32: 1900000 | D32: 1520000 | E32: 1900 | F32: 1520 | G32: 076N100101 | H32: =G32=A32 -> TRUE | I32: =C32/1000-E32 -> 0 | J32: =D32/1000-F32 -> 0 | K32: 082P552290
A33: 076N351110 | B33: Софинансирование капитальных вложений в объекты государственной собственности субъектов Российской Федерации | C33: 385911200 | D33: 65986214 | E33: 385911.2 | F33: 65986.2 | G33: 076N351110 | H33: =G33=A33 -> TRUE | I33: =C33/1000-E33 -> 0 | J33: =D33/1000-F33 -> 0 | K33: 083P551390
A34: 076N751140 | B34: Реализация региональных проектов "Создание единого цифрового контура в здравоохранении на основе единой государственной информационной системы здравоохранения (ЕГИСЗ)" | C34: 130162000 | D34: 0 | E34: 130162 | F34: 0 | G34: 076N751140 | H34: =G34=A34 -> TRUE | I34: =C34/1000-E34 -> 0 | J34: =D34/1000-F34 -> 0
A35: 076N751141 | B35: Обеспечение работоспособности государственных информационных систем в сфере здравоохранения, подключенных к ЕГИСЗ | C35: 8500000 | D35: 7000000 | E35: 8500 | F35: 7000 | G35: 076N751141 | H35: =G35=A35 -> TRUE | I35: =C35/1000-E35 -> 0 | J35: =D35/1000-F35 -> 0
A36: 081P500001 | B36: Приобретение оборудования для малобюджетных спортивных площадок по месту жительства и учебы в муниципальных образованиях Томской области, за исключением муниципального образования "Город Томск", муниципального образования "Городской округ закрытое административно-территориальное образование Северск Томской области" | C36: 9000000 | D36: 9000000 | E36: 9000 | F36: 9000 | G36: 081P500001 | H36: =G36=A36 -> TRUE | I36: =C36/1000-E36 -> 0 | J36: =D36/1000-F36 -> 0
A37: 081P500003 | B37: Обеспечение условий для развития физической культуры и массового спорта | C37: 62192400 | D37: 53030800 | E37: 62192.4 | F37: 53030.8 | G37: 081P500003 | H37: =G37=A37 -> TRUE | I37: =C37/1000-E37 -> 0 | J37: =D37/1000-F37 -> 0
A38: 081P552280 | B38: Оснащение объектов спортивной инфраструктуры спортивно-технологическим оборудованием | C38: 20369200 | D38: 0 | E38: 20369.2 | F38: 0 | G38: 081P552280 | H38: =G38=A38 -> TRUE | I38: =C38/1000-E38 -> 0 | J38: =D38/1000-F38 -> 0
A39: 082P500002 | B39: Приобретение спортивного инвентаря, оборудования и спортивной экипировки для спортивных школ | C39: 30000000 | D39: 28094600 | E39: 30000 | F39: 28094.6 | G39: 082P500002 | H39: =G39=A39 -> TRUE | I39: =C39/1000-E39 -> 0 | J39: =D39/1000-F39 -> 0
A40: 083P540370 | B40: Капитальный ремонт муниципальных спортивных сооружений | C40: 79000000 | D40: 57138732 | E40: 79000 | F40: 57138.7 | G40: 083P540370 | H40: =G40=A40 -> TRUE | I40: =C40/1000-E40 -> 0 | J40: =D40/1000-F40 -> 0
A41: 083P54И380 | B41: Строительство универсальных спортивных площадок в муниципальных образованиях Томской области | C41: 25122700 | D41: 8845679 | E41: 25122.7 | F41: 8845.7 | G41: 083P54И380 | H41: =G41=A41 -> TRUE | I41: =C41/1000-E41 -> 0 | J41: =D41/1000-F41 -> 0
A42: 091D309100 | B42: Подготовка кадров для цифровой экономики | C42: 5000000 | D42: 5000000 | E42: 5000 | F42: 5000 | G42: 091D309100 | H42: =G42=A42 -> TRUE | I42: =C42/1000-E42 -> 0 | J42: =D42/1000-F42 -> 0
...

Sheet Лист5
A1: Департамент финансов Томской области
A2: (наименование органа, организующего исполнение бюджета)
A4: на 01.11.2019 г.
A5: Дата печати 06.11.2019 (17:09:59)
A7: Бюджет: Областной бюджет
A8: Тип бланка расходов: Смета, Фонды, ПНО
A9: КЦСР: ***P******,***N******,***E******,***F******,***G******,***R******,***L******,***D******,***A******,***I******,**********,**********
A11: руб.
A12: КФСР | B12: Наименование КФСР | C12: КЦСР | D12: Наименование КЦСР | E12: КВР | F12: Ассигнования 2019 год | G12: Выбытия (бух.уч.)
A13: 0113 | B13: Другие общегосударственные вопросы | C13: 024D500400 | D13: Финансовое обеспечение затрат, возникающих при реализации проекта "Цифровые технологии" | E13: 813 | F13: 56878282 | G13: 35000000
A14: 0113 | B14: Другие общегосударственные вопросы | C14: 201D461632 | D14: Обеспечение использования отечественных разработок и технологий при передаче, обработке и хранении данных | E14: 244 | F14: 1300000 | G14: 1282459
A15: 0113 | B15: Другие общегосударственные вопросы | C15: 201D600005 | D15: Обеспечение регистрации пользователей в единой биометрической системе в МФЦ | E15: 244 | F15: 3440000 | G15: 0
A16: 0113 | B16: Другие общегосударственные вопросы | C16: 201D620400 | D16: Внедрение цифровых технологий и платформенных решений в сферах государственного управления и оказания государственных и муниципальных услуг | E16: 244 | F16: 9540460 | G16: 5443982.2
A17: 0113 | B17: Другие общегосударственные вопросы | C17: 201D622700 | D17: Внедрение в деятельность органов государственной власти и органов местного самоуправления, а также подведомственных им организаций межведомственного юридически значимого электронного документооборота с применением электронной подписи, базирующегося на единых инфраструктурных, технологических и методологических решениях | E17: 244 | F17: 3896123.3 | G17: 3291780
A18: 0113 | B18: Другие общегосударственные вопросы | C18: 201D623500 | D18: Обеспечение возможности доступа пользователей в модели "одного окна" посредством единого портала государственных и муниципальных услуг (функций) к информации, созданной органами государственной власти, органами местного самоуправления и органами государственных внебюджетных фондов, а также к иной общедоступной информации | E18: 244 | F18: 4165550 | G18: 0
A19: 0113 | B19: Другие общегосударственные вопросы | C19: 201D623600 | D19: Обеспечение функционирования и развития инфраструктуры электронного правительства, а также информационных систем, направленных на предоставление государственных услуг и исполнение государственных функций в электронном виде | E19: 244 | F19: 11140000 | G19: 7275000
A20: 0401 | B20: Общеэкономические вопросы | C20: 051L355690 | D20: Переобучение, повышение квалификации работников предприятий в целях поддержки занятости и повышения эффективности рынка труда | E20: 244 | F20: 7367200 | G20: 300645.4
A21: 0401 | B21: Общеэкономические вопросы | C21: 051L355690 | D21: Переобучение, повышение квалификации работников предприятий в целях поддержки занятости и повышения эффективности рынка труда | E21: 321 | F21: 2050000 | G21: 0
A22: 0401 | B22: Общеэкономические вопросы | C22: 051L355690 | D22: Переобучение, повышение квалификации работников предприятий в целях поддержки занятости и повышения эффективности рынка труда | E22: 340 | F22: 9707600 | G22: 0
A23: 0401 | B23: Общеэкономические вопросы | C23: 051L355691 | D23: Возмещение затрат организациям – участникам регионального проекта "Поддержка занятости и повышение эффективности рынка труда для обеспечения роста производительности труда" на переобучение, повышение квалификации работников | E23: 811 | F23: 27589200 | G23: 1805800
A24: 0401 | B24: Общеэкономические вопросы | C24: 051P352940 | D24: Организация профессионального обучения и дополнительного профессионального образования лиц предпенсионного возраста | E24: 244 | F24: 24069702 | G24: 4102456.1
... A123: 1103 | B123: Спорт высших достижений | C123: 082P500002 | D123: Приобретение спортивного инвентаря, оборудования и спортивной экипировки для спортивных школ | E123: 521 | F123: 30000000 | G123: 28094600
A124: Итого | F124: 9.6278823e+09 | G124: 6.0504839e+09
G127: =G124-Лист3!D95 -> 712842.53

Sheet Лист6
A1: № п/п | B1: Наименование | C1: Код ГРБС | D1: Наименование ГРБС | E1: Код целевой статьи областного бюджета | F1: 2019 год | N1: % исполнения
F2: Плановые ассигнования*, в том числе | J2: Кассовое исполнение, в том числе
F3: ИТОГО | G3: за счет средств областного бюджета | H3: за счет средств федерального бюджета | I3: за счет средств местного бюджета** | J3: ИТОГО | K3: за счет средств областного бюджета | L3: за счет средств федерального бюджета | M3: за счет средств местного бюджета**
B4: ВСЕГО: | F4: =SUM(F5:F14) -> 10207.9 | G4: =SUM(G5:G14) -> 3426.1 | H4: =SUM(H5:H14) -> 6201.8 | I4: =SUM(I5:I14) -> 580 | J4: =SUM(J5:J14) -> 6369.9 | K4: =SUM(K5:K14) -> 2370 | L4: =SUM(L5:L14) -> 3679.8 | M4: =SUM(M5:M14) -> 320.1 | N4: =J4/F4 -> 0.624
A5: 1 | B5: Национальный проект "Демография" | C5: Х | D5: Х | E5: Х | F5: =G5+H5+I5 -> 2987.6 | G5: 1573.7 | H5: 1369.6 | I5: 44.3 | J5: =K5+L5+M5 -> 1296.5 | K5: 784 | L5: 486.1 | M5: 26.4 | N5: =J5/F5 -> 0.434
A6: 2 | B6: Национальный проект "Здравоохранение" | C6: Х | D6: Х | E6: Х | F6: =G6+H6+I6 -> 1216.1 | G6: 266.7 | H6: 949.4 | I6: 0 | J6: =K6+L6+M6 -> 569.1 | K6: 166.8 | L6: 402.3 | M6: 0 | N6: =J6/F6 -> 0.468
A7: 3 | B7: Национальный проект "Образование" | C7: Х | D7: Х | E7: Х | F7: =G7+H7+I7 -> 1518.7 | G7: 817.1 | H7: 662.9 | I7: 38.7 | J7: =K7+L7+M7 -> 1288 | K7: 767.1 | L7: 486 | M7: 34.9 | N7: =J7/F7 -> 0.848
A8: 4 | B8: Национальный проект "Цифровая экономика" | C8: Х | D8: Х | E8: Х | F8: =G8+H8+I8 -> 113.7 | G8: 113.7 | H8: 0 | I8: 0 | J8: =K8+L8+M8 -> 67.6 | K8: 67.6 | L8: 0 | M8: 0 | N8: =J8/F8 -> 0.595
A9: 5 | B9: Национальный проект "Жилье и городская среда" | C9: Х | D9: Х | E9: Х | F9: =G9+H9+I9 -> 1184.7 | G9: 28.5 | H9: 960.5 | I9: 195.7 | J9: =K9+L9+M9 -> 232.7 | K9: 6.8 | L9: 220.8 | M9: 5.1 | N9: =J9/F9 -> 0.196
A10: 6 | B10: Национальный проект "Экология" | C10: Х | D10: Х | E10: Х | F10: =G10+H10+I10 -> 179.9 | G10: 38.2 | H10: 125.4 | I10: 16.3 | J10: =K10+L10+M10 -> 64.6 | K10: 1.7 | L10: 61.6 | M10: 1.3 | N10: =J10/F10 -> 0.359
A11: 7 | B11: Национальный проект "Безопасные и качественные автомобильные дороги" | C11: Х | D11: Х | E11: Х | F11: =G11+H11+I11 -> 2560.5 | G11: 523 | H11: 1768.6 | I11: 268.9 | J11: =K11+L11+M11 -> 2534.8 | K11: 519.7 | L11: 1768.6 | M11: 246.5 | N11: =J11/F11 -> 0.99
A12: 8 | B12: Национальный проект "Культура" | C12: Х | D12: Х | E12: Х | F12: =G12+H12+I12 -> 148 | G12: 45.9 | H12: 86.5 | I12: 15.6 | J12: =K12+L12+M12 -> 103.1 | K12: 40.4 | L12: 56.8 | M12: 5.9 | N12: =J12/F12 -> 0.697
A13: 9 | B13: Национальный проект "Малое и среднее предпринимательство и поддержка индивидуальной предпринимательской инициативы" | C13: Х | D13: Х | E13: Х | F13: =G13+H13+I13 -> 213.7 | G13: 7.6 | H13: 205.6 | I13: 0.5 | J13: =K13+L13+M13 -> 197.5 | K13: 6.4 | L13: 191.1 | M13: 0 | N13: =J13/F13 -> 0.924
A14: 10 | B14: Национальный проект "Производительность труда и поддержка занятости" | C14: Х | D14: Х | E14: Х | F14: =G14+H14+I14 -> 85 | G14: 11.7 | H14: 73.3 | I14: 0 | J14: =K14+L14+M14 -> 16 | K14: 9.5 | L14: 6.5 | M14: 0 | N14: =J14/F14 -> 0.188
A16: 1 | B16: Национальный проект "Демография" | C16: Х | D16: Х | E16: Х | F16: =SUM(F17:F21) -> 2987.6 | G16: =SUM(G17:G21) -> 1573.7 | H16: =SUM(H17:H21) -> 1369.6 | I16: =SUM(I17:I21) -> 44.3 | J16: =SUM(J17:J21) -> 1296.4 | K16: =SUM(K17:K21) -> 783.9 | L16: =SUM(L17:L21) -> 486.1 | M16: =SUM(M17:M21) -> 26.4 | N16: =J16/F16 -> 0.434
A17: 1.1 | B17: Региональный проект "Старшее поколение", всего | C17: Х | D17: Х | E17: Х | F17: =G17+H17+I17 -> 348.8 | G17: 15.1 | H17: 333.7 | I17: 0 | J17: =K17+L17+M17 -> 147.4 | K17: 5.4 | L17: 142 | M17: 0 | N17: =J17/F17 -> 0.423
A18: 1.2 | B18: Региональный проект "Спорт - норма жизни", всего | C18: Х | D18: Х | E18: Х | F18: =G18+H18+I18 -> 268.8 | G18: 205.9 | H18: 19.8 | I18: 43.1 | J18: =K18+L18+M18 -> 182.5 | K18: 156.1 | L18: 0 | M18: 26.4 | N18: =J18/F18 -> 0.679
A19: 1.3 | B19: Региональный проект "Содействие занятости женщин - создание условий дошкольного образования для детей в возрасте до трех лет", всего | C19: Х | D19: Х | E19: Х | F19: =G19+H19+I19 -> 1220.7 | G19: 572.8 | H19: 646.7 | I19: 1.2 | J19: =K19+L19+M19 -> 0 | K19: 0 | L19: 0 | M19: 0 | N19: =J19/F19 -> 0
A20: 1.4 | B20: Региональный проект "Финансовая поддержка семей при рождении детей", всего | C20: Х | D20: Х | E20: Х | F20: 1145.6 | G20: 776.2 | H20: 369.4 | I20: 0 | J20: =K20+L20+M20 -> 963 | K20: 618.9 | L20: 344.1 | M20: 0 | N20: =J20/F20 -> 0.841
A21: 1.5 | B21: Региональный проект "Укрепление общественного здоровья" | C21: Х | D21: Х | E21: Х | F21: =G21+H21+I21 -> 3.7 | G21: 3.7 | H21: 0 | I21: 0 | J21: =K21+L21+M21 -> 3.5 | K21: 3.5 | L21: 0 | M21: 0 | N21: 0.951
A23: 2 | B23: Национальный проект "Здравоохранение" | C23: Х | D23: Х | E23: Х | F23: =SUM(F24:F28) -> 1216.1 | G23: =SUM(G24:G28) -> 266.7 | H23: =SUM(H24:H28) -> 949.4 | I23: =SUM(I24:I28) -> 0 | J23: =SUM(J24:J28) -> 569.1 | K23: =SUM(K24:K28) -> 166.8 | L23: =SUM(L24:L28) -> 402.3 | M23: =SUM(M24:M28) -> 0 | N23: =J23/F23 -> 0.468
A24: 2.1 | B24: Региональный проект "Развитие системы оказания первичной медико-санитарной помощи", всего | C24: Х | D24: Х | E24: Х | F24: =G24+H24+I24 -> 282.3 | G24: 135.1 | H24: 147.2 | I24: 0 | J24: =K24+L24+M24 -> 273.3 | K24: 134.7 | L24: 138.6 | M24: 0 | N24: =J24/F24 -> 0.968
A25: 2.2 | B25: Региональный проект "Борьба с сердечно-сосудистыми заболеваниями", всего | C25: Х | D25: Х | E25: Х | F25: =G25+H25+I25 -> 80 | G25: 5.5 | H25: 74.5 | I25: 0 | J25: =K25+L25+M25 -> 11.2 | K25: 4.7 | L25: 6.5 | M25: 0 | N25: =J25/F25 -> 0.14
A26: 2.3 | B26: Региональный проект "Развитие детского здравоохранения, включая создание современной инфраструктуры оказания медицинской помощи детям", всего | C26: Х | D26: Х | E26: Х | F26: =G26+H26+I26 -> 106.2 | G26: 20.1 | H26: 86.1 | I26: 0 | J26: =K26+L26+M26 -> 41.9 | K26: 8.9 | L26: 33 | M26: 0 | N26: =J26/F26 -> 0.395
A27: 2.4 | B27: Региональный проект "Создание единого цифрового контура в здравоохранении на основе единой государственной информационной системы здравоохранения (ЕГИСЗ)", всего | C27: Х | D27: Х | E27: Х | F27: =G27+H27+I27 -> 138.7 | G27: 26.3 | H27: 112.4 | I27: 0 | J27: =K27+L27+M27 -> 7 | K27: 7 | L27: 0 | M27: 0 | N27: =J27/F27 -> 0.05
A28: 2.5 | B28: Региональный проект "Борьба с онкологическими заболеваниями", всего | C28: Х | D28: Х | E28: Х | F28: =G28+H28+I28 -> 608.9 | G28: 79.7 | H28: 529.2 | I28: 0 | J28: =K28+L28+M28 -> 235.7 | K28: 11.5 | L28: 224.2 | M28: 0 | N28: =J28/F28 -> 0.387
A30: 3 | B30: Национальный проект "Образование" | C30: Х | D30: Х | E30: Х | F30: =SUM(F31:F35) -> 1518.7 | G30: =SUM(G31:G35) -> 817.1 | H30: =SUM(H31:H35) -> 662.9 | I30: =SUM(I31:I35) -> 38.7 | J30: =SUM(J31:J35) -> 1288 | K30: =SUM(K31:K35) -> 767.1 | L30: =SUM(L31:L35) -> 486 | M30: =SUM(M31:M35) -> 34.9 | N30: =J30/F30 -> 0.848
A31: 3.1 | B31: Региональный проект "Современная школа", всего | C31: Х | D31: Х | E31: Х | F31: =G31+H31+I31 -> 1311.9 | G31: 705.9 | H31: 567.3 | I31: 38.7 | J31: =K31+L31+M31 -> 1165.8 | K31: 693.2 | L31: 437.7 | M31: 34.9 | N31: =J31/F31 -> 0.889
A32: 3.2 | B32: Региональный проект "Цифровая образовательная среда", всего | C32: Х | D32: Х | E32: Х | F32: =G32+H32+I32 -> 37.9 | G32: 7.4 | H32: 30.5 | I32: 0 | J32: =K32+L32+M32 -> 10.9 | K32: 6.1 | L32: 4.8 | M32: 0 | N32: =J32/F32 -> 0.288
A33: 3.3 | B33: Региональный проект "Успех каждого ребенка", всего | C33: Х | D33: Х | E33: Х | F33: =G33+H33+I33 -> 94.4 | G33: 83.4 | H33: 11 | I33: 0 | J33: =K33+L33+M33 -> 58.1 | K33: 53.1 | L33: 5 | M33: 0 | N33: =J33/F33 -> 0.615
A34: 3.4 | B34: Региональный проект "Молодые профессионалы (Повышение конкурентоспособности профессионального образования)", всего | C34: Х | D34: Х | E34: Х | F34: =G34+H34+I34 -> 73.4 | G34: 19.3 | H34: 54.1 | I34: 0 | J34: =K34+L34+M34 -> 52.5 | K34: 14 | L34: 38.5 | M34: 0 | N34: =J34/F34 -> 0.715
A35: 3.5 | B35: Региональный проект "Учитель будущего", всего | C35: Х | D35: Х | E35: Х | F35: =G35+H35+I35 -> 1.1 | G35: 1.1 | H35: 0 | I35: 0 | J35: =K35+L35+M35 -> 0.7 | K35: 0.7 | L35: 0 | M35: 0 | N35: 0.658
A37: 4 | B37: Национальный проект "Цифровая экономика" | C37: Х | D37: Х | E37: Х | F37: =SUM(F38:F42) -> 113.7 | G37: =SUM(G38:G42) -> 113.7 | H37: =SUM(H38:H42) -> 0 | I37: =SUM(I38:I42) -> 0 | J37: =SUM(J38:J42) -> 67.6 | K37: =SUM(K38:K42) -> 67.6 | L37: =SUM(L38:L42) -> 0 | M37: =SUM(M38:M42) -> 0 | N37: =J37/F37 -> 0.595
A38: 4.1 | B38: Региональный проект "Кадры для цифровой экономики", всего | C38: Х | D38: Х | E38: Х | F38: =G38+H38+I38 -> 5.3 | G38: 5.3 | H38: 0 | I38: 0 | J38: =K38+L38+M38 -> 5 | K38: 5 | L38: 0 | M38: 0 | N38: =J38/F38 -> 0.943
A39: 4.2 | B39: Региональный проект "Цифровые технологии" | C39: Х | D39: Х | E39: Х | F39: =G39+H39+I39 -> 56.9 | G39: 56.9 | H39: 0 | I39: 0 | J39: =K39+L39+M39 -> 35 | K39: 35 | L39: 0 | M39: 0 | N39: =J39/F39 -> 0.615
A40: 4.3 | B40: Региональный проект "Информационная безопасность" | C40: Х | D40: Х | E40: Х | F40: =G40+H40+I40 -> 1.3 | G40: 1.3 | H40: 0 | I40: 0 | J40: =K40+L40+M40 -> 1.3 | K40: 1.3 | L40: 0 | M40: 0 | N40: =J40/F40 -> 1
A41: 4.4 | B41: Региональный проект "Цифровое государственное управление" | C41: Х | D41: Х | E41: Х | F41: =G41+H41+I41 -> 32.2 | G41: 32.2 | H41: 0 | I41: 0 | J41: =K41+L41+M41 -> 16 | K41: 16 | L41: 0 | M41: 0 | N41: =J41/F41 -> 0.497
A42: 4.5 | B42: Региональный проект "Информационная инфраструктура" | C42: Х | D42: Х | E42: Х | F42: =G42+H42+I42 -> 18 | G42: 18 | H42: 0 | I42: 0 | J42: =K42+L42+M42 -> 10.3 | K42: 10.3 | L42: 0 | M42: 0 | N42: =J42/F42 -> 0.572
A44: 5 | B44: Национальный проект "Жилье и городская среда" | C44: Х | D44: Х | E44: Х | F44: =F46+F45 -> 1184.7 | G44: =G46+G45 -> 28.5 | H44: =H46+H45 -> 960.5 | I44: =I46+I45 -> 195.7 | J44: =J46+J45 -> 232.7 | K44: =K46+K45 -> 6.8 | L44: =L46+L45 -> 220.8 | M44: =M46+M45 -> 5.1 | N44: =J44/F44 -> 0.196
A45: 5.1 | B45: Региональный проект "Формирование комфортной городской среды", всего | C45: Х | D45: Х | E45: Х | F45: =G45+H45+I45 -> 468.5 | G45: 12.8 | H45: 452.7 | I45: 3 | J45: =K45+L45+M45 -> 206.5 | K45: 6.1 | L45: 198.7 | M45: 1.7 | N45: 0.441
...
