Workbook

Sheet Лист1
B1: Информация о плановых ассигнованиях и кассовом исполнении расходов консолидированного бюджета Томской области на реализацию региональных проектов Томской области по состоянию на 01.11.2019
A4: № п/п | B4: Наименование | C4: Код ГРБС | D4: Наименование ГРБС | E4: Код целевой статьи областного бюджета | F4: 2019 год | N4: 2020 год | R4: 2021 год | V4: % исполнения
F5: Плановые ассигнования*, в том числе | J5: Кассовое исполнение, в том числе | N5: Плановые ассигнования*, в том числе | R5: Плановые ассигнования*, в том числе
F6: ИТОГО | G6: за счет средств областного бюджета | H6: за счет средств федерального бюджета | I6: за счет средств местного бюджета** | J6: ИТОГО | K6: за счет средств областного бюджета | L6: за счет средств федерального бюджета | M6: за счет средств местного бюджета** | N6: ИТОГО | O6: за счет средств областного бюджета | P6: за счет средств федерального бюджета | Q6: за счет средств местного бюджета** | R6: ИТОГО | S6: за счет средств областного бюджета | T6: за счет средств федерального бюджета | U6: за счет средств местного бюджета**
A7: 1 | B7: 2 | C7: 3 | D7: 4 | E7: 5 | F7: 6 | G7: 7 | H7: 8 | I7: 9 | J7: 10 | K7: 11 | L7: 12 | M7: 13 | N7: 14 | O7: 15 | P7: 16 | Q7: 17 | R7: 18 | S7: 19 | T7: 20 | U7: 21 | V7: 22
B8: ВСЕГО: | F8: =F9+F41+F67+F102+F125+F137+F152+F156+F168+F188 -> 10207898 | G8: =G9+G41+G67+G102+G125+G137+G152+G156+G168+G188 -> 3426109.4 | H8: =H9+H41+H67+H102+H125+H137+H152+H156+H168+H188 -> 6201772.9 | I8: =I9+I41+I67+I102+I125+I137+I152+I156+I168+I188 -> 580015.4 | J8: =J9+J41+J67+J102+J125+J137+J152+J156+J168+J188 -> 6369966.2 | K8: =K9+K41+K67+K102+K125+K137+K152+K156+K168+K188 -> 2370003.2 | L8: =L9+L41+L67+L102+L125+L137+L152+L156+L168+L188 -> 3679767.9 | M8: =M9+M41+M67+M102+M125+M137+M152+M156+M168+M188 -> 320195 | ... U8: =U9+U41+U67+U102+U125+U137+U152+U156+U168+U188 -> 460211.1 | V8: =J8/F8 -> 0.624
A9: 1 | B9: Национальный проект "Демография" | C9: Х | D9: Х | E9: Х | F9: =F10+F20+F30+F34+F38 -> 2987622.6 | G9: =G10+G20+G30+G34+G38 -> 1573700 | H9: =H10+H20+H30+H34+H38 -> 1369595.5 | I9: =I10+I20+I30+I34+I38 -> 44327.1 | J9: =J10+J20+J30+J34+J38 -> 1296484.1 | K9: =K10+K20+K30+K34+K38 -> 783958.9 | L9: =L10+L20+L30+L34+L38 -> 486127.6 | M9: =M10+M20+M30+M34+M38 -> 26397.6 | ... U9: =U10+U20+U30+U34+U38 -> 5999.9 | V9: =J9/F9 -> 0.434
A10: 1.1 | B10: Региональный проект "Старшее поколение", всего | C10: Х | D10: Х | E10: Х | F10: =SUM(G10:I10) -> 348818.5 | G10: =SUM(G12:G19) -> 15119.7 | H10: =SUM(H12:H19) -> 333698.8 | I10: =SUM(I12:I19) -> 0 | J10: =SUM(K10:M10) -> 147427.1 | K10: =SUM(K12:K19) -> 5444.8 | L10: =SUM(L12:L19) -> 141982.3 | M10: =SUM(M12:M19) -> 0 | N10: =SUM(O10:Q10) -> 260053.7 | O10: =SUM(O12:O19) -> 7939.8 | P10: =SUM(P12:P19) -> 252113.9 | Q10: =SUM(Q12:Q19) -> 0 | R10: =SUM(S10:U10) -> 89065.4 | S10: =SUM(S12:S19) -> 3030.3 | T10: =SUM(T12:T19) -> 86035.1 | U10: =SUM(U12:U19) -> 0 | V10: =J10/F10 -> 0.423
B11: из них
A12: 024 | B12: Организация профессионального обучения и дополнительного профессионального образования лиц предпенсионного возраста | C12: 839 | D12: Департамент труда и занятости населения Томской области | E12: 051P352940 | F12: =SUM(G12:I12) -> 25141.7 | G12: 1257.1 | H12: 23884.6 | J12: =SUM(K12:M12) -> 4814.9 | K12: 240.8 | L12: 4574.1 | N12: =SUM(O12:Q12) -> 23985.9 | O12: 1199.3 | P12: 22786.6 | R12: =SUM(S12:U12) -> 23985.9 | S12: 1199.3 | T12: 22786.6 | V12: =J12/F12 -> 0.192
A13: 024 | B13: Возмещение затрат работодателям на профессиональное обучение и дополнительное профессиональное образование работников из числа лиц предпенсионного возраста | C13: 839 | D13: Департамент труда и занятости населения Томской области | E13: 051P352941 | F13: =SUM(G13:I13) -> 3481.5 | G13: 174.1 | H13: 3307.4 | J13: =SUM(K13:M13) -> 818.2 | K13: 40.9 | L13: 777.3 | N13: =SUM(O13:Q13) -> 4637.3 | O13: =231.9 -> 231.9 | P13: =4405.4 -> 4405.4 | R13: =SUM(S13:U13) -> 4637.3 | S13: 231.9 | T13: 4405.4 | V13: =J13/F13 -> 0.235
A14: 024 | B14: Проведение дополнительных скринингов лицам старше 65 лет, проживающим в сельской местности, на выявление отдельных социально значимых неинфекционных заболеваний, оказывающих вклад в структуру смертности населения, с возможностью доставки данных лиц в медицинские организации | C14: 811 | D14: Департамент здравоохранения Томской области | E14: 071P352950 | F14: =SUM(G14:I14) -> 0 | J14: =SUM(K14:M14) -> 0 | N14: =SUM(O14:Q14) -> 27312.6 | P14: 27312.6 | R14: =SUM(S14:U14) -> 7245 | T14: 7245
B15: Организация деятельности мобильных бригад по доставке лиц старше 65 лет, проживающих в сельской местности, в медицинские организации | C15: 809 | D15: Департамент социальной защиты населения Томской области | E15: 112P352931 | F15: =SUM(G15:I15) -> 3539.6 | G15: 3539.6 | J15: =SUM(K15:M15) -> 627.4 | K15: 627.4 | N15: =SUM(O15:Q15) -> 0 | R15: =SUM(S15:U15) -> 0 | V15: =J15/F15 -> 0.177
A16: 024 | B16: Проведение вакцинации против пневмококковой инфекции граждан старше трудоспособного возраста из групп риска, проживающих в организациях социального обслуживания | C16: 811 | D16: Департамент здравоохранения Томской области | E16: 071P354680 | F16: =SUM(G16:I16) -> 1634.4 | H16: 1634.4 | J16: =SUM(K16:M16) -> 1625.5 | L16: 1625.5 | N16: =SUM(O16:Q16) -> 163.7 | P16: 163.7 | R16: =SUM(S16:U16) -> 163.5 | T16: 163.5 | V16: =J16/F16 -> 0.995
A17: 022 | B17: Финансовое обеспечение программ, направленных на обеспечение безопасных и комфортных условий предоставления социальных услуг в сфере социального обслуживания | C17: 821 | D17: Департамент архитектуры и строительства Томской области | E17: 112P351210 | F17: =SUM(G17:I17) -> 292352.1 | G17: =8753.1+581.5 -> 9334.6 | H17: 283017.5 | J17: =SUM(K17:M17) -> 118130.8 | K17: 3721.4 | L17: 114409.4 | N17: =SUM(O17:Q17) -> 203954.2 | O17: =203954.2-197445.6 -> 6508.6 | P17: 197445.6 | R17: =SUM(S17:U17) -> 53033.7 | S17: =4047.7+32717+16269-51434.6 -> 1599.1 | T17: 51434.6 | V17: =J17/F17 -> 0.404
A18: 024 | B18: Приобретение автотранспорта | C18: 809 | D18: Департамент социальной защиты населения Томской области | E18: 112P352930 | F18: =SUM(G18:I18) -> 22669.2 | G18: =675.9+138.4 -> 814.3 | H18: 21854.9 | J18: =SUM(K18:M18) -> 21410.3 | K18: 814.3 | L18: 20596 | N18: =SUM(O18:Q18) -> 0 | R18: =SUM(S18:U18) -> 0 | V18: =J18/F18 -> 0.944
B19: Бюджетные ассигнования на объекты капитального строительства государственной собственности в сфере социального обслуживания населения | C19: 821 | D19: Департамент архитектуры и строительства Томской области | E19: 112P30И000 | F19: =SUM(G19:I19) -> 0 | G19: =581.5-581.5 -> 0 | J19: =SUM(K19:M19) -> 0 | N19: =SUM(O19:Q19) -> 0 | O19: =402-402 -> 0 | R19: =SUM(S19:U19) -> 0 | S19: =8.3-8.3 -> 0
A20: 1.2 | B20: Региональный проект "Спорт - норма жизни", всего | C20: Х | D20: Х | E20: Х | F20: =SUM(G20:I20) -> 268790.6 | G20: =SUM(G22:G29) -> 205926.2 | H20: =SUM(H22:H29) -> 19758.1 | I20: =SUM(I22:I29) -> 43106.3 | J20: =SUM(K20:M20) -> 182507.4 | K20: =SUM(K22:K29) -> 156109.8 | L20: =SUM(L22:L29) -> 0 | M20: =SUM(M22:M29) -> 26397.6 | N20: =SUM(O20:Q20) -> 167301.8 | O20: =SUM(O22:O29) -> 111731.6 | P20: =SUM(P22:P29) -> 35381.9 | Q20: =SUM(Q22:Q29) -> 20188.3 | R20: =SUM(S20:U20) -> 315551.8 | S20: =SUM(S22:S29) -> 82654.8 | T20: =SUM(T22:T29) -> 226897.1 | U20: =SUM(U22:U29) -> 5999.9 | V20: =J20/F20 -> 0.679
B21: из них
A22: 022 | B22: Оснащение объектов спортивной инфраструктуры спортивно-технологическим оборудованием | C22: 813 | D22: Департамент по молодежной политике, физической культуре и спорту Томской области | E22: 081P552280 | F22: =SUM(G22:I22) -> 20999.5 | G22: 611.1 | H22: 19758.1 | I22: 630.3 | J22: =SUM(K22:M22) -> 0 | N22: =SUM(O22:Q22) -> 10703 | O22: 321.1 | P22: 10381.9 | R22: =SUM(S22:U22) -> 6889.4 | S22: 206.7 | T22: 6682.7 | V22: =J22/F22 -> 0
B23: Строительство универсальных спортивных площадок в муниципальных образованиях Томской области | C23: 821 | D23: Департамент архитектуры и строительства Томской области | E23: 083P54И380 | F23: =SUM(G23:I23) -> 33564.4 | G23: 25122.7 | I23: 8441.7 | J23: =SUM(K23:M23) -> 9610.7 | K23: 8845.7 | M23: 765 | N23: =SUM(O23:Q23) -> 0 | R23: =SUM(S23:U23) -> 0 | V23: =J23/F23 -> 0.286
B24: Капитальный ремонт муниципальных спортивных сооружений | C24: 821 | D24: Департамент архитектуры и строительства Томской области | E24: 083P540370 | F24: =SUM(G24:I24) -> 98574.4 | G24: 79000 | I24: 19574.4 | J24: =SUM(K24:M24) -> 71655.9 | K24: 57138.7 | M24: 14517.2 | N24: =SUM(O24:Q24) -> 49188.4 | O24: 35000 | Q24: 14188.4 | R24: =SUM(S24:U24) -> 0 | V24: =J24/F24 -> 0.727
B25: Приобретение спортивного оборудования и инвентаря для приведения организаций спортивной подготовки в нормативное состояние | C25: 813 | D25: Департамент по молодежной политике, физической культуре и спорту Томской области | E25: 082P552290 | F25: =SUM(G25:I25) -> 0 | J25: =SUM(K25:M25) -> 0 | N25: =SUM(O25:Q25) -> 25773.2 | O25: 773.2 | P25: 25000 | R25: =SUM(S25:U25) -> 44329.9 | S25: 1329.9 | T25: 43000
B26: Создание и модернизация объектов спортивной инфраструктуры муниципальной собственности для занятий физической культурой и спортом | C26: 821 | D26: Департамент архитектуры и строительства Томской области | E26: 083P551390 | F26: =SUM(G26:I26) -> 0 | J26: =SUM(K26:M26) -> 0 | N26: =SUM(O26:Q26) -> 0 | R26: =SUM(S26:U26) -> 182695.3 | S26: 5480.9 | T26: 177214.4
B27: Приобретение оборудования для малобюджетных спортивных площадок по месту жительства и учебы в муниципальных образованиях Томской области, за исключением муниципального образования "Город Томск", муниципального образования "Городской округ закрытое административно-территориальное образование Северск Томской области" | C27: 813 | D27: Департамент по молодежной политике, физической культуре и спорту Томской области | E27: 081P500001 | F27: =SUM(G27:I27) -> 10014.7 | G27: 9000 | I27: 1014.7 | J27: =SUM(K27:M27) -> 9974.9 | K27: 9000 | M27: 974.9 | N27: =SUM(O27:Q27) -> 9090 | O27: 9000 | Q27: 90 | R27: =SUM(S27:U27) -> 9090 | S27: 9000 | U27: 90 | V27: =J27/F27 -> 0.996
B28: Приобретение спортивного инвентаря и оборудования для спортивных школ | C28: 813 | D28: Департамент по молодежной политике, физической культуре и спорту Томской области | E28: 082P500002 | F28: =SUM(G28:I28) -> 31425.4 | G28: 30000 | I28: 1425.4 | J28: =SUM(K28:M28) -> 28627.7 | K28: 28094.6 | M28: 533.1 | N28: =SUM(O28:Q28) -> 10000 | O28: 10000 | R28: =SUM(S28:U28) -> 10000 | S28: 10000 | V28: =J28/F28 -> 0.911
B29: Обеспечение условий для развития физической культуры и массового спорта | C29: 813 | D29: Департамент по молодежной политике, физической культуре и спорту Томской области | E29: 081P500003 | F29: =SUM(G29:I29) -> 74212.2 | G29: 62192.4 | I29: 12019.8 | J29: =SUM(K29:M29) -> 62638.2 | K29: 53030.8 | M29: 9607.4 | N29: =SUM(O29:Q29) -> 62547.2 | O29: 56637.3 | Q29: 5909.9 | R29: =SUM(S29:U29) -> 62547.2 | S29: 56637.3 | U29: 5909.9 | V29: =J29/F29 -> 0.844
A30: 1.3 | B30: Региональный проект "Содействие занятости женщин - создание условий дошкольного образования для детей в возрасте до трех лет", всего | C30: Х | D30: Х | E30: Х | F30: =SUM(G30:I30) -> 1220692.8 | G30: =SUM(G32:G33) -> 572787.3 | H30: =SUM(H32:H33) -> 646684.7 | I30: =SUM(I32:I33) -> 1220.8 | J30: =SUM(K30:M30) -> 0 | K30: =SUM(K32:K33) -> 0 | L30: =SUM(L32:L33) -> 0 | M30: =SUM(M32:M33) -> 0 | N30: =SUM(O30:Q30) -> 613603.1 | O30: =SUM(O32:O33) -> 339568.5 | P30: =SUM(P32:P33) -> 274034.6 | Q30: =SUM(Q32:Q33) -> 0 | R30: =SUM(S30:U30) -> 1229501.3 | S30: =SUM(S32:S33) -> 356541 | T30: =SUM(T32:T33) -> 872960.3 | U30: =SUM(U32:U33) -> 0 | V30: =J30/F30 -> 0
B31: из них
A32: 024 | B32: Создание дополнительных мест для детей в возрасте от 2 месяцев до 3 лет в образовательных организациях, осуществляющих образовательную деятельность по образовательным программам дошкольного образования | C32: 821 | D32: Департамент архитектуры и строительства Томской области | E32: 092P251590 | F32: =SUM(G32:I32) -> 413521.4 | G32: 247570.3 | H32: 165537.6 | I32: 413.5 | J32: =SUM(K32:M32) -> 0 | N32: =SUM(O32:Q32) -> 0 | R32: =SUM(S32:U32) -> 0 | V32: =J32/F32 -> 0
A33: 022 | B33: Создание дополнительных мест для детей в возрасте от 1,5 до 3 лет в образовательных организациях, осуществляющих образовательную деятельность по образовательным программам дошкольного образования | C33: 821 | D33: Департамент архитектуры и строительства Томской области | E33: 092P252320 | F33: =SUM(G33:I33) -> 807171.4 | G33: 325217 | H33: 481147.1 | I33: 807.3 | J33: =SUM(K33:M33) -> 0 | N33: =SUM(O33:Q33) -> 613603.1 | O33: =98303.6+241264.9 -> 339568.5 | P33: 274034.6 | R33: =SUM(S33:U33) -> 1229501.3 | S33: 356541 | T33: 872960.3 | V33: =J33/F33 -> 0
A34: 1.4 | B34: Региональный проект "Финансовая поддержка семей при рождении детей", всего | C34: Х | D34: Х | E34: Х | F34: =SUM(G34:I34) -> 1145620.7 | G34: =SUM(G36:G37) -> 776166.8 | H34: =SUM(H36:H37) -> 369453.9 | I34: =SUM(I36:I37) -> 0 | J34: =SUM(K34:M34) -> 963030 | K34: =SUM(K36:K37) -> 618884.7 | L34: =SUM(L36:L37) -> 344145.3 | M34: =SUM(M36:M37) -> 0 | N34: =SUM(O34:Q34) -> 1064287.3 | O34: =SUM(O36:O37) -> 776166.8 | P34: =SUM(P36:P37) -> 288120.5 | Q34: =SUM(Q36:Q37) -> 0 | R34: =SUM(S34:U34) -> 1066542.6 | S34: =SUM(S36:S37) -> 776166.8 | T34: =SUM(T36:T37) -> 290375.8 | U34: =SUM(U36:U37) -> 0 | V34: =J34/F34 -> 0.841
B35: из них
A36: 023 | B36: Осуществление ежемесячной выплаты в связи с рождением (усыновлением) первого ребенка | C36: 809 | D36: Департамент социальной защиты населения Томской области | E36: 111P155730 | F36: =SUM(G36:I36) -> 369453.9 | H36: 369453.9 | J36: =SUM(K36:M36) -> 344145.3 | L36: 344145.3 | N36: =SUM(O36:Q36) -> 288120.5 | P36: 288120.5 | R36: =SUM(S36:U36) -> 290375.8 | T36: 290375.8 | V36: =J36/F36 -> 0.931
B37: Осуществление ежемесячной денежной выплаты, назначаемой в случае рождения третьего ребенка или последующих детей до достижения ребенком возраста трех лет | C37: 809 | D37: Департамент социальной защиты населения Томской области | E37: 111P1Д0840 | F37: =SUM(G37:I37) -> 776166.8 | G37: 776166.8 | J37: =SUM(K37:M37) -> 618884.7 | K37: 618884.7 | N37: =SUM(O37:Q37) -> 776166.8 | O37: 776166.8 | R37: =SUM(S37:U37) -> 776166.8 | S37: 776166.8 | V37: =J37/F37 -> 0.797
A38: 1.5 | B38: Региональный проект "Укрепление общественного здоровья" | C38: Х | D38: Х | E38: Х | F38: =F40 -> 3700 | G38: =G40 -> 3700 | H38: =H40 -> 0 | I38: =I40 -> 0 | J38: =J40 -> 3519.6 | K38: =K40 -> 3519.6 | L38: =L40 -> 0 | M38: =M40 -> 0 | ... U38: =U40 -> 0 | V38: =J38/F38 -> 0.951
B39: из них
B40: Создание и демонстрация рекламно - информационных материалов в СМИ, сети "Интернет", в медицинских организациях и общественных местах, разработка печатной продукции по формированию здорового образа жизни | C40: 811 | D40: Департамент здравоохранения Томской области | E40: 071P4Д0003 | F40: =G40 -> 3700 | G40: 3700 | J40: =K40 -> 3519.6 | K40: 3519.6 | N40: =O40 -> 3700 | O40: 3700 | R40: =S40 -> 3700 | S40: 3700 | V40: =J40/F40 -> 0.951
A41: 2 | B41: Национальный проект "Здравоохранение" | C41: Х | D41: Х | E41: Х | F41: =F42+F50+F54+F58+F62 -> 1216123.5 | G41: =G42+G50+G54+G58+G62 -> 266674 | H41: =H42+H50+H54+H58+H62 -> 949449.5 | I41: =I42+I50+I54+I58+I62 -> 0 | J41: =J42+J50+J54+J58+J62 -> 569086.8 | K41: =K42+K50+K54+K58+K62 -> 166792.3 | L41: =L42+L50+L54+L58+L62 -> 402294.5 | M41: =M42+M50+M54+M58+M62 -> 0 | ... U41: =U42+U50+U54+U58+U62 -> 0 | V41: =J41/F41 -> 0.468
A42: 2.1 | B42: Региональный проект "Развитие системы оказания первичной медико-санитарной помощи", всего | C42: Х | D42: Х | E42: Х | F42: =SUM(G42:I42) -> 282225.8 | G42: =SUM(G44:G49) -> 135045 | H42: =SUM(H44:H49) -> 147180.8 | I42: =SUM(I44:I49) -> 0 | J42: =SUM(K42:M42) -> 273261.6 | K42: =SUM(K44:K49) -> 134665 | L42: =SUM(L44:L49) -> 138596.6 | M42: =SUM(M44:M49) -> 0 | N42: =SUM(O42:Q42) -> 198221.5 | O42: =SUM(O44:O49) -> 90100 | P42: =SUM(P44:P49) -> 108121.5 | Q42: =SUM(Q44:Q49) -> 0 | R42: =SUM(S42:U42) -> 263859.3 | S42: =SUM(S44:S49) -> 96000 | T42: =SUM(T44:T49) -> 167859.3 | U42: =SUM(U44:U49) -> 0 | V42: =J42/F42 -> 0.968
B43: из них
A44: 024 | B44: Оснащение медицинских организаций передвижными медицинскими комплексами для оказания медицинской помощи жителям населенных пунктов с численностью населения до 100 человек | C44: 811 | D44: Департамент здравоохранения Томской области | E44: 071N151910 | F44: =SUM(G44:I44) -> 0 | J44: =SUM(K44:M44) -> 0 | N44: =SUM(O44:Q44) -> 0 | R44: =SUM(S44:U44) -> 65569 | T44: 65569
A45: 024 | B45: Создание и замена фельдшерских, фельдшерско-акушерских пунктов и врачебных амбулаторий для населенных пунктов с численностью населения от 100 до 2000 человек | C45: 811 | D45: Департамент здравоохранения Томской области | E45: 071N151960 | F45: =SUM(G45:I45) -> 21521 | H45: 21521 | J45: =SUM(K45:M45) -> 12936.8 | L45: 12936.8 | N45: =SUM(O45:Q45) -> 0 | R45: =SUM(S45:U45) -> 0 | V45: =J45/F45 -> 0.601
A46: 022 | B46: Обеспечение закупки авиационных работ органами государственной власти субъектов Российской Федерации в целях оказания медицинской помощи | C46: 811 | D46: Департамент здравоохранения Томской области | E46: 072N155540 | F46: =SUM(G46:I46) -> 150000 | G46: 24340.2 | H46: 125659.8 | J46: =SUM(K46:M46) -> 150000 | K46: =17286.95+3786.25+3267 -> 24340.2 | L46: =89246.38+19547.08+16866.34 -> 125659.8 | N46: =SUM(O46:Q46) -> 150000 | O46: 41878.5 | P46: 108121.5 | R46: =SUM(S46:U46) -> 150000 | S46: 47709.7 | T46: 102290.3 | V46: =J46/F46 -> 1
B47: Организация проведения профилактических медицинских осмотров | C47: 811 | D47: Департамент здравоохранения Томской области | E47: 071N100001 | F47: =SUM(G47:I47) -> 6000 | G47: 6000 | J47: =SUM(K47:M47) -> 6000 | K47: 6000 | N47: =SUM(O47:Q47) -> 6000 | O47: 6000 | R47: =SUM(S47:U47) -> 6000 | S47: 6000 | V47: =J47/F47 -> 1
B48: Оказание медицинской помощи с применением санитарной авиации | C48: 811 | D48: Департамент здравоохранения Томской области | E48: 072N1Д5540 | F48: =SUM(G48:I48) -> 102804.8 | G48: =52059.8+50745 -> 102804.8 | J48: =SUM(K48:M48) -> 102804.8 | K48: =52059.8+50745 -> 102804.8 | N48: =SUM(O48:Q48) -> 40321.5 | O48: 40321.5 | R48: =SUM(S48:U48) -> 40390.3 | S48: 40390.3 | V48: =J48/F48 -> 1
B49: Функционирование регионального проектного офиса по созданию и внедрению "Новой модели медицинской организации, оказывающей первичную медико-санитарную помощь" | C49: 811 | D49: Департамент здравоохранения Томской области | E49: 076N100101 | F49: =SUM(G49:I49) -> 1900 | G49: 1900 | J49: =SUM(K49:M49) -> 1520 | K49: 1520 | N49: =SUM(O49:Q49) -> 1900 | O49: 1900 | R49: =SUM(S49:U49) -> 1900 | S49: 1900 | V49: =J49/F49 -> 0.8
A50: 2.2 | B50: Региональный проект "Борьба с сердечно-сосудистыми заболеваниями", всего | C50: Х | D50: Х | E50: Х | F50: =SUM(G50:I50) -> 80052.5 | G50: =SUM(G52:G53) -> 5500 | H50: =SUM(H52:H53) -> 74552.5 | I50: =SUM(I52:I53) -> 0 | J50: =SUM(K50:M50) -> 11203.5 | K50: =SUM(K52:K53) -> 4686.5 | L50: =SUM(L52:L53) -> 6517 | M50: =SUM(M52:M53) -> 0 | N50: =SUM(O50:Q50) -> 90539.4 | O50: =SUM(O52:O53) -> 5500 | P50: =SUM(P52:P53) -> 85039.4 | Q50: =SUM(Q52:Q53) -> 0 | R50: =SUM(S50:U50) -> 71706.9 | S50: =SUM(S52:S53) -> 5500 | T50: =SUM(T52:T53) -> 66206.9 | U50: =SUM(U52:U53) -> 0 | V50: =J50/F50 -> 0.14
B51: из них
A52: 024 | B52: Оснащение оборудованием региональных сосудистых центров и первичных сосудистых отделений | C52: 811 | D52: Департамент здравоохранения Томской области | E52: 072N251920 | F52: =SUM(G52:I52) -> 74552.5 | H52: 74552.5 | J52: =SUM(K52:M52) -> 6517 | L52: 6517 | N52: =SUM(O52:Q52) -> 85039.4 | P52: 85039.4 | R52: =SUM(S52:U52) -> 66206.9 | T52: 66206.9 | V52: =J52/F52 -> 0.087
B53: Профилактика развития сердечно-сосудистых заболеваний и сердечно-сосудистых осложнений у пациентов высокого риска | C53: 811 | D53: Департамент здравоохранения Томской области | E53: 071N2Д0002 | F53: =SUM(G53:I53) -> 5500 | G53: 5500 | J53: =SUM(K53:M53) -> 4686.5 | K53: 4686.5 | N53: =SUM(O53:Q53) -> 5500 | O53: 5500 | R53: =SUM(S53:U53) -> 5500 | S53: 5500 | V53: =J53/F53 -> 0.852
A54: 2.3 | B54: Региональный проект "Развитие детского здравоохранения, включая создание современной инфраструктуры оказания медицинской помощи детям", всего | C54: Х | D54: Х | E54: Х | F54: =SUM(G54:I54) -> 106204.4 | G54: =SUM(G56:G57) -> 20129.8 | H54: =SUM(H56:H57) -> 86074.6 | I54: =SUM(I56:I57) -> 0 | J54: =SUM(K54:M54) -> 41889.3 | K54: =SUM(K56:K57) -> 8905.2 | L54: =SUM(L56:L57) -> 32984.1 | M54: =SUM(M56:M57) -> 0 | N54: =SUM(O54:Q54) -> 107658.4 | O54: =SUM(O56:O57) -> 20377 | P54: =SUM(P56:P57) -> 87281.4 | Q54: =SUM(Q56:Q57) -> 0 | R54: =SUM(S54:U54) -> 2500 | S54: =SUM(S56:S57) -> 2500 | T54: =SUM(T56:T57) -> 0 | U54: =SUM(U56:U57) -> 0 | V54: =J54/F54 -> 0.394
B55: из них
A56: 022 | B56: Развитие материально-технической базы детских поликлиник и детских поликлинических отделений медицинских организаций, оказывающих первичную медико-санитарную помощь | C56: 811 | D56: Департамент здравоохранения Томской области | E56: 073N451700 | F56: =SUM(G56:I56) -> 103704.4 | G56: =17629.8+102.1873-102.1873 -> 17629.8 | H56: =86074.6+498.9127-498.9127 -> 86074.6 | J56: =SUM(K56:M56) -> 39739.9 | K56: 6755.8 | L56: 32984.1 | N56: =SUM(O56:Q56) -> 105158.4 | O56: =17629.8+247.2 -> 17877 | P56: =86074.6+1206.8 -> 87281.4 | R56: =SUM(S56:U56) -> 0 | V56: =J56/F56 -> 0.383
B57: Развитие профилактического направления в педиатрии | C57: 811 | D57: Департамент здравоохранения Томской области | E57: 071N400004 | F57: =SUM(G57:I57) -> 2500 | G57: 2500 | J57: =SUM(K57:M57) -> 2149.4 | K57: 2149.4 | N57: =SUM(O57:Q57) -> 2500 | O57: 2500 | R57: =SUM(S57:U57) -> 2500 | S57: 2500 | V57: =J57/F57 -> 0.86
A58: 2.4 | B58: Региональный проект "Создание единого цифрового контура в здравоохранении на основе единой государственной информационной системы здравоохранения (ЕГИСЗ)", всего | C58: Х | D58: Х | E58: Х | F58: =SUM(G58:I58) -> 138662 | G58: =SUM(G60:G61) -> 26290 | H58: =SUM(H60:H61) -> 112372 | I58: =SUM(I60:I61) -> 0 | J58: =SUM(K58:M58) -> 7000 | K58: =SUM(K60:K61) -> 7000 | L58: =SUM(L60:L61) -> 0 | M58: =SUM(M60:M61) -> 0 | N58: =SUM(O58:Q58) -> 405713 | O58: =SUM(O60:O61) -> 26290 | P58: =SUM(P60:P61) -> 379423 | Q58: =SUM(Q60:Q61) -> 0 | R58: =SUM(S58:U58) -> 132395.1 | S58: =SUM(S60:S61) -> 26290 | T58: =SUM(T60:T61) -> 106105.1 | U58: =SUM(U60:U61) -> 0 | V58: =J58/F58 -> 0.05
B59: из них
A60: 022 | B60: Реализация региональных проектов "Создание единого цифрового контура в здравоохранении на основе единой государственной информационной системы здравоохранения (ЕГИСЗ)" | C60: 811 | D60: Департамент здравоохранения Томской области | E60: 076N751140 | F60: =SUM(G60:I60) -> 130162 | G60: 17790 | H60: 112372 | J60: =SUM(K60:M60) -> 0 | N60: =SUM(O60:Q60) -> 397213 | O60: 17790 | P60: 379423 | R60: =SUM(S60:U60) -> 123895.1 | S60: 17790 | T60: 106105.1 | V60: =J60/F60 -> 0
B61: Обеспечение работоспособности государственных информационных систем в сфере здравоохранения, подключенных к ЕГИСЗ | C61: 811 | D61: Департамент здравоохранения Томской области | E61: 076N751141 | F61: =SUM(G61:I61) -> 8500 | G61: 8500 | J61: =SUM(K61:M61) -> 7000 | K61: 7000 | N61: =SUM(O61:Q61) -> 8500 | O61: 8500 | R61: =SUM(S61:U61) -> 8500 | S61: 8500 | V61: =J61/F61 -> 0.824
A62: 2.5 | B62: Региональный проект "Борьба с онкологическими заболеваниями", всего | C62: Х | D62: Х | E62: Х | F62: =SUM(F64:F66) -> 608978.8 | G62: =SUM(G64:G66) -> 79709.2 | H62: =SUM(H64:H66) -> 529269.6 | I62: =SUM(I64:I66) -> 0 | J62: =SUM(J64:J66) -> 235732.4 | K62: =SUM(K64:K66) -> 11535.6 | L62: =SUM(L64:L66) -> 224196.8 | M62: =SUM(M64:M66) -> 0 | ... U62: =SUM(U64:U66) -> 0 | V62: =J62/F62 -> 0.387
B63: из них
A64: 024 | B64: Создание и оснащение референс-центров для проведения иммуногистохимических, патоморфологических исследований и лучевых методов исследований, переоснащение сети региональных медицинских организаций, оказывающих помощь больным онкологическими заболеваниями в субъектах Российской Федерации | C64: 811 | D64: Департамент здравоохранения Томской области | E64: 072N351900 | F64: =SUM(G64:I64) -> 223067.6 | H64: 223067.6 | J64: =SUM(K64:M64) -> 169746.2 | L64: 169746.2 | N64: =SUM(O64:Q64) -> 390904.5 | P64: 390904.5 | R64: =SUM(S64:U64) -> 158618.8 | T64: 158618.8 | V64: =J64/F64 -> 0.761
A65: 022 | B65: Софинансирование капитальных вложений в объекты государственной собственности субъектов Российской Федерации (Хирургический корпус на 120 коек с поликлиникой на 200 п/смену ОГАУЗ "Томский областной онкологический диспансер" ) | C65: 821 | D65: Департамент архитектуры и строительства Томской области | E65: 076N351110 | F65: =SUM(G65:I65) -> 385911.2 | G65: 79709.2 | H65: 306202 | J65: =SUM(K65:M65) -> 65986.2 | K65: 11535.6 | L65: 54450.6 | N65: =SUM(O65:Q65) -> 1159552.8 | O65: =200254.9+1812.9 -> 202067.8 | P65: 957485 | R65: =SUM(S65:U65) -> 2414050.4 | S65: =498971.2+107.2 -> 499078.4 | T65: 1914972 | V65: =J65/F65 -> 0.171
B66: Бюджетные ассигнования на объекты капитального строительства государственной собственности в сфере здравоохранения | C66: 821 | D66: Департамент архитектуры и строительства Томской области | E66: 076N30И000 | F66: =SUM(G66:I66) -> 0 | G66: =673-673 -> 0 | J66: =SUM(K66:M66) -> 0 | N66: =SUM(O66:Q66) -> 0 | O66: =1812.9-1812.9 -> 0 | R66: =SUM(S66:U66) -> 0 | S66: =107.2-107.2 -> 0
A67: 3 | B67: Национальный проект "Образование" | C67: Х | D67: Х | E67: Х | F67: =F68+F76+F82+F89+F100 -> 1518736.1 | G67: =G68+G76+G82+G89+G100 -> 817130.8 | H67: =H68+H76+H82+H89+H100 -> 662910.2 | I67: =I68+I76+I82+I89+I100 -> 38695.1 | J67: =J68+J76+J82+J89+J100 -> 1288007.7 | K67: =K68+K76+K82+K89+K100 -> 767131 | L67: =L68+L76+L82+L89+L100 -> 485984.4 | M67: =M68+M76+M82+M89+M100 -> 34892.3 | ... U67: =U68+U76+U82+U89+U100 -> 0 | V67: =J67/F67 -> 0.848
A68: 3.1 | B68: Региональный проект "Современная школа", всего | C68: Х | D68: Х | E68: Х | F68: =SUM(F70:F75) -> 1311941.2 | G68: =SUM(G70:G75) -> 705896 | H68: =SUM(H70:H75) -> 567363.3 | I68: =SUM(I70:I75) -> 38681.9 | J68: =SUM(J70:J75) -> 1165863.6 | K68: =SUM(K70:K75) -> 693227.3 | L68: =SUM(L70:L75) -> 437750 | M68: =SUM(M70:M75) -> 34886.3 | ... U68: =SUM(U70:U75) -> 0 | V68: =J68/F68 -> 0.889
B69: из них
A70: 022 | B70: Обновление материально-технической базы для формирования у обучающихся современных технологических и гуманитарных навыков | C70: 815 | D70: Департамент общего образования Томской области | E70: 091E151690 | F70: =SUM(G70:I70) -> 46409.3 | G70: 1392.3 | H70: 45017 | J70: =SUM(K70:M70) -> 12068.6 | K70: 362 | L70: 11706.6 | N70: =SUM(O70:Q70) -> 0 | R70: =SUM(S70:U70) -> 0 | V70: =J70/F70 -> 0.26
A71: 022 | B71: Создание новых мест в общеобразовательных организациях, расположенных в сельской местности и поселках городского типа (Здание ОГБОУ «Шегарская школа-интернат» на 60 мест в п. Победа Шегарского района) | C71: 821 | D71: Департамент архитектуры и строительства Томской области | E71: 241E152300 | F71: =SUM(G71:I71) -> 99380.7 | G71: 2978.4 | H71: 96302.9 | I71: 99.4 | J71: =SUM(K71:M71) -> 0 | N71: =SUM(O71:Q71) -> 307609.4 | O71: 307301.8 | Q71: 307.6 | R71: =SUM(S71:U71) -> 0 | V71: =J71/F71 -> 0
B72: Создание новых мест в общеобразовательных организациях, расположенных в сельской местности и поселках городского типа (операционные расходы) | C72: 815 | D72: Департамент общего образования Томской области | E72: 241E152300 | F72: =SUM(G72:I72) -> 8660 | G72: 8660 | J72: =SUM(K72:M72) -> 0 | N72: =SUM(O72:Q72) -> 0 | R72: =SUM(S72:U72) -> 0 | V72: =J72/F72 -> 0
A73: 022 | B73: Создание новых мест в общеобразовательных организациях (Приобретение здания с оборудованием для размещения общеобразовательной организации на 1100 мест по ул. П.Федоровского в г. Томске) | C73: 821 | D73: Департамент архитектуры и строительства Томской области | E73: 241E155200 | F73: =SUM(G73:I73) -> 1082491.2 | G73: 655365.3 | H73: 426043.4 | I73: 1082.5 | J73: =SUM(K73:M73) -> 1082491.2 | K73: 655365.3 | L73: 426043.4 | M73: 1082.5 | N73: =SUM(O73:Q73) -> 1081408.7 | O73: 687844.2 | P73: 393564.5 | R73: =SUM(S73:U73) -> 0 | S73: =687844.2-687844.2 -> 0 | V73: =J73/F73 -> 1
B74: Создание новых мест в общеобразовательных организациях | C74: 821 | D74: Департамент архитектуры и строительства Томской области | E74: 241E1Д5200 | F74: =SUM(G74:I74) -> 0 | J74: =SUM(K74:M74) -> 0 | N74: =SUM(O74:Q74) -> 0 | R74: =SUM(S74:U74) -> 687844.2 | S74: 687844.2
B75: Оснащение зданий средствами обучения и воспитания для размещения общеобразовательных организаций | C75: 815 | D75: Департамент общего образования Томской области | E75: 241E155201 | F75: =SUM(G75:I75) -> 75000 | G75: 37500 | I75: 37500 | J75: =SUM(K75:M75) -> 71303.8 | K75: 37500 | M75: 33803.8 | N75: =SUM(O75:Q75) -> 0 | R75: =SUM(S75:U75) -> 0 | V75: =J75/F75 -> 0.951
A76: 3.2 | B76: Региональный проект "Цифровая образовательная среда", всего | C76: Х | D76: Х | E76: Х | F76: =SUM(F78:F81) -> 37934.6 | G76: =SUM(G78:G81) -> 7443 | H76: =SUM(H78:H81) -> 30491.6 | I76: =SUM(I78:I81) -> 0 | J76: =SUM(J78:J81) -> 10837.7 | K76: =SUM(K78:K81) -> 6081.2 | L76: =SUM(L78:L81) -> 4756.5 | M76: =SUM(M78:M81) -> 0 | ... U76: =SUM(U78:U81) -> 0 | V76: =J76/F76 -> 0.286
B77: из них
A78: 022 | B78: Внедрение целевой модели цифровой образовательной среды в общеобразовательных организациях и профессиональных образовательных организациях | C78: 815 | D78: Департамент общего образования Томской области | E78: 091E452100 | F78: =SUM(G78:I78) -> 27001.7 | G78: 810.1 | H78: 26191.6 | J78: =SUM(K78:M78) -> 470.6 | K78: 14.1 | L78: 456.5 | N78: =SUM(O78:Q78) -> 0 | R78: =SUM(S78:U78) -> 0 | V78: =J78/F78 -> 0.017
A79: 022 | B79: Внедрение целевой модели цифровой образовательной среды в общеобразовательных организациях и профессиональных образовательных организациях | C79: 816 | D79: Департамент профессионального образования Томской области | E79: 093E452100 | F79: =SUM(G79:I79) -> 4433 | G79: 133 | H79: 4300 | J79: =SUM(K79:M79) -> 4433 | K79: 133 | L79: 4300 | N79: =SUM(O79:Q79) -> 0 | R79: =SUM(S79:U79) -> 0 | V79: =J79/F79 -> 1
B80: Внедрение и функционирование целевой модели цифровой образовательной среды в общеобразовательных организациях | C80: 815 | D80: Департамент общего образования Томской области | E80: 091E452101 | F80: =SUM(G80:I80) -> 6249.9 | G80: 6249.9 | J80: =SUM(K80:M80) -> 5729.1 | K80: 5729.1 | N80: =SUM(O80:Q80) -> 0 | R80: =SUM(S80:U80) -> 0 | V80: =J80/F80 -> 0.917
B81: Функционирование целевой модели цифровой образовательной среды в профессиональных образовательных организациях | C81: 816 | D81: Департамент профессионального образования Томской области | E81: 093E452101 | F81: =SUM(G81:I81) -> 250 | G81: 250 | J81: =SUM(K81:M81) -> 205 | K81: 205 | N81: =SUM(O81:Q81) -> 0 | R81: =SUM(S81:U81) -> 0 | V81: =J81/F81 -> 0.82
A82: 3.3 | B82: Региональный проект "Успех каждого ребенка", всего | C82: Х | D82: Х | E82: Х | F82: =SUM(F84:F88) -> 94449.6 | G82: =SUM(G84:G88) -> 83475.7 | H82: =SUM(H84:H88) -> 10960.7 | I82: =SUM(I84:I88) -> 13.2 | J82: =SUM(J84:J88) -> 58121.7 | K82: =SUM(K84:K88) -> 53158.9 | L82: =SUM(L84:L88) -> 4956.8 | M82: =SUM(M84:M88) -> 6 | ... U82: =SUM(U84:U88) -> 0 | V82: =J82/F82 -> 0.615
B83: из них
A84: 022 | B84: Создание в общеобразовательных организациях, расположенных в сельской местности, условий для занятий физической культурой и спортом | C84: 821 | D84: Департамент архитектуры и строительства Томской области | E84: 092E250970 | F84: =SUM(G84:I84) -> 13244.6 | G84: 2270.7 | H84: 10960.7 | I84: 13.2 | J84: =SUM(K84:M84) -> 5989.7 | K84: 1026.9 | L84: 4956.8 | M84: 6 | N84: =SUM(O84:Q84) -> 0 | R84: =SUM(S84:U84) -> 0 | V84: =J84/F84 -> 0.452
B85: Создание центров выявления и поддержки одаренных детей | C85: 815 | D85: Департамент общего образования Томской области | E85: 091E251890 | F85: =SUM(G85:I85) -> 30000 | G85: 30000 | J85: =SUM(K85:M85) -> 13632.1 | K85: 13632.1 | N85: =SUM(O85:Q85) -> 0 | R85: =SUM(S85:U85) -> 0 | V85: =J85/F85 -> 0.454
B86: Формирование современных управленческих и организационно-экономических механизмов в системе дополнительного образования детей в субъектах Российской Федерации | C86: 815 | D86: Департамент общего образования Томской области | E86: 091E255370 | F86: =SUM(G86:I86) -> 35464.5 | G86: 35464.5 | J86: =SUM(K86:M86) -> 26224.6 | K86: 26224.6 | N86: =SUM(O86:Q86) -> 0 | R86: =SUM(S86:U86) -> 0 | V86: =J86/F86 -> 0.739
B87: Внедрение целевой модели развития региональных систем дополнительного образования детей | C87: 815 | D87: Департамент общего образования Томской области | E87: 091E255371 | F87: =SUM(G87:I87) -> 10720 | G87: 10720 | J87: =SUM(K87:M87) -> 7260.2 | K87: 7260.2 | N87: =SUM(O87:Q87) -> 0 | R87: =SUM(S87:U87) -> 0 | V87: =J87/F87 -> 0.677
B88: Реализация пилотных проектов по обновлению содержания и технологий дополнительного образования по приоритетным направлениям | C88: 815 | D88: Департамент общего образования Томской области | E88: 091E262352 | F88: =SUM(G88:I88) -> 5020.5 | G88: 5020.5 | J88: =SUM(K88:M88) -> 5015.1 | K88: 5015.1 | N88: =SUM(O88:Q88) -> 0 | R88: =SUM(S88:U88) -> 0 | V88: =J88/F88 -> 0.999
A89: 3.4 | B89: Региональный проект "Молодые профессионалы (Повышение конкурентоспособности профессионального образования)", всего | C89: Х | D89: Х | E89: Х | F89: =F91+F92+F93+F94+F95+F96+F97+F98+F99 -> 73344.7 | G89: =G91+G92+G93+G94+G95+G96+G97+G98+G99 -> 19250.1 | H89: =H91+H92+H93+H94+H95+H96+H97+H98+H99 -> 54094.6 | I89: =I91+I92+I93+I94+I95+I96+I97+I98+I99 -> 0 | J89: =J91+J92+J93+J94+J95+J96+J97+J98+J99 -> 52483.3 | K89: =K91+K92+K93+K94+K95+K96+K97+K98+K99 -> 13962.2 | L89: =L91+L92+L93+L94+L95+L96+L97+L98+L99 -> 38521.1 | M89: =M91+M92+M93+M94+M95+M96+M97+M98+M99 -> 0 | ... U89: =U91+U92+U93+U94+U95+U96+U97+U98+U99 -> 0 | V89: =J89/F89 -> 0.716
B90: из них
B91: Реализация региональных мероприятий, направленных на модернизацию среднего профессионального образования | C91: 816 | D91: Департамент профессионального образования Томской области | E91: 093E600020 | F91: =SUM(G91:I91) -> 0 | G91: =8670-8670 -> 0 | H91: 0 | J91: =SUM(K91:M91) -> 0 | K91: =39.59+504.24+3119.25-3663.08 -> 0 | N91: =SUM(O91:Q91) -> 0 | O91: =28120-28120 -> 0 | R91: =SUM(S91:U91) -> 0 | S91: =34320-34320 -> 0
A92: 022 | B92: Разработка и распространение в системе среднего профессионального образования новых образовательных технологий и формы опережающей профессиональной подготовки | C92: 816 | D92: Департамент профессионального образования Томской области | E92: 093E651770 | F92: =SUM(G92:I92) -> 55767.6 | G92: 1673 | H92: 54094.6 | J92: =SUM(K92:M92) -> 39712.5 | K92: 1191.4 | L92: 38521.1 | N92: =SUM(O92:Q92) -> 0 | R92: =SUM(S92:U92) -> 0 | V92: =J92/F92 -> 0.712
B93: Государственная поддержка профессиональных образовательных организаций в целях обеспечения соответствия их материально-технической базы современным требованиям | C93: 816 | D93: Департамент профессионального образования Томской области | E93: 093E600080 | F93: =SUM(G93:I93) -> 0 | G93: =8907.1-8907.1 -> 0 | J93: =SUM(K93:M93) -> 0 | N93: =SUM(O93:Q93) -> 0 | R93: =SUM(S93:U93) -> 0
B94: Функционирование центра опережающей профессиональной подготовки | C94: 816 | D94: Департамент профессионального образования Томской области | E94: 093E651771 | F94: =SUM(G94:I94) -> 0 | J94: =SUM(K94:M94) -> 0 | N94: =SUM(O94:Q94) -> 33000 | O94: 33000 | R94: =SUM(S94:U94) -> 33000 | S94: 33000
B95: Государственная поддержка профессиональных образовательных организаций в целях обеспечения соответствия их материально-технической базы современным требованиям | C95: 816 | D95: Департамент профессионального образования Томской области | E95: 093E661624 | F95: =SUM(G95:I95) -> 8907.1 | G95: 8907.1 | J95: =SUM(K95:M95) -> 4876.8 | K95: 4876.8 | N95: =SUM(O95:Q95) -> 0 | R95: =SUM(S95:U95) -> 0 | V95: =J95/F95 -> 0.548
B96: Обеспечение проведения аттестации обучающихся по программам среднего профессионального образования с использованием механизма демонстрационного экзамена | C96: 816 | D96: Департамент профессионального образования Томской области | E96: 093E661634 | F96: =SUM(G96:I96) -> 3840 | G96: 3840 | J96: =SUM(K96:M96) -> 3840 | K96: 3840 | N96: =SUM(O96:Q96) -> 5620 | O96: 5620 | R96: =SUM(S96:U96) -> 5620 | S96: 5620 | V96: =J96/F96 -> 1
B97: Внедрение программ профессионального обучения по наиболее востребованным и перспективным профессиям на уровне, соответствующем стандартам Ворлдскиллс, с учетом продолжительности программ не более 6 месяцев | C97: 816 | D97: Департамент профессионального образования Томской области | E97: 093E661635 | F97: =SUM(G97:I97) -> 280 | G97: 280 | J97: =SUM(K97:M97) -> 0 | N97: =SUM(O97:Q97) -> 20 | O97: 20 | R97: =SUM(S97:U97) -> 20 | S97: 20 | V97: =J97/F97 -> 0
B98: Повышение квалификации преподавателей (мастеров производственного обучения) по программам, основанным на опыте Союза Ворлдскиллс Россия | C98: 816 | D98: Департамент профессионального образования Томской области | E98: 093E661636 | F98: =SUM(G98:I98) -> 4550 | G98: 4550 | J98: =SUM(K98:M98) -> 4054 | K98: 4054 | N98: =SUM(O98:Q98) -> 5850 | O98: 5850 | R98: =SUM(S98:U98) -> 6500 | S98: 6500 | V98: =J98/F98 -> 0.891
B99: Вовлечение в различные формы наставничества обучающихся организаций, осуществляющих образовательную деятельность по образовательным программам среднего профессионального образования | C99: 816 | D99: Департамент профессионального образования Томской области | E99: 093E661637 | F99: =SUM(G99:I99) -> 0 | J99: =SUM(K99:M99) -> 0 | N99: =SUM(O99:Q99) -> 16630 | O99: 16630 | R99: =SUM(S99:U99) -> 22180 | S99: 22180
A100: 3.5 | B100: Региональный проект "Учитель будущего", всего | C100: Х | D100: Х | E100: Х | F100: =F101 -> 1066 | G100: =G101 -> 1066 | H100: =H101 -> 0 | I100: =I101 -> 0 | J100: =J101 -> 701.4 | K100: =K101 -> 701.4 | L100: =L101 -> 0 | M100: =M101 -> 0 | ... U100: =U101 -> 0 | V100: =J100/F100 -> 0.658
B101: Обеспечение непрерывного и планомерного повышения квалификации педагогических работников | C101: 815 | D101: Департамент общего образования Томской области | E101: 091E516200 | F101: =SUM(G101:I101) -> 1066 | G101: 1066 | J101: =SUM(K101:M101) -> 701.4 | K101: 701.4 | N101: =SUM(O101:Q101) -> 0 | R101: =SUM(S101:U101) -> 0 | V101: =J101/F101 -> 0.658
A102: 4 | B102: Национальный проект "Цифровая экономика" | C102: Х | D102: Х | E102: Х | F102: =F103+F107+F110+F113+F122 -> 113670.5 | G102: =G103+G107+G110+G113+G122 -> 113670.5 | H102: =H103+H107+H110+H113+H122 -> 0 | I102: =I103+I107+I110+I113+I122 -> 0 | J102: =J103+J107+J110+J113+J122 -> 67597.4 | K102: =K103+K107+K110+K113+K122 -> 67597.4 | L102: =L103+L107+L110+L113+L122 -> 0 | M102: =M103+M107+M110+M113+M122 -> 0 | ... U102: =U103+U107+U110+U113+U122 -> 0 | V102: =J102/F102 -> 0.595
...

Sheet Лист4
A1: **.*.P*.*****,**.*.N*.*****,**.*.E*.*****,**.*.F*.*****,**.*.G*.*****,**.*.R*.*****,**.*.L*.*****,**.*.D*.*****,**.*.A*.*****,**.*.I*.*****

Sheet Лист2
A1: № п/п | B1: Наименование | C1: Плановые ассигнования | D1: Кассовое исполнение | E1: % исполнения | F1: =Лист1!H3 -> 0 | G1: =Лист1!K3 -> 0
B2: ВСЕГО: | C2: =SUM(C3:C12) -> 9.628 | D2: =SUM(D3:D12) -> 6.049 | E2: =D2/C2 -> 0.628 | F2: =SUM(F3:F12) -> 9.628 | G2: =SUM(G3:G12) -> 6.049
A3: 1 | B3: Национальный проект "Демография" | C3: =SUM(Лист1!G9:H9)/1000000 -> 2.943 | D3: =SUM(Лист1!K9:L9)/1000000 -> 1.27 | E3: 0.371 | F3: 2.943 | G3: 1.27
A4: 2 | B4: Национальный проект "Здравоохранение" | C4: =SUM(Лист1!G41:H41)/1000000 -> 1.216 | D4: =SUM(Лист1!K41:L41)/1000000 -> 0.569 | E4: 0.333 | F4: 1.216 | G4: 0.569
A5: 3 | B5: Национальный проект "Образование" | C5: =SUM(Лист1!G67:H67)/1000000 -> 1.48 | D5: =SUM(Лист1!K67:L67)/1000000 -> 1.253 | E5: 0.81 | F5: 1.48 | G5: 1.253
A6: 4 | B6: Национальный проект "Цифровая экономика" | C6: =SUM(Лист1!G102:H102)/1000000 -> 0.114 | D6: =SUM(Лист1!K102:L102)/1000000 -> 0.068 | E6: 0.47 | F6: 0.114 | G6: 0.068
A7: 5 | B7: Национальный проект "Жилье и городская среда" | C7: =SUM(Лист1!G125:H125)/1000000 -> 0.989 | D7: =SUM(Лист1!K125:L125)/1000000 -> 0.228 | E7: 0.149 | F7: 0.989 | G7: 0.228
A8: 6 | B8: Национальный проект "Экология" | C8: =SUM(Лист1!G137:H137)/1000000 -> 0.164 | D8: =SUM(Лист1!K137:L137)/1000000 -> 0.063 | E8: 0.337 | F8: 0.164 | G8: 0.063
A9: 7 | B9: Национальный проект "Безопасные и качественные автомобильные дороги" | C9: =SUM(Лист1!G152:H152)/1000000 -> 2.292 | D9: =SUM(Лист1!K152:L152)/1000000 -> 2.288 | E9: 0.874 | F9: 2.292 | G9: 2.288
A10: 8 | B10: Национальный проект "Культура" | C10: =SUM(Лист1!G156:H156)/1000000 -> 0.132 | D10: =SUM(Лист1!K156:L156)/1000000 -> 0.097 | E10: 0.668 | F10: 0.132 | G10: 0.097
A11: 9 | B11: Национальный проект "Малое и среднее предпринимательство и поддержка индивидуальной предпринимательской инициативы" | C11: =SUM(Лист1!G168:H168)/1000000 -> 0.213 | D11: =SUM(Лист1!K168:L168)/1000000 -> 0.197 | E11: 0.944 | F11: 0.213 | G11: 0.197
A12: 10 | B12: Национальный проект "Производительность труда и поддержка занятости" | C12: =SUM(Лист1!G188:H188)/1000000 -> 0.085 | D12: =SUM(Лист1!K188:L188)/1000000 -> 0.016 | E12: 0.175 | F12: 0.085 | G12: 0.016

Sheet Лист3
A3: КЦСР | B3: Наименование КЦСР | C3: Ассигнования 2019 год | D3: Всего выбытий (бух.уч.)
A4: 024D500400 | B4: Финансовое обеспечение затрат, возникающих при реализации проекта "Цифровые технологии" | C4: 56878282 | D4: 35000000 | E4: 56878.3 | F4: 35000 | G4: 024D500400 | H4: =G4=A4 -> TRUE | I4: =C4/1000-E4 -> 0 | J4: =D4/1000-F4 -> 0
A5: 031I455271 | B5: Развитие и обеспечение деятельности Гарантийного фонда Томской области | C5: 16405052 | D5: 12292062 | E5: 16405.1 | F5: 12292.1 | G5: 031I455271 | H5: =G5=A5 -> TRUE | I5: =C5/1000-E5 -> 0 | J5: =D5/1000-F5 -> 0
A6: 031I555270 | B6: Государственная поддержка малого и среднего предпринимательства в субъектах Российской Федерации | C6: 1.1439031e+08 | D6: 1.1439031e+08 | E6: 114390.3 | F6: 114390.3 | G6: 031I555270 | H6: =G6=A6 -> TRUE | I6: =C6/1000-E6 -> 0 | J6: =D6/1000-F6 -> 0 | K6: 071P352950
A7: 031I555272 | B7: Субсидии бюджетам монопрофильных муниципальных образований для оказания финансовой поддержки субъектам малого и среднего предпринимательства, занимающихся социально значимыми видами деятельности | C7: 10309278 | D7: 0 | E7: 10309.3 | F7: 0 | G7: 031I555272 | H7: =G7=A7 -> TRUE | I7: =C7/1000-E7 -> 0 | J7: =D7/1000-F7 -> 0
A8: 031I555273 | B8: Организация оказания комплекса услуг, сервисов и мер поддержки субъектам малого и среднего предпринимательства в центре "Мой бизнес" - Центре кластерного развития Томской области | C8: 7628886.6 | D8: 7628866 | E8: 7628.9 | F8: 7628.9 | G8: 031I555273 | H8: =G8=A8 -> TRUE | I8: =C8/1000-E8 -> 0 | J8: =D8/1000-F8 -> 0
A9: 031I555274 | B9: Развитие региональной гарантийной организации в целях ускоренного развития субъектов малого и среднего предпринимательства в моногородах | C9: 28124845 | D9: 28124845 | E9: 28124.8 | F9: 28124.8 | G9: 031I555274 | H9: =G9=A9 -> TRUE | I9: =C9/1000-E9 -> 0 | J9: =D9/1000-F9 -> 0
A10: 031I855270 | B10: Государственная поддержка малого и среднего предпринимательства в субъектах Российской Федерации | C10: 9090412.4 | D10: 9090412.4 | E10: 9090.4 | F10: 9090.4 | G10: 031I855270 | H10: =G10=A10 -> TRUE | I10: =C10/1000-E10 -> 0 | J10: =D10/1000-F10 -> 0
A11: 035L252960 | B11: Государственная поддержка субъектов Российской Федерации - участников национального проекта "Повышение производительности труда и поддержка занятости" | C11: 31375800 | D11: 7000000 | E11: 26875.8 | F11: 7000 | G11: 035L252960 | H11: =G11=A11 -> TRUE | I11: =C11/1000-E11 -> 4500 | J11: =D11/1000-F11 -> 0
E12: 4500 | F12: 0 | G12: 035L252960 | I12: =C12/1000-E12 -> -4500 | J12: =D12/1000-F12 -> 0
A13: 035L252961 | B13: Реализация мероприятий по созданию, техническому оснащению и организационно-методическому сопровождению учебной производственной площадки "Фабрика процессов" | C13: 6900000 | D13: 6900000 | E13: 6900 | F13: 6900 | G13: 035L252961 | H13: =G13=A13 -> TRUE | I13: =C13/1000-E13 -> 0 | J13: =D13/1000-F13 -> 0
A14: 051L355690 | B14: Переобучение, повышение квалификации работников предприятий в целях поддержки занятости и повышения эффективности рынка труда | C14: 19124800 | D14: 300645.4 | E14: 19124.8 | F14: 300.6 | G14: 051L355690 | H14: =G14=A14 -> TRUE | I14: =C14/1000-E14 -> 0 | J14: =D14/1000-F14 -> 0
A15: 051L355691 | B15: Возмещение затрат организациям – участникам регионального проекта "Поддержка занятости и повышение эффективности рынка труда для обеспечения роста производительности труда" на переобучение, повышение квалификации работников | C15: 27589200 | D15: 1805800 | E15: 27589.2 | F15: 1805.8 | G15: 051L355691 | H15: =G15=A15 -> TRUE | I15: =C15/1000-E15 -> 0 | J15: =D15/1000-F15 -> 0
A16: 051P352940 | B16: Организация профессионального обучения и дополнительного профессионального образования лиц предпенсионного возраста | C16: 25141677 | D16: 4814897.2 | E16: 25141.7 | F16: 4814.9 | G16: 051P352940 | H16: =G16=A16 -> TRUE | I16: =C16/1000-E16 -> 0 | J16: =D16/1000-F16 -> 0 | K16: =D16/1000 -> 4814.9
A17: 051P352941 | B17: Возмещение затрат работодателям на профессиональное обучение и дополнительное профессиональное образование работников из числа лиц предпенсионного возраста | C17: 3481523 | D17: 818208 | E17: 3481.5 | F17: 818.2 | G17: 051P352941 | H17: =G17=A17 -> TRUE | I17: =C17/1000-E17 -> 0 | J17: =D17/1000-F17 -> 0
A18: 061I754801 | B18: Гранты "Агростартап" на реализацию проектов создания и развития крестьянских (фермерских) хозяйств | C18: 24926845 | D18: 24926845 | E18: 24926.8 | F18: 24926.8 | G18: 061I754801 | H18: =G18=A18 -> TRUE | I18: =C18/1000-E18 -> 0 | J18: =D18/1000-F18 -> 0
A19: 061I754802 | B19: Осуществление текущей деятельности центра компетенций в сфере сельскохозяйственной кооперации и поддержки фермеров Томской области | C19: 1115938.1 | D19: 526750 | E19: 1116 | F19: 526.8 | G19: 061I754802 | H19: =G19=A19 -> TRUE | I19: =C19/1000-E19 -> -0.1 | J19: =D19/1000-F19 -> 0 | K19: =C19/1000 -> 1115.9
A20: 062I754802 | B20: Осуществление текущей деятельности центра компетенций в сфере сельскохозяйственной кооперации и поддержки фермеров Томской области | C20: 1285715 | D20: 469988.4 | E20: 1285.7 | F20: 470 | G20: 062I754802 | H20: =G20=A20 -> TRUE | I20: =C20/1000-E20 -> 0 | J20: =D20/1000-F20 -> 0
A21: 071N100001 | B21: Организация проведения профилактических медицинских осмотров | C21: 6000000 | D21: 6000000 | E21: 6000 | F21: 6000 | G21: 071N100001 | H21: =G21=A21 -> TRUE | I21: =C21/1000-E21 -> 0 | J21: =D21/1000-F21 -> 0
A22: 071N151960 | B22: Создание и замена фельдшерских, фельдшерско-акушерских пунктов и врачебных амбулаторий для населенных пунктов с численностью населения от 100 до 2000 человек | C22: 21521000 | D22: 12936800 | E22: 21521 | F22: 12936.8 | G22: 071N151960 | H22: =G22=A22 -> TRUE | I22: =C22/1000-E22 -> 0 | J22: =D22/1000-F22 -> 0
A23: 071N2Д0002 | B23: Профилактика развития сердечно-сосудистых заболеваний и сердечно-сосудистых осложнений у пациентов высокого риска | C23: 5500000 | D23: 4686478.5 | E23: 5500 | F23: 4686.5 | G23: 071N2Д0002 | H23: =G23=A23 -> TRUE | I23: =C23/1000-E23 -> 0 | J23: =D23/1000-F23 -> 0
A24: 071N400004 | B24: Развитие профилактического направления в педиатрии | C24: 2500000 | D24: 2149421.5 | E24: 2500 | F24: 2149.4 | G24: 071N400004 | H24: =G24=A24 -> TRUE | I24: =C24/1000-E24 -> 0 | J24: =D24/1000-F24 -> 0
A25: 071P354680 | B25: Проведение вакцинации против пневмококковой инфекции граждан старше трудоспособного возраста из групп риска, проживающих в организациях социального обслуживания | C25: 1634400 | D25: 1625490.8 | E25: 1634.4 | F25: 1625.5 | G25: 071P354680 | H25: =G25=A25 -> TRUE | I25: =C25/1000-E25 -> 0 | J25: =D25/1000-F25 -> 0
A26: 071P4Д0003 | B26: Создание и демонстрация рекламно - информационных материалов в СМИ, сети "Интернет", в медицинских организациях и общественных местах, разработка печатной продукции по формированию здорового образа жизни | C26: 3700000 | D26: 3519623.5 | E26: 3700 | F26: 3519.6 | G26: 071P4Д0003 | H26: =G26=A26 -> TRUE | I26: =C26/1000-E26 -> 0 | J26: =D26/1000-F26 -> 0
A27: 072N155540 | B27: Обеспечение закупки авиационных работ органами государственной власти субъектов Российской Федерации в целях оказания медицинской помощи | C27: 150000000 | D27: 150000000 | E27: 150000 | F27: 150000 | G27: 072N155540 | H27: =G27=A27 -> TRUE | I27: =C27/1000-E27 -> 0 | J27: =D27/1000-F27 -> 0
A28: 072N1Д5540 | B28: Оказание медицинской помощи с применением санитарной авиации | C28: 102804800 | D28: 102804800 | E28: 102804.8 | F28: 102804.8 | G28: 072N1Д5540 | H28: =G28=A28 -> TRUE | I28: =C28/1000-E28 -> 0 | J28: =D28/1000-F28 -> 0
A29: 072N251920 | B29: Оснащение оборудованием региональных сосудистых центров и первичных сосудистых отделений | C29: 74552500 | D29: 6517000 | E29: 74552.5 | F29: 6517 | G29: 072N251920 | H29: =G29=A29 -> TRUE | I29: =C29/1000-E29 -> 0 | J29: =D29/1000-F29 -> 0
A30: 072N351900 | B30: Создание и оснащение референс-центров для проведения иммуногистохимических, патоморфологических исследований и лучевых методов исследований, переоснащение сети региональных медицинских организаций, оказывающих помощь больным онкологическими заболеваниями в субъектах Российской Федерации | C30: 223067600 | D30: 169746160 | E30: 223067.6 | F30: 169746.2 | G30: 072N351900 | H30: =G30=A30 -> TRUE | I30: =C30/1000-E30 -> 0 | J30: =D30/1000-F30 -> 0
A31: 073N451700 | B31: Развитие материально-технической базы детских поликлиник и детских поликлинических отделений медицинских организаций, оказывающих первичную медико-санитарную помощь | C31: 103704400 | D31: 39739899 | E31: 103704.4 | F31: 39739.9 | G31: 073N451700 | H31: =G31=A31 -> TRUE | I31: =C31/1000-E31 -> 0 | J31: =D31/1000-F31 -> 0
A32: 076N100101 | B32: Функционирование регионального проектного офиса по созданию и внедрению "Новой модели медицинской организации, оказывающей первичную медико-санитарную помощь" | C32: 1900000 | D32: 1520000 | E32: 1900 | F32: 1520 | G32: 076N100101 | H32: =G32=A32 -> TRUE | I32: =C32/1000-E32 -> 0 | J32: =D32/1000-F32 -> 0 | K32: 082P552290
A33: 076N351110 | B33: Софинансирование капитальных вложений в объекты государственной собственности субъектов Российской Федерации | C33: 385911200 | D33: 65986214 | E33: 385911.2 | F33: 65986.2 | G33: 076N351110 | H33: =G33=A33 -> TRUE | I33: =C33/1000-E33 -> 0 | J33: =D33/1000-F33 -> 0 | K33: 083P551390
A34: 076N751140 | B34: Реализация региональных проектов "Создание единого цифрового контура в здравоохранении на основе единой государственной информационной системы здравоохранения (ЕГИСЗ)" | C34: 130162000 | D34: 0 | E34: 130162 | F34: 0 | G34: 076N751140 | H34: =G34=A34 -> TRUE | I34: =C34/1000-E34 -> 0 | J34: =D34/1000-F34 -> 0
A35: 076N751141 | B35: Обеспечение работоспособности государственных информационных систем в сфере здравоохранения, подключенных к ЕГИСЗ | C35: 8500000 | D35: 7000000 | E35: 8500 | F35: 7000 | G35: 076N751141 | H35: =G35=A35 -> TRUE | I35: =C35/1000-E35 -> 0 | J35: =D35/1000-F35 -> 0
A36: 081P500001 | B36: Приобретение оборудования для малобюджетных спортивных площадок по месту жительства и учебы в муниципальных образованиях Томской области, за исключением муниципального образования "Город Томск", муниципального образования "Городской округ закрытое административно-территориальное образование Северск Томской области" | C36: 9000000 | D36: 9000000 | E36: 9000 | F36: 9000 | G36: 081P500001 | H36: =G36=A36 -> TRUE | I36: =C36/1000-E36 -> 0 | J36: =D36/1000-F36 -> 0
A37: 081P500003 | B37: Обеспечение условий для развития физической культуры и массового спорта | C37: 62192400 | D37: 53030800 | E37: 62192.4 | F37: 53030.8 | G37: 081P500003 | H37: =G37=A37 -> TRUE | I37: =C37/1000-E37 -> 0 | J37: =D37/1000-F37 -> 0
A38: 081P552280 | B38: Оснащение объектов спортивной инфраструктуры спортивно-технологическим оборудованием | C38: 20369200 | D38: 0 | E38: 20369.2 | F38: 0 | G38: 081P552280 | H38: =G38=A38 -> TRUE | I38: =C38/1000-E38 -> 0 | J38: =D38/1000-F38 -> 0
A39: 082P500002 | B39: Приобретение спортивного инвентаря, оборудования и спортивной экипировки для спортивных школ | C39: 30000000 | D39: 28094600 | E39: 30000 | F39: 28094.6 | G39: 082P500002 | H39: =G39=A39 -> TRUE | I39: =C39/1000-E39 -> 0 | J39: =D39/1000-F39 -> 0
A40: 083P540370 | B40: Капитальный ремонт муниципальных спортивных сооружений | C40: 79000000 | D40: 57138732 | E40: 79000 | F40: 57138.7 | G40: 083P540370 | H40: =G40=A40 -> TRUE | I40: =C40/1000-E40 -> 0 | J40: =D40/1000-F40 -> 0
A41: 083P54И380 | B41: Строительство универсальных спортивных площадок в муниципальных образованиях Томской области | C41: 25122700 | D41: 8845679 | E41: 25122.7 | F41: 8845.7 | G41: 083P54И380 | H41: =G41=A41 -> TRUE | I41: =C41/1000-E41 -> 0 | J41: =D41/1000-F41 -> 0
A42: 091D309100 | B42: Подготовка кадров для цифровой экономики | C42: 5000000 | D42: 5000000 | E42: 5000 | F42: 5000 | G42: 091D309100 | H42: =G42=A42 -> TRUE | I42: =C42/1000-E42 -> 0 | J42: =D42/1000-F42 -> 0
A43: 091D362357 | B43: Проведение тематических смен в сезонных лагерях для школьников по передовым направлениям дискретной математики, информатики, цифровых технологий | C43: 244898 | D43: 0 | E43: 244.9 | F43: 0 | G43: 091D362357 | H43: =G43=A43 -> TRUE | I43: =C43/1000-E43 -> 0 | J43: =D43/1000-F43 -> 0
A44: 091D364157 | B44: Государственная поддержка создания и функционирования организаций дополнительного образования детей и (или) детских объединений на базе школ для углубленного изучения математики и информатики | C44: 61225 | D44: 0 | E44: 61.2 | F44: 0 | G44: 091D364157 | H44: =G44=A44 -> TRUE | I44: =C44/1000-E44 -> 0 | J44: =D44/1000-F44 -> 0
A45: 091E151690 | B45: Обновление материально-технической базы для формирования у обучающихся современных технологических и гуманитарных навыков | C45: 46409300 | D45: 12068643 | E45: 46409.3 | F45: 12068.6 | G45: 091E151690 | H45: =G45=A45 -> TRUE | I45: =C45/1000-E45 -> 0 | J45: =D45/1000-F45 -> 0 | K45: =D45/1000 -> 12068.6
A46: 091E251890 | B46: Создание центров выявления и поддержки одаренных детей | C46: 30000000 | D46: 13632131 | E46: 30000 | F46: 13632.1 | G46: 091E251890 | H46: =G46=A46 -> TRUE | I46: =C46/1000-E46 -> 0 | J46: =D46/1000-F46 -> 0
A47: 091E255370 | B47: Формирование современных управленческих и организационно-экономических механизмов в системе дополнительного образования детей в субъектах Российской Федерации | C47: 35464500 | D47: 26224565 | E47: 35464.5 | F47: 26224.6 | G47: 091E255370 | H47: =G47=A47 -> TRUE | I47: =C47/1000-E47 -> 0 | J47: =D47/1000-F47 -> 0
A48: 091E255371 | B48: Внедрение целевой модели развития региональных систем дополнительного образования детей | C48: 10720000 | D48: 7260200 | E48: 10720 | F48: 7260.2 | G48: 091E255371 | H48: =G48=A48 -> TRUE | I48: =C48/1000-E48 -> 0 | J48: =D48/1000-F48 -> 0
A49: 091E262352 | B49: Реализация пилотных проектов по обновлению содержания и технологий дополнительного образования по приоритетным направлениям | C49: 5020500 | D49: 5015100 | E49: 5020.5 | F49: 5015.1 | G49: 091E262352 | H49: =G49=A49 -> TRUE | I49: =C49/1000-E49 -> 0 | J49: =D49/1000-F49 -> 0
A50: 091E452100 | B50: Внедрение целевой модели цифровой образовательной среды в общеобразовательных организациях и профессиональных образовательных организациях | C50: 27001700 | D50: 470640 | E50: 27001.7 | F50: 470.6 | G50: 091E452100 | H50: =G50=A50 -> TRUE | I50: =C50/1000-E50 -> 0 | J50: =D50/1000-F50 -> 0
A51: 091E452101 | B51: Внедрение и функционирование целевой модели цифровой образовательной среды в общеобразовательных организациях | C51: 6249900 | D51: 5729100 | E51: 6249.9 | F51: 5729.1 | G51: 091E452101 | H51: =G51=A51 -> TRUE | I51: =C51/1000-E51 -> 0 | J51: =D51/1000-F51 -> 0
A52: 091E516200 | B52: Обеспечение непрерывного и планомерного повышения квалификации педагогических работников | C52: 1066000 | D52: 701375.16 | E52: 1066 | F52: 701.4 | G52: 091E516200 | H52: =G52=A52 -> TRUE | I52: =C52/1000-E52 -> 0 | J52: =D52/1000-F52 -> 0
A53: 092E250970 | B53: Создание в общеобразовательных организациях, расположенных в сельской местности, условий для занятий физической культурой и спортом | C53: 13231400 | D53: 5983749.1 | E53: 13231.4 | F53: 5983.7 | G53: 092E250970 | H53: =G53=A53 -> TRUE | I53: =C53/1000-E53 -> 0 | J53: =D53/1000-F53 -> 0 | K53: =D53/1000 -> 5983.7
A54: 092P251590 | B54: Создание дополнительных мест для детей в возрасте от 2 месяцев до 3 лет в образовательных организациях, осуществляющих образовательную деятельность по образовательным программам дошкольного образования | C54: 413107900 | D54: 0 | E54: 413107.9 | F54: 0 | G54: 092P251590 | H54: =G54=A54 -> TRUE | I54: =C54/1000-E54 -> 0 | J54: =D54/1000-F54 -> 0
A55: 092P252320 | B55: Создание дополнительных мест для детей в возрасте от 1,5 до 3 лет в образовательных организациях, осуществляющих образовательную деятельность по образовательным программам дошкольного образования | C55: 806364100 | D55: 0 | E55: 806364.1 | F55: 0 | G55: 092P252320 | H55: =G55=A55 -> TRUE | I55: =C55/1000-E55 -> 0 | J55: =D55/1000-F55 -> 0
A56: 093E452100 | B56: Внедрение целевой модели цифровой образовательной среды в общеобразовательных организациях и профессиональных образовательных организациях | C56: 4432989.8 | D56: 4432989.8 | E56: 4433 | F56: 4433 | G56: 093E452100 | H56: =G56=A56 -> TRUE | I56: =C56/1000-E56 -> 0 | J56: =D56/1000-F56 -> 0 | K56: 093E600020
A57: 093E452101 | B57: Функционирование целевой модели цифровой образовательной среды в профессиональных образовательных организациях | C57: 250000 | D57: 205000 | E57: 250 | F57: 205 | G57: 093E452101 | H57: =G57=A57 -> TRUE | I57: =C57/1000-E57 -> 0 | J57: =D57/1000-F57 -> 0
A58: 093E651770 | B58: Разработка и распространение в системе среднего профессионального образования новых образовательных технологий и формы опережающей профессиональной подготовки | C58: 55767630 | D58: 39712489 | E58: 55767.6 | F58: 39712.5 | G58: 093E651770 | H58: =G58=A58 -> TRUE | I58: =C58/1000-E58 -> 0 | J58: =D58/1000-F58 -> 0 | K58: 093E600080
A59: 093E661624 | B59: Государственная поддержка профессиональных образовательных организаций в целях обеспечения соответствия их материально-технической базы современным требованиям | C59: 8907100 | D59: 4876814.8 | E59: 8907.1 | F59: 4876.8 | G59: 093E661624 | H59: =G59=A59 -> TRUE | I59: =C59/1000-E59 -> 0 | J59: =D59/1000-F59 -> 0
A60: 093E661634 | B60: Обеспечение проведения аттестации обучающихся по программам среднего профессионального образования с использованием механизма демонстрационного экзамена | C60: 3840000 | D60: 3840000 | E60: 3840 | F60: 3840 | G60: 093E661634 | H60: =G60=A60 -> TRUE | I60: =C60/1000-E60 -> 0 | J60: =D60/1000-F60 -> 0
A61: 093E661635 | B61: Внедрение программ профессионального обучения по наиболее востребованным и перспективным профессиям на уровне, соответствующем стандартам Ворлдскиллс, с учетом продолжительности программ не более 6 месяцев | C61: 280000 | D61: 0 | E61: 280 | F61: 0 | G61: 093E661635 | H61: =G61=A61 -> TRUE | I61: =C61/1000-E61 -> 0 | J61: =D61/1000-F61 -> 0
A62: 093E661636 | B62: Повышение квалификации преподавателей (мастеров производственного обучения) по программам, основанным на опыте Союза Ворлдскиллс Россия | C62: 4550000 | D62: 4053960.6 | E62: 4550 | F62: 4054 | G62: 093E661636 | H62: =G62=A62 -> TRUE | I62: =C62/1000-E62 -> 0 | J62: =D62/1000-F62 -> 0
A63: 101A154540 | B63: Создание модельных муниципальных библиотек по результатам конкурсного отбора, проводимого Министерством культуры Российской Федерации | C63: 40000000 | D63: 35490762 | E63: 40000 | F63: 35490.8 | G63: 101A154540 | H63: =G63=A63 -> TRUE | I63: =C63/1000-E63 -> 0 | J63: =D63/1000-F63 -> 0
A64: 101A155190 | B64: Государственная поддержка отрасли культуры | C64: 45731200 | D64: 15417021 | E64: 45731.2 | F64: 15417 | G64: 101A155190 | H64: =G64=A64 -> TRUE | I64: =C64/1000-E64 -> 0 | J64: =D64/1000-F64 -> 0
A65: 101A204300 | B65: Организация и проведение фестиваля любительских творческих коллективов | C65: 11658910 | D65: 11658908 | E65: 11658.9 | F65: 11658.9 | G65: 101A204300 | H65: =G65=A65 -> TRUE | I65: =C65/1000-E65 -> 0 | J65: =D65/1000-F65 -> 0
A66: 101A2Д0851 | B66: Реализация программ, направленных на укрепление единства нации, духовно-нравственное и патриотическое воспитание | C66: 26500000 | D66: 26078863 | E66: 26500 | F66: 26078.9 | G66: 101A2Д0851 | H66: =G66=A66 -> TRUE | I66: =C66/1000-E66 -> 0 | J66: =D66/1000-F66 -> 0
A67: 101A354530 | B67: Создание виртуальных концертных залов по результатам конкурсного отбора, проводимого Министерством культуры Российской Федерации | C67: 8540000 | D67: 8540000 | E67: 8540 | F67: 8540 | G67: 101A354530 | H67: =G67=A67 -> TRUE | I67: =C67/1000-E67 -> 0 | J67: =D67/1000-F67 -> 0
A68: 111P155730 | B68: Осуществление ежемесячной выплаты в связи с рождением (усыновлением) первого ребенка | C68: 369453900 | D68: 3.441453e+08 | E68: 369453.9 | F68: 344145.3 | G68: 111P155730 | H68: =G68=A68 -> TRUE | I68: =C68/1000-E68 -> 0 | J68: =D68/1000-F68 -> 0 | K68: 241E1Д5200
A69: 111P1Д0840 | B69: Осуществление ежемесячной денежной выплаты, назначаемой в случае рождения третьего ребенка или последующих детей до достижения ребенком возраста трех лет | C69: 776166800 | D69: 6.1888475e+08 | E69: 776166.8 | F69: 618884.7 | G69: 111P1Д0840 | H69: =G69=A69 -> TRUE | I69: =C69/1000-E69 -> 0 | J69: =D69/1000-F69 -> 0
A70: 112P351210 | B70: Финансовое обеспечение программ, направленных на обеспечение безопасных и комфортных условий предоставления социальных услуг в сфере социального обслуживания | C70: 292352100 | D70: 1.1813083e+08 | E70: 292352.1 | F70: 118130.8 | G70: 112P351210 | H70: =G70=A70 -> TRUE | I70: =C70/1000-E70 -> 0 | J70: =D70/1000-F70 -> 0
A71: 112P352930 | B71: Приобретение автотранспорта | C71: 22669200 | D71: 21410308 | E71: 22669.2 | F71: 21410.3 | G71: 112P352930 | H71: =G71=A71 -> TRUE | I71: =C71/1000-E71 -> 0 | J71: =D71/1000-F71 -> 0
A72: 112P352931 | B72: Организация деятельности мобильных бригад по доставке лиц старше 65 лет, проживающих в сельской местности, в медицинские организации | C72: 3539600 | D72: 627361.43 | E72: 3539.6 | F72: 627.4 | G72: 112P352931 | H72: =G72=A72 -> TRUE | I72: =C72/1000-E72 -> 0 | J72: =D72/1000-F72 -> 0 | K72: 201D622100
A73: 132F367483 | B73: Переселение граждан из аварийного жилищного фонда за счет средств, поступивших от Фонда содействия реформированию жилищно-коммунального хозяйства | C73: 507753200 | D73: 22134449 | E73: 507753.2 | F73: 22134.4 | G73: 132F367483 | H73: =G73=A73 -> TRUE | I73: =C73/1000-E73 -> 0 | J73: =D73/1000-F73 -> 0 | K73: =D73/1000 -> 22134.4
A74: 132F367484 | B74: Переселение граждан из аварийного жилищного фонда за счет средств областного бюджета | C74: 15703707 | D74: 684570.6 | E74: 15703.7 | F74: 684.6 | G74: 132F367484 | H74: =G74=A74 -> TRUE | I74: =C74/1000-E74 -> 0 | J74: =D74/1000-F74 -> 0
A75: 151G252970 | B75: Введение в промышленную эксплуатацию мощностей по обработке твердых коммунальных отходов и мощностей по утилизации отходов и фракций после обработки твердых коммунальных отходов | C75: 10000000 | D75: 0 | E75: 10000 | F75: 0 | G75: 151G252970 | H75: =G75=A75 -> TRUE | I75: =C75/1000-E75 -> 0 | J75: =D75/1000-F75 -> 0
A76: 152G850570 | B76: Восстановление и экологическая реабилитация водных объектов | C76: 9750000 | D76: 0 | E76: 9750 | F76: 0 | G76: 152G850570 | H76: =G76=A76 -> TRUE | I76: =C76/1000-E76 -> 0 | J76: =D76/1000-F76 -> 0 | K76: 201D622300
A77: 153GА54290 | B77: Увеличение площади лесовосстановления | C77: 4566200 | D77: 4566200 | E77: 4566.2 | F77: 4566.2 | G77: 153GA54290 | H77: =G77=A77 -> FALSE | I77: =C77/1000-E77 -> 0 | J77: =D77/1000-F77 -> 0
A78: 153GА54300 | B78: Оснащение учреждений, выполняющих мероприятия по воспроизводству лесов, специализированной лесохозяйственной техникой и оборудованием для проведения комплекса мероприятий по лесовосстановлению и лесоразведению | C78: 11182200 | D78: 5589169.7 | E78: 11182.2 | F78: 5589.2 | G78: 153GA54300 | H78: =G78=A78 -> FALSE | I78: =C78/1000-E78 -> 0 | J78: =D78/1000-F78 -> 0
A79: 153GА54320 | B79: Оснащение специализированных учреждений органов государственной власти субъектов Российской Федерации лесопожарной техникой и оборудованием для проведения комплекса мероприятий по охране лесов от пожаров | C79: 81458900 | D79: 49086973 | E79: 81458.9 | F79: 49087 | G79: 153GA54320 | H79: =G79=A79 -> FALSE | I79: =C79/1000-E79 -> 0 | J79: =D79/1000-F79 -> 0
A80: 182D206800 | B80: Развертывание сетей сбора телеметрической информации на приоритетных объектах транспортной инфраструктуры | C80: 18003900 | D80: 10304078 | E80: 18003.9 | F80: 10304.1 | G80: 182D206800 | H80: =G80=A80 -> TRUE | I80: =C80/1000-E80 -> 0 | J80: =D80/1000-F80 -> 0
A81: 182R153930 | B81: Финансовое обеспечение дорожной деятельности в рамках реализации национального проекта "Безопасные и качественные автомобильные дороги" | C81: 2291568700 | D81: 2.2882958e+09 | E81: 2291568.7 | F81: 2288295.8 | G81: 182R153930 | H81: =G81=A81 -> TRUE | I81: =C81/1000-E81 -> 0 | J81: =D81/1000-F81 -> 0 | K81: 132F319502
A82: 191G552430 | B82: Строительство и реконструкция (модернизация) объектов питьевого водоснабжения | C82: 46603700 | D82: 4047716.1 | E82: 46603.7 | F82: 4047.7 | G82: 191G552430 | H82: =G82=A82 -> TRUE | I82: =C82/1000-E82 -> 0 | J82: =D82/1000-F82 -> 0 | K82: 132F319602
A83: 201D461632 | B83: Обеспечение использования отечественных разработок и технологий при передаче, обработке и хранении данных | C83: 1300000 | D83: 1282459 | E83: 1300 | F83: 1282.5 | G83: 201D461632 | H83: =G83=A83 -> TRUE | I83: =C83/1000-E83 -> 0 | J83: =D83/1000-F83 -> 0 | K83: 132F329502
A84: 201D600005 | B84: Обеспечение регистрации пользователей в единой биометрической системе в МФЦ | C84: 3440000 | D84: 0 | E84: 3440 | F84: 0 | G84: 201D600005 | H84: =G84=A84 -> TRUE | I84: =C84/1000-E84 -> 0 | J84: =D84/1000-F84 -> 0 | K84: 132F329602
A85: 201D620400 | B85: Внедрение цифровых технологий и платформенных решений в сферах государственного управления и оказания государственных и муниципальных услуг | C85: 9540460 | D85: 5443982.2 | E85: 9540.5 | F85: 5444 | G85: 201D620400 | H85: =G85=A85 -> TRUE | I85: =C85/1000-E85 -> 0 | J85: =D85/1000-F85 -> 0
A86: 201D622700 | B86: Внедрение в деятельность органов государственной власти и органов местного самоуправления, а также подведомственных им организаций межведомственного юридически значимого электронного документооборота с применением электронной подписи, базирующегося на единых инфраструктурных, технологических и методологических решениях | C86: 3896123.3 | D86: 3291780 | E86: 3896.1 | F86: 3291.8 | G86: 201D622700 | H86: =G86=A86 -> TRUE | I86: =C86/1000-E86 -> 0 | J86: =D86/1000-F86 -> 0
A87: 201D623500 | B87: Обеспечение возможности доступа пользователей в модели "одного окна" посредством единого портала государственных и муниципальных услуг (функций) к информации, созданной органами государственной власти, органами местного самоуправления и органами государственных внебюджетных фондов, а также к иной общедоступной информации | C87: 4165550 | D87: 0 | E87: 4165.6 | F87: 0 | G87: 201D623500 | H87: =G87=A87 -> TRUE | I87: =C87/1000-E87 -> -0.1 | J87: =D87/1000-F87 -> 0
A88: 201D623600 | B88: Обеспечение функционирования и развития инфраструктуры электронного правительства, а также информационных систем, направленных на предоставление государственных услуг и исполнение государственных функций в электронном виде | C88: 11140000 | D88: 7275000 | E88: 11140 | F88: 7275 | G88: 201D623600 | H88: =G88=A88 -> TRUE | I88: =C88/1000-E88 -> 0 | J88: =D88/1000-F88 -> 0
A89: 241E152300 | B89: Создание новых мест в общеобразовательных организациях, расположенных в сельской местности и поселках городского типа | C89: 1.0794134e+08 | D89: 0 | E89: 99281.3 | F89: 0 | G89: 241E152300 | H89: =G89=A89 -> TRUE | I89: =C89/1000-E89 -> 8660 | J89: =D89/1000-F89 -> 0
E90: 8660 | F90: 0 | G90: 241E152300 | I90: =C90/1000-E90 -> -8660 | J90: =D90/1000-F90 -> 0
A91: 241E155200 | B91: Создание новых мест в общеобразовательных организациях | C91: 1081408700 | D91: 1081408700 | E91: 1081408.7 | F91: 1081408.7 | G91: 241E155200 | H91: =G91=A91 -> TRUE | I91: =C91/1000-E91 -> 0 | J91: =D91/1000-F91 -> 0
A92: 241E155201 | B92: Оснащение зданий средствами обучения и воспитания для размещения общеобразовательных организаций | C92: 37500000 | D92: 37500000 | E92: 37500 | F92: 37500 | G92: 241E155201 | H92: =G92=A92 -> TRUE | I92: =C92/1000-E92 -> 0 | J92: =D92/1000-F92 -> 0
A93: 251F254240 | B93: Создание комфортной городской среды в малых городах и исторических поселениях - победителях Всероссийского конкурса лучших проектов создания комфортной городской среды | C93: 40000000 | D93: 0 | E93: 40000 | F93: 0 | G93: 251F254240 | H93: =G93=A93 -> TRUE | I93: =C93/1000-E93 -> 0 | J93: =D93/1000-F93 -> 0
A94: 251F255550 | B94: Реализация программ формирования современной городской среды | C94: 425468000 | D94: 2.0483802e+08 | E94: 425468 | F94: 204838 | G94: 251F255550 | H94: =G94=A94 -> TRUE | I94: =C94/1000-E94 -> 0 | J94: =D94/1000-F94 -> 0
A95: Итого | C95: 9.6278823e+09 | D95: 6.049771e+09
C97: 9627882.3 | D97: 6049771.1
C100: =C95/1000-C97 -> 0 | D100: =D95/1000-D97 -> -0.1
I107: 0 | J107: 0 | K107: 061I754800

Sheet Лист5
A1: Департамент финансов Томской области
A2: (наименование органа, организующего исполнение бюджета)
A4: на 01.11.2019 г.
A5: Дата печати 06.11.2019 (17:09:59)
A7: Бюджет: Областной бюджет
A8: Тип бланка расходов: Смета, Фонды, ПНО
A9: КЦСР: ***P******,***N******,***E******,***F******,***G******,***R******,***L******,***D******,***A******,***I******,**********,**********
A11: руб.
A12: КФСР | B12: Наименование КФСР | C12: КЦСР | D12: Наименование КЦСР | E12: КВР | F12: Ассигнования 2019 год | G12: Выбытия (бух.уч.)
A13: 0113 | B13: Другие общегосударственные вопросы | C13: 024D500400 | D13: Финансовое обеспечение затрат, возникающих при реализации проекта "Цифровые технологии" | E13: 813 | F13: 56878282 | G13: 35000000
A14: 0113 | B14: Другие общегосударственные вопросы | C14: 201D461632 | D14: Обеспечение использования отечественных разработок и технологий при передаче, обработке и хранении данных | E14: 244 | F14: 1300000 | G14: 1282459
A15: 0113 | B15: Другие общегосударственные вопросы | C15: 201D600005 | D15: Обеспечение регистрации пользователей в единой биометрической системе в МФЦ | E15: 244 | F15: 3440000 | G15: 0
A16: 0113 | B16: Другие общегосударственные вопросы | C16: 201D620400 | D16: Внедрение цифровых технологий и платформенных решений в сферах государственного управления и оказания государственных и муниципальных услуг | E16: 244 | F16: 9540460 | G16: 5443982.2
A17: 0113 | B17: Другие общегосударственные вопросы | C17: 201D622700 | D17: Внедрение в деятельность органов государственной власти и органов местного самоуправления, а также подведомственных им организаций межведомственного юридически значимого электронного документооборота с применением электронной подписи, базирующегося на единых инфраструктурных, технологических и методологических решениях | E17: 244 | F17: 3896123.3 | G17: 3291780
A18: 0113 | B18: Другие общегосударственные вопросы | C18: 201D623500 | D18: Обеспечение возможности доступа пользователей в модели "одного окна" посредством единого портала государственных и муниципальных услуг (функций) к информации, созданной органами государственной власти, органами местного самоуправления и органами государственных внебюджетных фондов, а также к иной общедоступной информации | E18: 244 | F18: 4165550 | G18: 0
A19: 0113 | B19: Другие общегосударственные вопросы | C19: 201D623600 | D19: Обеспечение функционирования и развития инфраструктуры электронного правительства, а также информационных систем, направленных на предоставление государственных услуг и исполнение государственных функций в электронном виде | E19: 244 | F19: 11140000 | G19: 7275000
A20: 0401 | B20: Общеэкономические вопросы | C20: 051L355690 | D20: Переобучение, повышение квалификации работников предприятий в целях поддержки занятости и повышения эффективности рынка труда | E20: 244 | F20: 7367200 | G20: 300645.4
A21: 0401 | B21: Общеэкономические вопросы | C21: 051L355690 | D21: Переобучение, повышение квалификации работников предприятий в целях поддержки занятости и повышения эффективности рынка труда | E21: 321 | F21: 2050000 | G21: 0
A22: 0401 | B22: Общеэкономические вопросы | C22: 051L355690 | D22: Переобучение, повышение квалификации работников предприятий в целях поддержки занятости и повышения эффективности рынка труда | E22: 340 | F22: 9707600 | G22: 0
A23: 0401 | B23: Общеэкономические вопросы | C23: 051L355691 | D23: Возмещение затрат организациям – участникам регионального проекта "Поддержка занятости и повышение эффективности рынка труда для обеспечения роста производительности труда" на переобучение, повышение квалификации работников | E23: 811 | F23: 27589200 | G23: 1805800
A24: 0401 | B24: Общеэкономические вопросы | C24: 051P352940 | D24: Организация профессионального обучения и дополнительного профессионального образования лиц предпенсионного возраста | E24: 244 | F24: 24069702 | G24: 4102456.1
... A123: 1103 | B123: Спорт высших достижений | C123: 082P500002 | D123: Приобретение спортивного инвентаря, оборудования и спортивной экипировки для спортивных школ | E123: 521 | F123: 30000000 | G123: 28094600
A124: Итого | F124: 9.6278823e+09 | G124: 6.0504839e+09
G127: =G124-Лист3!D95 -> 712842.53

Sheet Лист6
A1: № п/п | B1: Наименование | C1: Код ГРБС | D1: Наименование ГРБС | E1: Код целевой статьи областного бюджета | F1: 2019 год | N1: % исполнения
F2: Плановые ассигнования*, в том числе | J2: Кассовое исполнение, в том числе
F3: ИТОГО | G3: за счет средств областного бюджета | H3: за счет средств федерального бюджета | I3: за счет средств местного бюджета** | J3: ИТОГО | K3: за счет средств областного бюджета | L3: за счет средств федерального бюджета | M3: за счет средств местного бюджета**
B4: ВСЕГО: | F4: =SUM(F5:F14) -> 10207.9 | G4: =SUM(G5:G14) -> 3426.1 | H4: =SUM(H5:H14) -> 6201.8 | I4: =SUM(I5:I14) -> 580 | J4: =SUM(J5:J14) -> 6369.9 | K4: =SUM(K5:K14) -> 2370 | L4: =SUM(L5:L14) -> 3679.8 | M4: =SUM(M5:M14) -> 320.1 | N4: =J4/F4 -> 0.624
A5: 1 | B5: Национальный проект "Демография" | C5: Х | D5: Х | E5: Х | F5: =G5+H5+I5 -> 2987.6 | G5: 1573.7 | H5: 1369.6 | I5: 44.3 | J5: =K5+L5+M5 -> 1296.5 | K5: 784 | L5: 486.1 | M5: 26.4 | N5: =J5/F5 -> 0.434
A6: 2 | B6: Национальный проект "Здравоохранение" | C6: Х | D6: Х | E6: Х | F6: =G6+H6+I6 -> 1216.1 | G6: 266.7 | H6: 949.4 | I6: 0 | J6: =K6+L6+M6 -> 569.1 | K6: 166.8 | L6: 402.3 | M6: 0 | N6: =J6/F6 -> 0.468
A7: 3 | B7: Национальный проект "Образование" | C7: Х | D7: Х | E7: Х | F7: =G7+H7+I7 -> 1518.7 | G7: 817.1 | H7: 662.9 | I7: 38.7 | J7: =K7+L7+M7 -> 1288 | K7: 767.1 | L7: 486 | M7: 34.9 | N7: =J7/F7 -> 0.848
A8: 4 | B8: Национальный проект "Цифровая экономика" | C8: Х | D8: Х | E8: Х | F8: =G8+H8+I8 -> 113.7 | G8: 113.7 | H8: 0 | I8: 0 | J8: =K8+L8+M8 -> 67.6 | K8: 67.6 | L8: 0 | M8: 0 | N8: =J8/F8 -> 0.595
A9: 5 | B9: Национальный проект "Жилье и городская среда" | C9: Х | D9: Х | E9: Х | F9: =G9+H9+I9 -> 1184.7 | G9: 28.5 | H9: 960.5 | I9: 195.7 | J9: =K9+L9+M9 -> 232.7 | K9: 6.8 | L9: 220.8 | M9: 5.1 | N9: =J9/F9 -> 0.196
A10: 6 | B10: Национальный проект "Экология" | C10: Х | D10: Х | E10: Х | F10: =G10+H10+I10 -> 179.9 | G10: 38.2 | H10: 125.4 | I10: 16.3 | J10: =K10+L10+M10 -> 64.6 | K10: 1.7 | L10: 61.6 | M10: 1.3 | N10: =J10/F10 -> 0.359
A11: 7 | B11: Национальный проект "Безопасные и качественные автомобильные дороги" | C11: Х | D11: Х | E11: Х | F11: =G11+H11+I11 -> 2560.5 | G11: 523 | H11: 1768.6 | I11: 268.9 | J11: =K11+L11+M11 -> 2534.8 | K11: 519.7 | L11: 1768.6 | M11: 246.5 | N11: =J11/F11 -> 0.99
A12: 8 | B12: Национальный проект "Культура" | C12: Х | D12: Х | E12: Х | F12: =G12+H12+I12 -> 148 | G12: 45.9 | H12: 86.5 | I12: 15.6 | J12: =K12+L12+M12 -> 103.1 | K12: 40.4 | L12: 56.8 | M12: 5.9 | N12: =J12/F12 -> 0.697
A13: 9 | B13: Национальный проект "Малое и среднее предпринимательство и поддержка индивидуальной предпринимательской инициативы" | C13: Х | D13: Х | E13: Х | F13: =G13+H13+I13 -> 213.7 | G13: 7.6 | H13: 205.6 | I13: 0.5 | J13: =K13+L13+M13 -> 197.5 | K13: 6.4 | L13: 191.1 | M13: 0 | N13: =J13/F13 -> 0.924
A14: 10 | B14: Национальный проект "Производительность труда и поддержка занятости" | C14: Х | D14: Х | E14: Х | F14: =G14+H14+I14 -> 85 | G14: 11.7 | H14: 73.3 | I14: 0 | J14: =K14+L14+M14 -> 16 | K14: 9.5 | L14: 6.5 | M14: 0 | N14: =J14/F14 -> 0.188
A16: 1 | B16: Национальный проект "Демография" | C16: Х | D16: Х | E16: Х | F16: =SUM(F17:F21) -> 2987.6 | G16: =SUM(G17:G21) -> 1573.7 | H16: =SUM(H17:H21) -> 1369.6 | I16: =SUM(I17:I21) -> 44.3 | J16: =SUM(J17:J21) -> 1296.4 | K16: =SUM(K17:K21) -> 783.9 | L16: =SUM(L17:L21) -> 486.1 | M16: =SUM(M17:M21) -> 26.4 | N16: =J16/F16 -> 0.434
A17: 1.1 | B17: Региональный проект "Старшее поколение", всего | C17: Х | D17: Х | E17: Х | F17: =G17+H17+I17 -> 348.8 | G17: 15.1 | H17: 333.7 | I17: 0 | J17: =K17+L17+M17 -> 147.4 | K17: 5.4 | L17: 142 | M17: 0 | N17: =J17/F17 -> 0.423
A18: 1.2 | B18: Региональный проект "Спорт - норма жизни", всего | C18: Х | D18: Х | E18: Х | F18: =G18+H18+I18 -> 268.8 | G18: 205.9 | H18: 19.8 | I18: 43.1 | J18: =K18+L18+M18 -> 182.5 | K18: 156.1 | L18: 0 | M18: 26.4 | N18: =J18/F18 -> 0.679
A19: 1.3 | B19: Региональный проект "Содействие занятости женщин - создание условий дошкольного образования для детей в возрасте до трех лет", всего | C19: Х | D19: Х | E19: Х | F19: =G19+H19+I19 -> 1220.7 | G19: 572.8 | H19: 646.7 | I19: 1.2 | J19: =K19+L19+M19 -> 0 | K19: 0 | L19: 0 | M19: 0 | N19: =J19/F19 -> 0
A20: 1.4 | B20: Региональный проект "Финансовая поддержка семей при рождении детей", всего | C20: Х | D20: Х | E20: Х | F20: 1145.6 | G20: 776.2 | H20: 369.4 | I20: 0 | J20: =K20+L20+M20 -> 963 | K20: 618.9 | L20: 344.1 | M20: 0 | N20: =J20/F20 -> 0.841
A21: 1.5 | B21: Региональный проект "Укрепление общественного здоровья" | C21: Х | D21: Х | E21: Х | F21: =G21+H21+I21 -> 3.7 | G21: 3.7 | H21: 0 | I21: 0 | J21: =K21+L21+M21 -> 3.5 | K21: 3.5 | L21: 0 | M21: 0 | N21: 0.951
A23: 2 | B23: Национальный проект "Здравоохранение" | C23: Х | D23: Х | E23: Х | F23: =SUM(F24:F28) -> 1216.1 | G23: =SUM(G24:G28) -> 266.7 | H23: =SUM(H24:H28) -> 949.4 | I23: =SUM(I24:I28) -> 0 | J23: =SUM(J24:J28) -> 569.1 | K23: =SUM(K24:K28) -> 166.8 | L23: =SUM(L24:L28) -> 402.3 | M23: =SUM(M24:M28) -> 0 | N23: =J23/F23 -> 0.468
A24: 2.1 | B24: Региональный проект "Развитие системы оказания первичной медико-санитарной помощи", всего | C24: Х | D24: Х | E24: Х | F24: =G24+H24+I24 -> 282.3 | G24: 135.1 | H24: 147.2 | I24: 0 | J24: =K24+L24+M24 -> 273.3 | K24: 134.7 | L24: 138.6 | M24: 0 | N24: =J24/F24 -> 0.968
A25: 2.2 | B25: Региональный проект "Борьба с сердечно-сосудистыми заболеваниями", всего | C25: Х | D25: Х | E25: Х | F25: =G25+H25+I25 -> 80 | G25: 5.5 | H25: 74.5 | I25: 0 | J25: =K25+L25+M25 -> 11.2 | K25: 4.7 | L25: 6.5 | M25: 0 | N25: =J25/F25 -> 0.14
A26: 2.3 | B26: Региональный проект "Развитие детского здравоохранения, включая создание современной инфраструктуры оказания медицинской помощи детям", всего | C26: Х | D26: Х | E26: Х | F26: =G26+H26+I26 -> 106.2 | G26: 20.1 | H26: 86.1 | I26: 0 | J26: =K26+L26+M26 -> 41.9 | K26: 8.9 | L26: 33 | M26: 0 | N26: =J26/F26 -> 0.395
A27: 2.4 | B27: Региональный проект "Создание единого цифрового контура в здравоохранении на основе единой государственной информационной системы здравоохранения (ЕГИСЗ)", всего | C27: Х | D27: Х | E27: Х | F27: =G27+H27+I27 -> 138.7 | G27: 26.3 | H27: 112.4 | I27: 0 | J27: =K27+L27+M27 -> 7 | K27: 7 | L27: 0 | M27: 0 | N27: =J27/F27 -> 0.05
A28: 2.5 | B28: Региональный проект "Борьба с онкологическими заболеваниями", всего | C28: Х | D28: Х | E28: Х | F28: =G28+H28+I28 -> 608.9 | G28: 79.7 | H28: 529.2 | I28: 0 | J28: =K28+L28+M28 -> 235.7 | K28: 11.5 | L28: 224.2 | M28: 0 | N28: =J28/F28 -> 0.387
A30: 3 | B30: Национальный проект "Образование" | C30: Х | D30: Х | E30: Х | F30: =SUM(F31:F35) -> 1518.7 | G30: =SUM(G31:G35) -> 817.1 | H30: =SUM(H31:H35) -> 662.9 | I30: =SUM(I31:I35) -> 38.7 | J30: =SUM(J31:J35) -> 1288 | K30: =SUM(K31:K35) -> 767.1 | L30: =SUM(L31:L35) -> 486 | M30: =SUM(M31:M35) -> 34.9 | N30: =J30/F30 -> 0.848
A31: 3.1 | B31: Региональный проект "Современная школа", всего | C31: Х | D31: Х | E31: Х | F31: =G31+H31+I31 -> 1311.9 | G31: 705.9 | H31: 567.3 | I31: 38.7 | J31: =K31+L31+M31 -> 1165.8 | K31: 693.2 | L31: 437.7 | M31: 34.9 | N31: =J31/F31 -> 0.889
A32: 3.2 | B32: Региональный проект "Цифровая образовательная среда", всего | C32: Х | D32: Х | E32: Х | F32: =G32+H32+I32 -> 37.9 | G32: 7.4 | H32: 30.5 | I32: 0 | J32: =K32+L32+M32 -> 10.9 | K32: 6.1 | L32: 4.8 | M32: 0 | N32: =J32/F32 -> 0.288
A33: 3.3 | B33: Региональный проект "Успех каждого ребенка", всего | C33: Х | D33: Х | E33: Х | F33: =G33+H33+I33 -> 94.4 | G33: 83.4 | H33: 11 | I33: 0 | J33: =K33+L33+M33 -> 58.1 | K33: 53.1 | L33: 5 | M33: 0 | N33: =J33/F33 -> 0.615
A34: 3.4 | B34: Региональный проект "Молодые профессионалы (Повышение конкурентоспособности профессионального образования)", всего | C34: Х | D34: Х | E34: Х | F34: =G34+H34+I34 -> 73.4 | G34: 19.3 | H34: 54.1 | I34: 0 | J34: =K34+L34+M34 -> 52.5 | K34: 14 | L34: 38.5 | M34: 0 | N34: =J34/F34 -> 0.715
A35: 3.5 | B35: Региональный проект "Учитель будущего", всего | C35: Х | D35: Х | E35: Х | F35: =G35+H35+I35 -> 1.1 | G35: 1.1 | H35: 0 | I35: 0 | J35: =K35+L35+M35 -> 0.7 | K35: 0.7 | L35: 0 | M35: 0 | N35: 0.658
A37: 4 | B37: Национальный проект "Цифровая экономика" | C37: Х | D37: Х | E37: Х | F37: =SUM(F38:F42) -> 113.7 | G37: =SUM(G38:G42) -> 113.7 | H37: =SUM(H38:H42) -> 0 | I37: =SUM(I38:I42) -> 0 | J37: =SUM(J38:J42) -> 67.6 | K37: =SUM(K38:K42) -> 67.6 | L37: =SUM(L38:L42) -> 0 | M37: =SUM(M38:M42) -> 0 | N37: =J37/F37 -> 0.595
A38: 4.1 | B38: Региональный проект "Кадры для цифровой экономики", всего | C38: Х | D38: Х | E38: Х | F38: =G38+H38+I38 -> 5.3 | G38: 5.3 | H38: 0 | I38: 0 | J38: =K38+L38+M38 -> 5 | K38: 5 | L38: 0 | M38: 0 | N38: =J38/F38 -> 0.943
A39: 4.2 | B39: Региональный проект "Цифровые технологии" | C39: Х | D39: Х | E39: Х | F39: =G39+H39+I39 -> 56.9 | G39: 56.9 | H39: 0 | I39: 0 | J39: =K39+L39+M39 -> 35 | K39: 35 | L39: 0 | M39: 0 | N39: =J39/F39 -> 0.615
A40: 4.3 | B40: Региональный проект "Информационная безопасность" | C40: Х | D40: Х | E40: Х | F40: =G40+H40+I40 -> 1.3 | G40: 1.3 | H40: 0 | I40: 0 | J40: =K40+L40+M40 -> 1.3 | K40: 1.3 | L40: 0 | M40: 0 | N40: =J40/F40 -> 1
A41: 4.4 | B41: Региональный проект "Цифровое государственное управление" | C41: Х | D41: Х | E41: Х | F41: =G41+H41+I41 -> 32.2 | G41: 32.2 | H41: 0 | I41: 0 | J41: =K41+L41+M41 -> 16 | K41: 16 | L41: 0 | M41: 0 | N41: =J41/F41 -> 0.497
A42: 4.5 | B42: Региональный проект "Информационная инфраструктура" | C42: Х | D42: Х | E42: Х | F42: =G42+H42+I42 -> 18 | G42: 18 | H42: 0 | I42: 0 | J42: =K42+L42+M42 -> 10.3 | K42: 10.3 | L42: 0 | M42: 0 | N42: =J42/F42 -> 0.572
A44: 5 | B44: Национальный проект "Жилье и городская среда" | C44: Х | D44: Х | E44: Х | F44: =F46+F45 -> 1184.7 | G44: =G46+G45 -> 28.5 | H44: =H46+H45 -> 960.5 | I44: =I46+I45 -> 195.7 | J44: =J46+J45 -> 232.7 | K44: =K46+K45 -> 6.8 | L44: =L46+L45 -> 220.8 | M44: =M46+M45 -> 5.1 | N44: =J44/F44 -> 0.196
A45: 5.1 | B45: Региональный проект "Формирование комфортной городской среды", всего | C45: Х | D45: Х | E45: Х | F45: =G45+H45+I45 -> 468.5 | G45: 12.8 | H45: 452.7 | I45: 3 | J45: =K45+L45+M45 -> 206.5 | K45: 6.1 | L45: 198.7 | M45: 1.7 | N45: 0.441
A46: 5.2 | B46: Региональный проект "Обеспечение устойчивого сокращения непригодного для проживания жилищного фонда" | C46: Х | D46: Х | E46: Х | F46: =G46+H46+I46 -> 716.2 | G46: 15.7 | H46: 507.8 | I46: 192.7 | J46: =K46+L46+M46 -> 26.2 | K46: 0.7 | L46: 22.1 | M46: 3.4 | N46: 0.037
A48: 6 | B48: Национальный проект "Экология" | C48: Х | D48: Х | E48: Х | F48: =SUM(F49:F52) -> 179.9 | G48: =SUM(G49:G52) -> 38.2 | H48: =SUM(H49:H52) -> 125.4 | I48: =SUM(I49:I52) -> 16.3 | J48: =SUM(J49:J52) -> 64.6 | K48: =SUM(K49:K52) -> 1.7 | L48: =SUM(L49:L52) -> 61.6 | M48: =SUM(M49:M52) -> 1.3 | N48: =J48/F48 -> 0.359
A49: 6.1 | B49: Региональный проект "Сохранение лесов", всего | C49: Х | D49: Х | E49: Х | F49: =G49+H49+I49 -> 97.2 | G49: 0.1 | H49: 97.1 | I49: 0 | J49: =K49+L49+M49 -> 59.2 | K49: 0.1 | L49: 59.1 | M49: 0 | N49: =J49/F49 -> 0.609
A50: 6.2 | B50: Региональный проект "Чистая вода", всего | C50: Х | D50: Х | E50: Х | F50: =G50+H50+I50 -> 62.1 | G50: 18.3 | H50: 28.3 | I50: 15.5 | J50: =K50+L50+M50 -> 5.4 | K50: 1.6 | L50: 2.5 | M50: 1.3 | N50: =J50/F50 -> 0.087
A51: 6.3 | B51: Региональный проект «Комплексная система обращения с твердыми коммунальными отходами», всего | C51: Х | D51: Х | E51: Х | F51: =G51+H51+I51 -> 10.8 | G51: 10 | H51: 0 | I51: 0.8 | J51: =K51+L51+M51 -> 0 | K51: 0 | L51: 0 | M51: 0 | N51: =J51/F51 -> 0
A52: 6.4 | B52: Региональный проект «Сохранение уникальных водных объектов» | C52: Х | D52: Х | E52: Х | F52: =G52+H52+I52 -> 9.8 | G52: 9.8 | H52: 0 | I52: 0 | J52: =K52+L52+M52 -> 0 | K52: 0 | L52: 0 | M52: 0 | N52: =J52/F52 -> 0
A54: 7 | B54: Национальный проект "Безопасные и качественные автомобильные дороги" | C54: Х | D54: Х | E54: Х | F54: =F55 -> 2560.5 | G54: =G55 -> 523 | H54: =H55 -> 1768.6 | I54: =I55 -> 268.9 | J54: =J55 -> 2534.8 | K54: =K55 -> 519.7 | L54: =L55 -> 1768.6 | M54: =M55 -> 246.5 | N54: =J54/F54 -> 0.99
A55: 7.1 | B55: Региональный проект "Дорожная сеть", всего | C55: Х | D55: Х | E55: Х | F55: =G55+H55+I55 -> 2560.5 | G55: 523 | H55: 1768.6 | I55: 268.9 | J55: =K55+L55+M55 -> 2534.8 | K55: 519.7 | L55: 1768.6 | M55: 246.5 | N55: 0.99
A57: 8 | B57: Национальный проект "Культура" | C57: Х | D57: Х | E57: Х | F57: =F58+F59+F60 -> 148 | G57: =G58+G59+G60 -> 45.9 | H57: =H58+H59+H60 -> 86.5 | I57: =I58+I59+I60 -> 15.6 | J57: =J58+J59+J60 -> 103.1 | K57: =K58+K59+K60 -> 40.3 | L57: =L58+L59+L60 -> 56.9 | M57: =M58+M59+M60 -> 5.9 | N57: =J57/F57 -> 0.697
A58: 8.1 | B58: Региональный проект "Культурная среда", всего | C58: Х | D58: Х | E58: Х | F58: =G58+H58+I58 -> 101.3 | G58: 7.7 | H58: 78 | I58: 15.6 | J58: =K58+L58+M58 -> 56.8 | K58: 2.6 | L58: 48.3 | M58: 5.9 | N58: =J58/F58 -> 0.561
A59: 8.2 | B59: Региональный проект "Цифровая культура" | C59: Х | D59: Х | E59: Х | F59: =G59+H59+I59 -> 8.5 | G59: 0 | H59: 8.5 | I59: 0 | J59: =K59+L59+M59 -> 8.6 | K59: 0 | L59: 8.6 | M59: 0 | N59: =J59/F59 -> 1.012
A60: 8.3 | B60: Региональный проект "Творческие люди" | C60: Х | D60: Х | E60: Х | F60: =G60+H60+I60 -> 38.2 | G60: 38.2 | H60: 0 | I60: 0 | J60: =K60+L60+M60 -> 37.7 | K60: 37.7 | L60: 0 | M60: 0 | N60: =J60/F60 -> 0.987
A64: 9 | B64: Национальный проект "Малое и среднее предпринимательство и поддержка индивидуальной предпринимательской инициативы" | C64: Х | D64: Х | E64: Х | F64: =SUM(F65:F68) -> 213.7 | G64: =SUM(G65:G68) -> 7.7 | H64: =SUM(H65:H68) -> 205.5 | I64: =SUM(I65:I68) -> 0.5 | J64: =SUM(J65:J68) -> 197.5 | K64: =SUM(K65:K68) -> 6.4 | L64: =SUM(L65:L68) -> 191.1 | M64: =SUM(M65:M68) -> 0 | N64: =J64/F64 -> 0.924
A65: 9.1 | B65: Региональный проект "Расширение доступа субъектов малого и среднего предпринимательства к финансовым ресурсам, в том числе к льготному финансированию", всего | C65: Х | D65: Х | E65: Х | F65: =G65+H65+I65 -> 16.4 | G65: 0.5 | H65: 15.9 | I65: 0 | J65: =K65+L65+M65 -> 12.3 | K65: 0.4 | L65: 11.9 | M65: 0 | N65: =J65/F65 -> 0.75
A66: 9.2 | B66: Региональный проект "Акселерация субъектов малого и среднего предпринимательства", всего | C66: Х | D66: Х | E66: Х | F66: =G66+H66+I66 -> 160.9 | G66: 4.8 | H66: 155.6 | I66: 0.5 | J66: =K66+L66+M66 -> 150.2 | K66: 4.5 | L66: 145.7 | M66: 0 | N66: =J66/F66 -> 0.933
A67: 9.3 | B67: Региональный проект "Популяризация предпринимательства", всего | C67: Х | D67: Х | E67: Х | F67: =G67+H67+I67 -> 9.1 | G67: 0.3 | H67: 8.8 | I67: 0 | J67: =K67+L67+M67 -> 9.1 | K67: 0.3 | L67: 8.8 | M67: 0 | N67: =J67/F67 -> 1
A68: 9.4 | B68: Региональный проект "Создание системы поддержки фермеров и развитие сельской кооперации" | C68: Х | D68: Х | E68: Х | F68: =G68+H68+I68 -> 27.3 | G68: 2.1 | H68: 25.2 | I68: 0 | J68: =K68+L68+M68 -> 25.9 | K68: 1.2 | L68: 24.7 | M68: 0 | N68: =J68/F68 -> 0.949
A70: 10 | B70: Национальный проект "Производительность труда и поддержка занятости" | C70: Х | D70: Х | E70: Х | F70: =F72+F71 -> 85 | G70: =G72+G71 -> 11.7 | H70: =H72+H71 -> 73.3 | I70: =I72+I71 -> 0 | J70: =J72+J71 -> 16 | K70: =K72+K71 -> 9.5 | L70: =L72+L71 -> 6.5 | M70: =M72+M71 -> 0 | N70: =J70/F70 -> 0.188
A71: 10.1 | B71: Региональный проект "Адресная поддержка повышения производительности труда на предприятиях", всего | C71: Х | D71: Х | E71: Х | F71: =G71+H71+I71 -> 38.3 | G71: 9.4 | H71: 28.9 | I71: 0 | J71: =K71+L71+M71 -> 13.9 | K71: 9.4 | L71: 4.5 | M71: 0 | N71: =J71/F71 -> 0.363
A72: 10.2 | B72: Региональный проект "Поддержка занятости и повышение эффективности рынка труда для обеспечения роста производительности труда" | C72: Х | D72: Х | E72: Х | F72: =G72+H72+I72 -> 46.7 | G72: 2.3 | H72: 44.4 | I72: 0 | J72: =K72+L72+M72 -> 2.1 | K72: 0.1 | L72: 2 | M72: 0 | N72: =J72/F72 -> 0.045
