Workbook

Sheet Лист1
B1: Информация о плановых ассигнованиях и кассовом исполнении расходов консолидированного бюджета Томской области на реализацию региональных проектов Томской области по состоянию на 01.12.2019
A4: № п/п | B4: Наименование | C4: Код ГРБС | D4: Наименование ГРБС | E4: Код целевой статьи областного бюджета | F4: 2019 год | N4: 2020 год | R4: 2021 год | V4: % исполнения
F5: Плановые ассигнования*, в том числе | J5: Кассовое исполнение, в том числе | N5: Плановые ассигнования*, в том числе в том числе | R5: Плановые ассигнования*, в том числе
F6: ИТОГО | G6: за счет средств областного бюджета | H6: за счет средств федерального бюджета | I6: за счет средств местного бюджета** | J6: ИТОГО | K6: за счет средств областного бюджета | L6: за счет средств федерального бюджета | M6: за счет средств местного бюджета** | N6: ИТОГО | O6: за счет средств областного бюджета | P6: за счет средств федерального бюджета | Q6: за счет средств местного бюджета** | R6: ИТОГО | S6: за счет средств областного бюджета | T6: за счет средств федерального бюджета | U6: за счет средств местного бюджета**
A7: 1 | B7: 2 | C7: 3 | D7: 4 | E7: 5 | F7: 6 | G7: 7 | H7: 8 | I7: 9 | J7: 10 | K7: 11 | L7: 12 | M7: 13 | N7: 14 | O7: 15 | P7: 16 | Q7: 17 | R7: 18 | S7: 19 | T7: 20 | U7: 21 | V7: 22
B8: ВСЕГО: | F8: =F9+F43+F70+F107+F131+F143+F158+F162+F174+F194 -> 10307312 | G8: =G9+G43+G70+G107+G131+G143+G158+G162+G174+G194 -> 3421884.1 | H8: =H9+H43+H70+H107+H131+H143+H158+H162+H174+H194 -> 6254472.9 | I8: =I9+I43+I70+I107+I131+I143+I158+I162+I174+I194 -> 630954.5 | J8: =J9+J43+J70+J107+J131+J143+J158+J162+J174+J194 -> 7098118.3 | K8: =K9+K43+K70+K107+K131+K143+K158+K162+K174+K194 -> 2535255 | L8: =L9+L43+L70+L107+L131+L143+L158+L162+L174+L194 -> 4119102.1 | M8: =M9+M43+M70+M107+M131+M143+M158+M162+M174+M194 -> 443761.2 | ... U8: =U9+U43+U70+U107+U131+U143+U158+U162+U174+U194 -> 457053.6 | V8: =J8/F8 -> 0.689 | W8: =F8/$F$8 -> 1
A9: 1 | B9: Национальный проект "Демография" | C9: Х | D9: Х | E9: Х | F9: =F10+F21+F31+F36+F40 -> 2987672.4 | G9: =G10+G21+G31+G36+G40 -> 1573811.1 | H9: =H10+H21+H31+H36+H40 -> 1369595.5 | I9: =I10+I21+I31+I36+I40 -> 44265.8 | J9: =J10+J21+J31+J36+J40 -> 1469381.6 | K9: =K10+K21+K31+K36+K40 -> 891230.1 | L9: =L10+L21+L31+L36+L40 -> 546661.5 | M9: =M10+M21+M31+M36+M40 -> 31490 | ... U9: =U10+U21+U31+U36+U40 -> 5999.9 | V9: =J9/F9 -> 0.492 | W9: =F9/$F$8 -> 0.28986
A10: 1.1 | B10: Региональный проект "Старшее поколение", всего | C10: Х | D10: Х | E10: Х | F10: =SUM(G10:H10) -> 348929.6 | G10: =SUM(G12:G20) -> 15230.8 | H10: =SUM(H12:H20) -> 333698.8 | I10: =SUM(I12:I20) -> 0 | J10: =SUM(K10:L10) -> 170078.9 | K10: =SUM(K12:K20) -> 6752.4 | L10: =SUM(L12:L20) -> 163326.5 | M10: =SUM(M12:M20) -> 0 | N10: =SUM(O10:P10) -> 260053.7 | O10: =SUM(O12:O20) -> 7939.8 | P10: =SUM(P12:P20) -> 252113.9 | Q10: =SUM(Q12:Q20) -> 0 | R10: =SUM(S10:U10) -> 89065.4 | S10: =SUM(S12:S20) -> 3030.3 | T10: =SUM(T12:T20) -> 86035.1 | U10: =SUM(U12:U20) -> 0 | V10: =J10/F10 -> 0.487 | W10: =F10/$F$8 -> 0.03385
B11: из них | W11: =F11/$F$8 -> 0
A12: 024 | B12: Организация профессионального обучения и дополнительного профессионального образования лиц предпенсионного возраста | C12: 839 | D12: Департамент труда и занятости населения Томской области | E12: 051P352940 | F12: =SUM(G12:H12)+I12 -> 18193.5 | G12: =1257.1-165.9-181.53 -> 909.7 | H12: =23884.6-3151.8-3448.98 -> 17283.8 | J12: =SUM(K12:L12) -> 9352.5 | K12: =240.8+15.39+68.35+53.45+83.35+6.36 -> 467.7 | L12: =4574.1+292.33+1298.52+1015.44+1583.52+120.89 -> 8884.8 | N12: =SUM(O12:P12) -> 23985.9 | O12: 1199.3 | P12: 22786.6 | R12: =SUM(S12:U12) -> 23985.9 | S12: 1199.3 | T12: 22786.6 | V12: =J12/F12 -> 0.514 | W12: =F12/$F$8 -> 0.00177
A13: 024 | B13: Возмещение затрат работодателям на профессиональное обучение и дополнительное профессиональное образование работников из числа лиц предпенсионного возраста | C13: 839 | D13: Департамент труда и занятости населения Томской области | E13: 051P352941 | F13: =SUM(G13:H13)+I13 -> 2346.7 | G13: =174.1-56.7 -> 117.4 | H13: =3307.4-1078.1 -> 2229.3 | J13: =SUM(K13:L13) -> 1644.2 | K13: =40.9+7.8+33.5 -> 82.2 | L13: =777.3+148.2+636.5 -> 1562 | N13: =SUM(O13:P13) -> 4637.3 | O13: =231.9 -> 231.9 | P13: =4405.4 -> 4405.4 | R13: =SUM(S13:U13) -> 4637.3 | S13: 231.9 | T13: 4405.4 | V13: =J13/F13 -> 0.701 | W13: =F13/$F$8 -> 0.00023
B14: Субсидия автономной некоммерческой организации дополнительного профессионального образования "Энергетик" (АНО ДПО "Энергетик") | C14: 839 | D14: Департамент труда и занятости населения Томской области | E14: 051P352942 | F14: =SUM(G14:H14)+I14 -> 8083 | G14: =222.6+181.53 -> 404.1 | H14: =4229.9+3448.98 -> 7678.9 | W14: =F14/$F$8 -> 0.00078
A15: 024 | B15: Проведение дополнительных скринингов лицам старше 65 лет, проживающим в сельской местности, на выявление отдельных социально значимых неинфекционных заболеваний, оказывающих вклад в структуру смертности населения, с возможностью доставки данных лиц в медицинские организации | C15: 811 | D15: Департамент здравоохранения Томской области | E15: 071P352950 | F15: =SUM(G15:H15)+I15 -> 0 | J15: =SUM(K15:L15) -> 0 | N15: =SUM(O15:P15) -> 27312.6 | P15: 27312.6 | R15: =SUM(S15:U15) -> 7245 | T15: 7245 | W15: =F15/$F$8 -> 0
B16: Организация деятельности мобильных бригад по доставке лиц старше 65 лет, проживающих в сельской местности, в медицинские организации | C16: 809 | D16: Департамент социальной защиты населения Томской области | E16: 112P352931 | F16: =SUM(G16:H16)+I16 -> 3539.6 | G16: 3539.6 | J16: =SUM(K16:L16) -> 1164.3 | K16: =929.59+125.23+76.81+32.71 -> 1164.3 | N16: =SUM(O16:P16) -> 0 | R16: =SUM(S16:U16) -> 0 | V16: =J16/F16 -> 0.329 | W16: =F16/$F$8 -> 0.00034
A17: 024 | B17: Проведение вакцинации против пневмококковой инфекции граждан старше трудоспособного возраста из групп риска, проживающих в организациях социального обслуживания | C17: 811 | D17: Департамент здравоохранения Томской области | E17: 071P354680 | F17: =SUM(G17:H17)+I17 -> 1634.4 | H17: 1634.4 | J17: =SUM(K17:L17) -> 1625.5 | L17: 1625.5 | N17: =SUM(O17:P17) -> 163.7 | P17: 163.7 | R17: =SUM(S17:U17) -> 163.5 | T17: 163.5 | V17: =J17/F17 -> 0.995 | W17: =F17/$F$8 -> 0.00016
A18: 022 | B18: Финансовое обеспечение программ, направленных на обеспечение безопасных и комфортных условий предоставления социальных услуг в сфере социального обслуживания | C18: 821 | D18: Департамент архитектуры и строительства Томской области | E18: 112P351210 | F18: =SUM(G18:H18)+I18 -> 292352.1 | G18: =8753.1+581.5 -> 9334.6 | H18: 283017.5 | J18: =SUM(K18:L18) -> 134882.1 | K18: =3721.4+0.9+501.64 -> 4223.9 | L18: =114409.4+29.21+16219.6 -> 130658.2 | N18: =SUM(O18:P18) -> 203954.2 | O18: =203954.2-197445.6 -> 6508.6 | P18: 197445.6 | R18: =SUM(S18:U18) -> 53033.7 | S18: =4047.7+32717+16269-51434.6 -> 1599.1 | T18: 51434.6 | V18: =J18/F18 -> 0.461 | W18: =F18/$F$8 -> 0.02836
A19: 024 | B19: Приобретение автотранспорта | C19: 809 | D19: Департамент социальной защиты населения Томской области | E19: 112P352930 | F19: =SUM(G19:H19)+I19 -> 22780.3 | G19: =675.9+138.4+111.12 -> 925.4 | H19: 21854.9 | J19: =SUM(K19:L19) -> 21410.3 | K19: =814.3 -> 814.3 | L19: 20596.02 | N19: =SUM(O19:P19) -> 0 | R19: =SUM(S19:U19) -> 0 | V19: =J19/F19 -> 0.94 | W19: =F19/$F$8 -> 0.00221
B20: Бюджетные ассигнования на объекты капитального строительства государственной собственности в сфере социального обслуживания населения | C20: 821 | D20: Департамент архитектуры и строительства Томской области | E20: 112P30И000 | F20: =SUM(G20:H20)+I20 -> 0 | G20: =581.5-581.5 -> 0 | J20: =SUM(K20:L20) -> 0 | N20: =SUM(O20:P20) -> 0 | O20: =402-402 -> 0 | R20: =SUM(S20:U20) -> 0 | S20: =8.3-8.3 -> 0 | W20: =F20/$F$8 -> 0
A21: 1.2 | B21: Региональный проект "Спорт - норма жизни", всего | C21: Х | D21: Х | E21: Х | F21: =SUM(G21:H21)+I21 -> 268888 | G21: =SUM(G23:G30) -> 205926.2 | H21: =SUM(H23:H30) -> 19758.1 | I21: =SUM(I23:I30) -> 43203.7 | J21: =SUM(K21:L21)+M21 -> 246463.2 | K21: =SUM(K23:K30) -> 196820.4 | L21: =SUM(L23:L30) -> 18152.8 | M21: =SUM(M23:M30) -> 31490 | N21: =SUM(O21:P21)+Q21 -> 155335.6 | O21: =SUM(O23:O30) -> 111731.6 | P21: =SUM(P23:P30) -> 35381.9 | Q21: =SUM(Q23:Q30) -> 8222.1 | R21: =SUM(S21:U21) -> 315551.8 | S21: =SUM(S23:S30) -> 82654.8 | T21: =SUM(T23:T30) -> 226897.1 | U21: =SUM(U23:U30) -> 5999.9 | V21: =J21/F21 -> 0.917 | W21: =F21/$F$8 -> 0.02609
B22: из них | W22: =F22/$F$8 -> 0
A23: 022 | B23: Оснащение объектов спортивной инфраструктуры спортивно-технологическим оборудованием | C23: 813 | D23: Департамент по молодежной политике, физической культуре и спорту Томской области | E23: 081P552280 | F23: =G23+H23+I23 -> 20999.4 | G23: 611.1 | H23: 19758.1 | I23: 630.2 | J23: =SUM(K23:L23)+M23 -> 18714.2 | L23: =5819.7+12333.1 -> 18152.8 | M23: 561.4 | N23: =SUM(O23:P23) -> 10703 | O23: 321.1 | P23: 10381.9 | R23: =SUM(S23:U23) -> 6889.4 | S23: 206.7 | T23: 6682.7 | V23: =J23/F23 -> 0.891 | W23: =F23/$F$8 -> 0.00204
B24: Строительство универсальных спортивных площадок в муниципальных образованиях Томской области | C24: 821 | D24: Департамент архитектуры и строительства Томской области | E24: 083P54И380 | F24: =G24+H24+I24 -> 33614.4 | G24: 25122.7 | I24: 8491.7 | J24: =SUM(K24:L24)+M24 -> 25038.9 | K24: =8845.7+14501.86 -> 23347.6 | M24: 1691.3 | N24: =SUM(O24:P24) -> 0 | R24: =SUM(S24:U24) -> 0 | V24: =J24/F24 -> 0.745 | W24: =F24/$F$8 -> 0.00326
B25: Капитальный ремонт муниципальных спортивных сооружений | C25: 821 | D25: Департамент архитектуры и строительства Томской области | E25: 083P540370 | F25: =G25+H25+I25 -> 98459.4 | G25: 79000 | I25: 19459.4 | J25: =SUM(K25:L25)+M25 -> 93374.7 | K25: =57138.7+20000 -> 77138.7 | M25: 16236 | N25: =SUM(O25:P25)+Q25 -> 37222.2 | O25: 35000 | Q25: 2222.2 | R25: =SUM(S25:U25) -> 0 | V25: =J25/F25 -> 0.948 | W25: =F25/$F$8 -> 0.00955
B26: Приобретение спортивного оборудования и инвентаря для приведения организаций спортивной подготовки в нормативное состояние | C26: 813 | D26: Департамент по молодежной политике, физической культуре и спорту Томской области | E26: 082P552290 | F26: =G26+H26+I26 -> 0 | J26: =SUM(K26:L26) -> 0 | N26: =SUM(O26:P26) -> 25773.2 | O26: 773.2 | P26: 25000 | R26: =SUM(S26:U26) -> 44329.9 | S26: 1329.9 | T26: 43000 | W26: =F26/$F$8 -> 0
B27: Создание и модернизация объектов спортивной инфраструктуры муниципальной собственности для занятий физической культурой и спортом | C27: 821 | D27: Департамент архитектуры и строительства Томской области | E27: 083P551390 | F27: =G27+H27+I27 -> 0 | J27: =SUM(K27:L27) -> 0 | N27: =SUM(O27:P27) -> 0 | R27: =SUM(S27:U27) -> 182695.3 | S27: 5480.9 | T27: 177214.4 | W27: =F27/$F$8 -> 0
B28: Приобретение оборудования для малобюджетных спортивных площадок по месту жительства и учебы в муниципальных образованиях Томской области, за исключением муниципального образования "Город Томск", муниципального образования "Городской округ закрытое административно-территориальное образование Северск Томской области" | C28: 813 | D28: Департамент по молодежной политике, физической культуре и спорту Томской области | E28: 081P500001 | F28: =G28+H28+I28 -> 10044.7 | G28: 9000 | I28: 1044.7 | J28: =SUM(K28:L28)+M28 -> 10030 | K28: 9000 | M28: 1030 | N28: =SUM(O28:P28)+Q28 -> 9090 | O28: 9000 | Q28: 90 | R28: =SUM(S28:U28) -> 9090 | S28: 9000 | U28: 90 | V28: =J28/F28 -> 0.999 | W28: =F28/$F$8 -> 0.00097
B29: Приобретение спортивного инвентаря и оборудования для спортивных школ | C29: 813 | D29: Департамент по молодежной политике, физической культуре и спорту Томской области | E29: 082P500002 | F29: =G29+H29+I29 -> 31479.3 | G29: 30000 | I29: 1479.3 | J29: =SUM(K29:L29)+M29 -> 31298.8 | K29: =28094.6+1905.4 -> 30000 | M29: 1298.8 | N29: =SUM(O29:P29) -> 10000 | O29: 10000 | R29: =SUM(S29:U29) -> 10000 | S29: 10000 | V29: =J29/F29 -> 0.994 | W29: =F29/$F$8 -> 0.00305
B30: Обеспечение условий для развития физической культуры и массового спорта | C30: 813 | D30: Департамент по молодежной политике, физической культуре и спорту Томской области | E30: 081P500003 | F30: =G30+H30+I30 -> 74290.8 | G30: 62192.4 | I30: 12098.4 | J30: =SUM(K30:L30)+M30 -> 68006.6 | K30: =53030.8+4303.3 -> 57334.1 | M30: 10672.5 | N30: =SUM(O30:P30)+Q30 -> 62547.2 | O30: 56637.3 | Q30: 5909.9 | R30: =SUM(S30:U30) -> 62547.2 | S30: 56637.3 | U30: 5909.9 | V30: =J30/F30 -> 0.915 | W30: =F30/$F$8 -> 0.00721
A31: 1.3 | B31: Региональный проект "Содействие занятости женщин - создание условий дошкольного образования для детей в возрасте до трех лет", всего | C31: Х | D31: Х | E31: Х | F31: =G31+H31+I31 -> 1220534.1 | G31: =SUM(G33:G35) -> 572787.3 | H31: =SUM(H33:H35) -> 646684.7 | I31: =SUM(I33:I35) -> 1062.1 | J31: =SUM(K31:L31) -> 0 | K31: =SUM(K33:K35) -> 0 | L31: =SUM(L33:L35) -> 0 | M31: =SUM(M33:M35) -> 0 | N31: =SUM(O31:P31) -> 613603.1 | O31: =SUM(O33:O35) -> 339568.5 | P31: =SUM(P33:P35) -> 274034.6 | Q31: =SUM(Q33:Q35) -> 0 | R31: =SUM(S31:T31) -> 1229501.3 | S31: =SUM(S33:S35) -> 356541 | T31: =SUM(T33:T35) -> 872960.3 | U31: =SUM(U33:U34) -> 0 | V31: =J31/F31 -> 0 | W31: =F31/$F$8 -> 0.11841
B32: из них | W32: =F32/$F$8 -> 0
A33: 024 | B33: Создание дополнительных мест для детей в возрасте от 2 месяцев до 3 лет в образовательных организациях, осуществляющих образовательную деятельность по образовательным программам дошкольного образования | C33: 821 | D33: Департамент архитектуры и строительства Томской области | E33: 092P251590 | F33: =G33+H33+I33 -> 405131.3 | G33: =247570.3-8390.1 -> 239180.2 | H33: 165537.6 | I33: 413.5 | J33: =SUM(K33:L33) -> 0 | N33: =SUM(O33:P33) -> 0 | R33: =SUM(S33:U33) -> 0 | V33: =J33/F33 -> 0 | W33: =F33/$F$8 -> 0.03931
A34: 022 | B34: Создание дополнительных мест для детей в возрасте от 1,5 до 3 лет в образовательных организациях, осуществляющих образовательную деятельность по образовательным программам дошкольного образования | C34: 821 | D34: Департамент архитектуры и строительства Томской области | E34: 092P252320 | F34: =G34+H34+I34 -> 807012.7 | G34: 325217 | H34: 481147.1 | I34: 648.6 | J34: =SUM(K34:L34) -> 0 | N34: =SUM(O34:P34) -> 613603.1 | O34: =98303.6+241264.9 -> 339568.5 | P34: 274034.6 | R34: =SUM(S34:U34) -> 1229501.3 | S34: 356541 | T34: 872960.3 | V34: =J34/F34 -> 0 | W34: =F34/$F$8 -> 0.0783
B35: Оснащение зданий оборудованием и инвентарем для размещения дошкольных образовательных организаций | C35: 815 | D35: Департамент общего образования Томской области | E35: 092P251591 | F35: =G35+H35+I35 -> 8390.1 | G35: 8390.1 | J35: =SUM(K35:L35) -> 0 | W35: =F35/$F$8 -> 0.00081
A36: 1.4 | B36: Региональный проект "Финансовая поддержка семей при рождении детей", всего | C36: Х | D36: Х | E36: Х | F36: =SUM(G36:H36) -> 1145620.7 | G36: =SUM(G38:G39) -> 776166.8 | H36: =SUM(H38:H39) -> 369453.9 | I36: =SUM(I38:I39) -> 0 | J36: =SUM(K36:L36) -> 1049319.9 | K36: =SUM(K38:K39) -> 684137.7 | L36: =SUM(L38:L39) -> 365182.2 | M36: =SUM(M38:M39) -> 0 | N36: =SUM(O36:P36) -> 1064287.3 | O36: =SUM(O38:O39) -> 776166.8 | P36: =SUM(P38:P39) -> 288120.5 | Q36: =SUM(Q38:Q39) -> 0 | R36: =SUM(S36:U36) -> 1066542.6 | S36: =SUM(S38:S39) -> 776166.8 | T36: =SUM(T38:T39) -> 290375.8 | U36: =SUM(U38:U39) -> 0 | V36: =J36/F36 -> 0.916 | W36: =F36/$F$8 -> 0.11115
B37: из них | W37: =F37/$F$8 -> 0
A38: 023 | B38: Осуществление ежемесячной выплаты в связи с рождением (усыновлением) первого ребенка | C38: 809 | D38: Департамент социальной защиты населения Томской области | E38: 111P155730 | F38: =G38+H38+I38 -> 369453.9 | H38: 369453.9 | J38: =SUM(K38:L38) -> 365182.2 | L38: =348933.4+15777.12+425.73+45.91 -> 365182.2 | N38: =SUM(O38:P38) -> 288120.5 | P38: 288120.5 | R38: =SUM(S38:U38) -> 290375.8 | T38: 290375.8 | V38: =J38/F38 -> 0.988 | W38: =F38/$F$8 -> 0.03584
B39: Осуществление ежемесячной денежной выплаты, назначаемой в случае рождения третьего ребенка или последующих детей до достижения ребенком возраста трех лет | C39: 809 | D39: Департамент социальной защиты населения Томской области | E39: 111P1Д0840 | F39: =G39+H39+I39 -> 776166.8 | G39: 776166.8 | J39: =SUM(K39:L39) -> 684137.7 | K39: =659996.39+16932.73+5174.75+2033.8 -> 684137.7 | N39: =SUM(O39:P39) -> 776166.8 | O39: 776166.8 | R39: =SUM(S39:U39) -> 776166.8 | S39: 776166.8 | V39: =J39/F39 -> 0.881 | W39: =F39/$F$8 -> 0.0753
A40: 1.5 | B40: Региональный проект "Укрепление общественного здоровья" | C40: Х | D40: Х | E40: Х | F40: =F42 -> 3700 | G40: =G42 -> 3700 | H40: =H42 -> 0 | I40: =I42 -> 0 | J40: =J42 -> 3519.6 | K40: =K42 -> 3519.6 | L40: =L42 -> 0 | M40: =M42 -> 0 | ... U40: =U42 -> 0 | V40: =J40/F40 -> 0.951 | W40: =F40/$F$8 -> 0.00036
B41: из них | W41: =F41/$F$8 -> 0
B42: Создание и демонстрация рекламно - информационных материалов в СМИ, сети "Интернет", в медицинских организациях и общественных местах, разработка печатной продукции по формированию здорового образа жизни | C42: 811 | D42: Департамент здравоохранения Томской области | E42: 071P4Д0003 | F42: =G42 -> 3700 | G42: 3700 | J42: =K42 -> 3519.6 | K42: 3519.6 | N42: =O42 -> 3700 | O42: 3700 | R42: =S42 -> 3700 | S42: 3700 | V42: =J42/F42 -> 0.951 | W42: =F42/$F$8 -> 0.00036
A43: 2 | B43: Национальный проект "Здравоохранение" | C43: Х | D43: Х | E43: Х | F43: =F44+F52+F56+F60+F64 -> 1216123.5 | G43: =G44+G52+G56+G60+G64 -> 266674 | H43: =H44+H52+H56+H60+H64 -> 949449.5 | I43: =I44+I52+I56+I60+I64 -> 0 | J43: =J44+J52+J56+J60+J64 -> 681304.1 | K43: =K44+K52+K56+K60+K64 -> 175104 | L43: =L44+L52+L56+L60+L64 -> 506200.1 | M43: =M44+M52+M56+M60+M64 -> 0 | ... U43: =U44+U52+U56+U60+U64 -> 0 | V43: =J43/F43 -> 0.56 | W43: =F43/$F$8 -> 0.11799
A44: 2.1 | B44: Региональный проект "Развитие системы оказания первичной медико-санитарной помощи", всего | C44: Х | D44: Х | E44: Х | F44: =SUM(G44:H44) -> 282225.8 | G44: =SUM(G46:G51) -> 135045 | H44: =SUM(H46:H51) -> 147180.8 | I44: =SUM(I46:I51) -> 0 | J44: =SUM(K44:L44) -> 273595.7 | K44: =SUM(K46:K51) -> 134665 | L44: =SUM(L46:L51) -> 138930.7 | M44: =SUM(M45:M51) -> 0 | N44: =SUM(O44:P44) -> 198221.5 | O44: =SUM(O46:O51) -> 90100 | P44: =SUM(P46:P51) -> 108121.5 | Q44: =SUM(Q46:Q51) -> 0 | R44: =SUM(S44:U44) -> 263859.3 | S44: =SUM(S46:S51) -> 96000 | T44: =SUM(T46:T51) -> 167859.3 | U44: =SUM(U46:U51) -> 0 | V44: =J44/F44 -> 0.969 | W44: =F44/$F$8 -> 0.02738
B45: из них | W45: =F45/$F$8 -> 0
A46: 024 | B46: Оснащение медицинских организаций передвижными медицинскими комплексами для оказания медицинской помощи жителям населенных пунктов с численностью населения до 100 человек | C46: 811 | D46: Департамент здравоохранения Томской области | E46: 071N151910 | F46: =SUM(G46:H46) -> 0 | J46: =SUM(K46:L46) -> 0 | N46: =SUM(O46:P46) -> 0 | R46: =SUM(S46:U46) -> 65569 | T46: 65569 | W46: =F46/$F$8 -> 0
A47: 024 | B47: Создание и замена фельдшерских, фельдшерско-акушерских пунктов и врачебных амбулаторий для населенных пунктов с численностью населения от 100 до 2000 человек | C47: 811 | D47: Департамент здравоохранения Томской области | E47: 071N151960 | F47: =SUM(G47:H47) -> 21521 | H47: 21521 | J47: =SUM(K47:L47) -> 13270.9 | L47: =12936.8+334.11 -> 13270.9 | N47: =SUM(O47:P47) -> 0 | R47: =SUM(S47:U47) -> 0 | V47: =J47/F47 -> 0.617 | W47: =F47/$F$8 -> 0.00209
A48: 022 | B48: Обеспечение закупки авиационных работ органами государственной власти субъектов Российской Федерации в целях оказания медицинской помощи | C48: 811 | D48: Департамент здравоохранения Томской области | E48: 072N155540 | F48: =SUM(G48:H48) -> 150000 | G48: 24340.2 | H48: 125659.8 | J48: =SUM(K48:L48) -> 150000 | K48: =17286.95+3786.25+3267 -> 24340.2 | L48: =89246.38+19547.08+16866.34 -> 125659.8 | N48: =SUM(O48:P48) -> 150000 | O48: 41878.5 | P48: 108121.5 | R48: =SUM(S48:U48) -> 150000 | S48: 47709.7 | T48: 102290.3 | V48: =J48/F48 -> 1 | W48: =F48/$F$8 -> 0.01455
B49: Организация проведения профилактических медицинских осмотров | C49: 811 | D49: Департамент здравоохранения Томской области | E49: 071N100001 | F49: =SUM(G49:H49) -> 6000 | G49: 6000 | J49: =SUM(K49:L49) -> 6000 | K49: 6000 | N49: =SUM(O49:P49) -> 6000 | O49: 6000 | R49: =SUM(S49:U49) -> 6000 | S49: 6000 | V49: =J49/F49 -> 1 | W49: =F49/$F$8 -> 0.00058
B50: Оказание медицинской помощи с применением санитарной авиации | C50: 811 | D50: Департамент здравоохранения Томской области | E50: 072N1Д5540 | F50: =SUM(G50:H50) -> 102804.8 | G50: =52059.8+50745 -> 102804.8 | J50: =SUM(K50:L50) -> 102804.8 | K50: =52059.8+50745 -> 102804.8 | N50: =SUM(O50:P50) -> 40321.5 | O50: 40321.5 | R50: =SUM(S50:U50) -> 40390.3 | S50: 40390.3 | V50: =J50/F50 -> 1 | W50: =F50/$F$8 -> 0.00997
B51: Функционирование регионального проектного офиса по созданию и внедрению "Новой модели медицинской организации, оказывающей первичную медико-санитарную помощь" | C51: 811 | D51: Департамент здравоохранения Томской области | E51: 076N100101 | F51: =SUM(G51:H51) -> 1900 | G51: 1900 | J51: =SUM(K51:L51) -> 1520 | K51: 1520 | N51: =SUM(O51:P51) -> 1900 | O51: 1900 | R51: =SUM(S51:U51) -> 1900 | S51: 1900 | V51: =J51/F51 -> 0.8 | W51: =F51/$F$8 -> 0.00018
A52: 2.2 | B52: Региональный проект "Борьба с сердечно-сосудистыми заболеваниями", всего | C52: Х | D52: Х | E52: Х | F52: =SUM(G52:H52) -> 80052.5 | G52: =SUM(G54:G55) -> 5500 | H52: =SUM(H54:H55) -> 74552.5 | I52: =SUM(I54:I55) -> 0 | J52: =SUM(J54:J55) -> 11203.5 | K52: =SUM(K54:K55) -> 4686.5 | L52: =SUM(L54:L55) -> 6517 | M52: =SUM(M54:M55) -> 0 | N52: =SUM(O52:P52) -> 90539.4 | O52: =SUM(O54:O55) -> 5500 | P52: =SUM(P54:P55) -> 85039.4 | Q52: =SUM(Q54:Q55) -> 0 | R52: =SUM(R54:R55) -> 71706.9 | S52: =SUM(S54:S55) -> 5500 | T52: =SUM(T54:T55) -> 66206.9 | U52: =SUM(U54:U55) -> 0 | V52: =J52/F52 -> 0.14 | W52: =F52/$F$8 -> 0.00777
B53: из них | W53: =F53/$F$8 -> 0
A54: 024 | B54: Оснащение оборудованием региональных сосудистых центров и первичных сосудистых отделений | C54: 811 | D54: Департамент здравоохранения Томской области | E54: 072N251920 | F54: =SUM(G54:H54) -> 74552.5 | H54: 74552.5 | J54: =SUM(K54:L54) -> 6517 | L54: 6517 | N54: =SUM(O54:P54) -> 85039.4 | P54: 85039.4 | R54: =SUM(S54:U54) -> 66206.9 | T54: 66206.9 | V54: =J54/F54 -> 0.087 | W54: =F54/$F$8 -> 0.00723
B55: Профилактика развития сердечно-сосудистых заболеваний и сердечно-сосудистых осложнений у пациентов высокого риска | C55: 811 | D55: Департамент здравоохранения Томской области | E55: 071N2Д0002 | F55: =SUM(G55:H55) -> 5500 | G55: 5500 | J55: =SUM(K55:L55) -> 4686.5 | K55: 4686.5 | N55: =SUM(O55:P55) -> 5500 | O55: 5500 | R55: =SUM(S55:U55) -> 5500 | S55: 5500 | V55: =J55/F55 -> 0.852 | W55: =F55/$F$8 -> 0.00053
A56: 2.3 | B56: Региональный проект "Развитие детского здравоохранения, включая создание современной инфраструктуры оказания медицинской помощи детям", всего | C56: Х | D56: Х | E56: Х | F56: =SUM(G56:H56) -> 106204.4 | G56: =SUM(G58:G59) -> 20129.8 | H56: =SUM(H58:H59) -> 86074.6 | I56: =SUM(I58:I59) -> 0 | J56: =SUM(J58:J59) -> 44615.9 | K56: =SUM(K58:K59) -> 9368.7 | L56: =SUM(L58:L59) -> 35247.2 | M56: =SUM(M58:M59) -> 0 | N56: =SUM(O56:P56) -> 107658.4 | O56: =SUM(O58:O59) -> 20377 | P56: =SUM(P58:P59) -> 87281.4 | Q56: =SUM(Q58:Q59) -> 0 | R56: =SUM(S56:U56) -> 2500 | S56: =SUM(S58:S59) -> 2500 | T56: =SUM(T58:T59) -> 0 | U56: =SUM(U58:U59) -> 0 | V56: =J56/F56 -> 0.42 | W56: =F56/$F$8 -> 0.0103
B57: из них | W57: =F57/$F$8 -> 0
A58: 022 | B58: Развитие материально-технической базы детских поликлиник и детских поликлинических отделений медицинских организаций, оказывающих первичную медико-санитарную помощь | C58: 811 | D58: Департамент здравоохранения Томской области | E58: 073N451700 | F58: =SUM(G58:H58) -> 103704.4 | G58: =17629.8+102.1873-102.1873 -> 17629.8 | H58: =86074.6+498.9127-498.9127 -> 86074.6 | J58: =SUM(K58:L58) -> 42466.5 | K58: =6755.8+463.53 -> 7219.3 | L58: =32984.1+2263.12 -> 35247.2 | N58: =SUM(O58:P58) -> 105158.4 | O58: =17629.8+247.2 -> 17877 | P58: =86074.6+1206.8 -> 87281.4 | R58: =SUM(S58:U58) -> 0 | V58: =J58/F58 -> 0.409 | W58: =F58/$F$8 -> 0.01006
B59: Развитие профилактического направления в педиатрии | C59: 811 | D59: Департамент здравоохранения Томской области | E59: 071N400004 | F59: =SUM(G59:H59) -> 2500 | G59: 2500 | J59: =SUM(K59:L59) -> 2149.4 | K59: 2149.42 | N59: =SUM(O59:P59) -> 2500 | O59: 2500 | R59: =SUM(S59:U59) -> 2500 | S59: 2500 | V59: =J59/F59 -> 0.86 | W59: =F59/$F$8 -> 0.00024
A60: 2.4 | B60: Региональный проект "Создание единого цифрового контура в здравоохранении на основе единой государственной информационной системы здравоохранения (ЕГИСЗ)", всего | C60: Х | D60: Х | E60: Х | F60: =SUM(G60:H60) -> 138662 | G60: =SUM(G62:G63) -> 26290 | H60: =SUM(H62:H63) -> 112372 | I60: =SUM(I62:I63) -> 0 | J60: =SUM(J62:J63) -> 64422 | K60: =SUM(K62:K63) -> 14848.2 | L60: =SUM(L62:L63) -> 49573.8 | M60: =SUM(M62:M63) -> 0 | N60: =SUM(O60:P60) -> 405713 | O60: =SUM(O62:O63) -> 26290 | P60: =SUM(P62:P63) -> 379423 | Q60: =SUM(Q62:Q63) -> 0 | R60: =SUM(S60:U60) -> 132395.1 | S60: =SUM(S62:S63) -> 26290 | T60: =SUM(T62:T63) -> 106105.1 | U60: =SUM(U62:U63) -> 0 | V60: =J60/F60 -> 0.465 | W60: =F60/$F$8 -> 0.01345
B61: из них | W61: =F61/$F$8 -> 0
A62: 022 | B62: Реализация региональных проектов "Создание единого цифрового контура в здравоохранении на основе единой государственной информационной системы здравоохранения (ЕГИСЗ)" | C62: 811 | D62: Департамент здравоохранения Томской области | E62: 076N751140 | F62: =SUM(G62:H62) -> 130162 | G62: 17790 | H62: 112372 | J62: =SUM(K62:L62) -> 57422 | K62: 7848.2 | L62: 49573.8 | N62: =SUM(O62:P62) -> 397213 | O62: 17790 | P62: 379423 | R62: =SUM(S62:U62) -> 123895.1 | S62: 17790 | T62: 106105.1 | V62: =J62/F62 -> 0.441 | W62: =F62/$F$8 -> 0.01263
B63: Обеспечение работоспособности государственных информационных систем в сфере здравоохранения, подключенных к ЕГИСЗ | C63: 811 | D63: Департамент здравоохранения Томской области | E63: 076N751141 | F63: =SUM(G63:H63) -> 8500 | G63: 8500 | J63: =SUM(K63:L63) -> 7000 | K63: 7000 | N63: =SUM(O63:P63) -> 8500 | O63: 8500 | R63: =SUM(S63:U63) -> 8500 | S63: 8500 | V63: =J63/F63 -> 0.824 | W63: =F63/$F$8 -> 0.00082
A64: 2.5 | B64: Региональный проект "Борьба с онкологическими заболеваниями", всего | C64: Х | D64: Х | E64: Х | F64: =SUM(F66:F69) -> 608978.8 | G64: =SUM(G66:G69) -> 79709.2 | H64: =SUM(H66:H69) -> 529269.6 | I64: =SUM(I66:I69) -> 0 | J64: =SUM(J66:J69) -> 287467 | K64: =SUM(K66:K69) -> 11535.6 | L64: =SUM(L66:L69) -> 275931.4 | M64: =SUM(M66:M69) -> 0 | ... U64: =SUM(U66:U69) -> 0 | V64: =J64/F64 -> 0.472 | W64: =F64/$F$8 -> 0.05908
B65: из них | W65: =F65/$F$8 -> 0
A66: 024 | B66: Создание и оснащение референс-центров для проведения иммуногистохимических, патоморфологических исследований и лучевых методов исследований, переоснащение сети региональных медицинских организаций, оказывающих помощь больным онкологическими заболеваниями в субъектах Российской Федерации | C66: 811 | D66: Департамент здравоохранения Томской области | E66: 072N351900 | F66: =SUM(G66:H66) -> 223067.6 | H66: 223067.6 | J66: =SUM(K66:L66) -> 221480.8 | L66: =169746.2+49995+1739.64 -> 221480.8 | N66: =SUM(O66:P66) -> 390904.5 | P66: 390904.5 | R66: =SUM(S66:U66) -> 158618.8 | T66: 158618.8 | V66: =J66/F66 -> 0.993 | W66: =F66/$F$8 -> 0.02164
A67: 022 | B67: Софинансирование капитальных вложений в объекты государственной собственности субъектов Российской Федерации | C67: 821 | D67: Департамент архитектуры и строительства Томской области | E67: 076N351110 | F67: =SUM(G67:H67) -> 65986.2 | G67: =79709.2-68173.59 -> 11535.6 | H67: =306202-251751.4 -> 54450.6 | J67: =SUM(K67:L67) -> 65986.2 | K67: 11535.6 | L67: 54450.6 | N67: =SUM(O67:P67) -> 0 | R67: =SUM(S67:U67) -> 0 | V67: =J67/F67 -> 1 | W67: =F67/$F$8 -> 0.0064
A68: 022 | B68: Новое строительство и реконструкция(Хирургический корпус на 120 коек с поликлиникой на 200 п/смену ОГАУЗ "Томский областной онкологический диспансер" ) | C68: 821 | D68: Департамент архитектуры и строительства Томской области | E68: 076N352270 | F68: =G68+H68 -> 319925 | G68: 68173.6 | H68: 251751.4 | N68: =O68+P68 -> 1159552.8 | O68: 202067.8 | P68: 957485 | R68: =S68+T68 -> 2414050.4 | S68: 499078.4 | T68: 1914972 | W68: =F68/$F$8 -> 0.03104
B69: Бюджетные ассигнования на объекты капитального строительства государственной собственности в сфере здравоохранения | C69: 821 | D69: Департамент архитектуры и строительства Томской области | E69: 076N30И000 | F69: =SUM(G69:H69) -> 0 | G69: =673-673 -> 0 | J69: =SUM(K69:L69) -> 0 | N69: =SUM(O69:P69) -> 0 | O69: =1812.9-1812.9 -> 0 | R69: =SUM(S69:U69) -> 0 | S69: =107.2-107.2 -> 0 | W69: =F69/$F$8 -> 0
A70: 3 | B70: Национальный проект "Образование" | C70: Х | D70: Х | E70: Х | F70: =F71+F79+F85+F92+F103+F105 -> 1519134 | G70: =G71+G79+G85+G92+G103+G105 -> 817370 | H70: =H71+H79+H85+H92+H103+H105 -> 662910.2 | I70: =I71+I79+I85+I92+I103+I105 -> 38853.8 | J70: =J71+J79+J85+J92+J103+J105 -> 1336072.7 | K70: =K71+K79+K85+K92+K103+K105 -> 779718.4 | L70: =L71+L79+L85+L92+L103+L105 -> 519710.2 | M70: =M71+M79+M85+M92+M103+M105 -> 36644.1 | ... U70: =U71+U79+U85+U92+U103+U105 -> 0 | V70: =J70/F70 -> 0.879 | W70: =F70/$F$8 -> 0.14738
A71: 3.1 | B71: Региональный проект "Современная школа", всего | C71: Х | D71: Х | E71: Х | F71: =SUM(F73:F78) -> 1312099.9 | G71: =SUM(G73:G78) -> 705896 | H71: =SUM(H73:H78) -> 567363.3 | I71: =SUM(I73:I78) -> 38840.6 | J71: =SUM(J73:J78) -> 1179276.3 | K71: =SUM(K73:K78) -> 693577.3 | L71: =SUM(L73:L78) -> 449068.1 | M71: =SUM(M73:M78) -> 36630.9 | ... U71: =SUM(U73:U78) -> 0 | V71: =J71/F71 -> 0.899 | W71: =F71/$F$8 -> 0.1273
B72: из них | W72: =F72/$F$8 -> 0
A73: 022 | B73: Обновление материально-технической базы для формирования у обучающихся современных технологических и гуманитарных навыков | C73: 815 | D73: Департамент общего образования Томской области | E73: 091E151690 | F73: =SUM(G73:H73) -> 46409.3 | G73: 1392.3 | H73: 45017 | J73: =SUM(K73:L73) -> 23736.7 | K73: =362+1.84+16.33+88.25+187.42+56.2 -> 712 | L73: =11706.6+59.63+528.07+2853.36+6059.97+1817.11 -> 23024.7 | N73: =SUM(O73:P73) -> 0 | R73: =SUM(S73:U73) -> 0 | V73: =J73/F73 -> 0.511 | W73: =F73/$F$8 -> 0.0045
A74: 022 | B74: Создание новых мест в общеобразовательных организациях, расположенных в сельской местности и поселках городского типа (Корниловская СОШ) | C74: 821 | D74: Департамент архитектуры и строительства Томской области | E74: 241E152300 | F74: =SUM(G74:H74)+I74 -> 99539.4 | G74: 2978.4 | H74: 96302.9 | I74: 258.1 | J74: =SUM(K74:L74) -> 0 | N74: =SUM(O74:P74) -> 307301.8 | O74: 307301.8 | R74: =SUM(S74:U74) -> 0 | V74: =J74/F74 -> 0 | W74: =F74/$F$8 -> 0.00966
B75: Создание новых мест в общеобразовательных организациях, расположенных в сельской местности и поселках городского типа (операционные расходы) | C75: 815 | D75: Департамент общего образования Томской области | E75: 241E152300 | F75: =SUM(G75:H75) -> 8660 | G75: 8660 | J75: =SUM(K75:L75) -> 0 | N75: =SUM(O75:P75)+Q75 -> 307.6 | Q75: 307.6 | R75: =SUM(S75:U75) -> 0 | V75: =J75/F75 -> 0 | W75: =F75/$F$8 -> 0.00084
A76: 022 | B76: Создание новых мест в общеобразовательных организациях (Приобретение здания с оборудованием для размещения общеобразовательной организации на 1100 мест по ул. П.Федоровского в г. Томске) | C76: 821 | D76: Департамент архитектуры и строительства Томской области | E76: 241E155200 | F76: =G76+H76+I76 -> 1082491.2 | G76: 655365.3 | H76: 426043.4 | I76: 1082.5 | J76: =SUM(K76:L76)+M76 -> 1082491.2 | K76: 655365.3 | L76: 426043.4 | M76: 1082.5 | N76: =SUM(O76:P76) -> 1081408.7 | O76: 687844.2 | P76: 393564.5 | R76: =SUM(S76:U76) -> 0 | S76: =687844.2-687844.2 -> 0 | V76: =J76/F76 -> 1 | W76: =F76/$F$8 -> 0.10502
B77: Создание новых мест в общеобразовательных организациях | C77: 821 | D77: Департамент архитектуры и строительства Томской области | E77: 241E1Д5200 | F77: =SUM(G77:H77) -> 0 | J77: =SUM(K77:L77) -> 0 | N77: =SUM(O77:P77) -> 0 | R77: =SUM(S77:U77) -> 687844.2 | S77: 687844.2 | W77: =F77/$F$8 -> 0
B78: Оснащение зданий средствами обучения и воспитания для размещения общеобразовательных организаций | C78: 815 | D78: Департамент общего образования Томской области | E78: 241E155201 | F78: =G78+H78+I78 -> 75000 | G78: 37500 | I78: 37500 | J78: =SUM(K78:L78)+M78 -> 73048.4 | K78: 37500 | M78: 35548.4 | N78: =SUM(O78:P78) -> 0 | R78: =SUM(S78:U78) -> 0 | V78: =J78/F78 -> 0.974 | W78: =F78/$F$8 -> 0.00728
A79: 3.2 | B79: Региональный проект "Цифровая образовательная среда", всего | C79: Х | D79: Х | E79: Х | F79: =SUM(F81:F84) -> 37934.6 | G79: =SUM(G81:G84) -> 7443 | H79: =SUM(H81:H84) -> 30491.6 | I79: =SUM(I81:I84) -> 0 | J79: =SUM(J81:J84) -> 12719.7 | K79: =SUM(K81:K84) -> 6137.7 | L79: =SUM(L81:L84) -> 6582 | M79: =SUM(M81:M84) -> 0 | ... U79: =SUM(U81:U84) -> 0 | V79: =J79/F79 -> 0.335 | W79: =F79/$F$8 -> 0.00368
B80: из них | W80: =F80/$F$8 -> 0
A81: 022 | B81: Внедрение целевой модели цифровой образовательной среды в общеобразовательных организациях и профессиональных образовательных организациях | C81: 815 | D81: Департамент общего образования Томской области | E81: 091E452100 | F81: =SUM(G81:H81) -> 27001.7 | G81: 810.1 | H81: 26191.6 | J81: =SUM(K81:L81) -> 2352.6 | K81: =14.1+56.46 -> 70.6 | L81: =456.5+1825.49 -> 2282 | N81: =SUM(O81:P81) -> 0 | R81: =SUM(S81:U81) -> 0 | V81: =J81/F81 -> 0.087 | W81: =F81/$F$8 -> 0.00262
A82: 022 | B82: Внедрение целевой модели цифровой образовательной среды в общеобразовательных организациях и профессиональных образовательных организациях | C82: 816 | D82: Департамент профессионального образования Томской области | E82: 093E452100 | F82: =SUM(G82:H82) -> 4433 | G82: 133 | H82: 4300 | J82: =SUM(K82:L82) -> 4433 | K82: 133 | L82: 4300 | N82: =SUM(O82:P82) -> 0 | R82: =SUM(S82:U82) -> 0 | V82: =J82/F82 -> 1 | W82: =F82/$F$8 -> 0.00043
B83: Внедрение и функционирование целевой модели цифровой образовательной среды в общеобразовательных организациях | C83: 815 | D83: Департамент общего образования Томской области | E83: 091E452101 | F83: =SUM(G83:H83) -> 6249.9 | G83: 6249.9 | J83: =SUM(K83:L83) -> 5729.1 | K83: 5729.1 | N83: =SUM(O83:P83) -> 0 | R83: =SUM(S83:U83) -> 0 | V83: =J83/F83 -> 0.917 | W83: =F83/$F$8 -> 0.00061
B84: Функционирование целевой модели цифровой образовательной среды в профессиональных образовательных организациях | C84: 816 | D84: Департамент профессионального образования Томской области | E84: 093E452101 | F84: =SUM(G84:H84) -> 250 | G84: 250 | J84: =SUM(K84:L84) -> 205 | K84: 205 | N84: =SUM(O84:P84) -> 0 | R84: =SUM(S84:U84) -> 0 | V84: =J84/F84 -> 0.82 | W84: =F84/$F$8 -> 2e-05
A85: 3.3 | B85: Региональный проект "Успех каждого ребенка", всего | C85: Х | D85: Х | E85: Х | F85: =SUM(F87:F91) -> 94449.6 | G85: =SUM(G87:G91) -> 83475.7 | H85: =SUM(H87:H91) -> 10960.7 | I85: =SUM(I87:I91) -> 13.2 | J85: =SUM(J87:J91) -> 73152.3 | K85: =SUM(K87:K91) -> 62178.4 | L85: =SUM(L87:L91) -> 10960.7 | M85: =SUM(M87:M91) -> 13.2 | ... U85: =SUM(U87:U91) -> 0 | V85: =J85/F85 -> 0.775 | W85: =F85/$F$8 -> 0.00916
B86: из них | W86: =F86/$F$8 -> 0
A87: 022 | B87: Создание в общеобразовательных организациях, расположенных в сельской местности, условий для занятий физической культурой и спортом | C87: 821 | D87: Департамент архитектуры и строительства Томской области | E87: 092E250970 | F87: =G87+H87+I87 -> 13244.6 | G87: 2270.7 | H87: 10960.7 | I87: 13.2 | J87: =SUM(K87:L87)+M87 -> 13244.6 | K87: =1026.9+247.55+996.26 -> 2270.7 | L87: =4956.8+1194.91+4808.94 -> 10960.7 | M87: 13.2 | N87: =SUM(O87:P87) -> 0 | R87: =SUM(S87:U87) -> 0 | V87: =J87/F87 -> 1 | W87: =F87/$F$8 -> 0.00128
B88: Создание центров выявления и поддержки одаренных детей | C88: 815 | D88: Департамент общего образования Томской области | E88: 091E251890 | F88: =SUM(G88:H88) -> 30000 | G88: 30000 | J88: =SUM(K88:L88) -> 17958.5 | K88: =13632.1+168.73+797.33+2201.23+1159.06 -> 17958.5 | N88: =SUM(O88:P88) -> 0 | R88: =SUM(S88:U88) -> 0 | V88: =J88/F88 -> 0.599 | W88: =F88/$F$8 -> 0.00291
B89: Формирование современных управленческих и организационно-экономических механизмов в системе дополнительного образования детей в субъектах Российской Федерации | C89: 815 | D89: Департамент общего образования Томской области | E89: 091E255370 | F89: =SUM(G89:H89) -> 35464.5 | G89: 35464.5 | J89: =SUM(K89:L89) -> 29673.9 | K89: =26224.6+948.32+176.42+183.04+2141.55 -> 29673.9 | N89: =SUM(O89:P89) -> 0 | R89: =SUM(S89:U89) -> 0 | V89: =J89/F89 -> 0.837 | W89: =F89/$F$8 -> 0.00344
B90: Внедрение целевой модели развития региональных систем дополнительного образования детей | C90: 815 | D90: Департамент общего образования Томской области | E90: 091E255371 | F90: =SUM(G90:H90) -> 10720 | G90: 10720 | J90: =SUM(K90:L90) -> 7260.2 | K90: 7260.2 | N90: =SUM(O90:P90) -> 0 | R90: =SUM(S90:U90) -> 0 | V90: =J90/F90 -> 0.677 | W90: =F90/$F$8 -> 0.00104
B91: Реализация пилотных проектов по обновлению содержания и технологий дополнительного образования по приоритетным направлениям | C91: 815 | D91: Департамент общего образования Томской области | E91: 091E262352 | F91: =SUM(G91:H91) -> 5020.5 | G91: 5020.5 | J91: =SUM(K91:L91) -> 5015.1 | K91: 5015.1 | N91: =SUM(O91:P91) -> 0 | R91: =SUM(S91:U91) -> 0 | V91: =J91/F91 -> 0.999 | W91: =F91/$F$8 -> 0.00049
A92: 3.4 | B92: Региональный проект "Молодые профессионалы (Повышение конкурентоспособности профессионального образования)", всего | C92: Х | D92: Х | E92: Х | F92: =F94+F95+F96+F97+F98+F99+F100+F101+F102 -> 73344.7 | G92: =G94+G95+G96+G97+G98+G99+G100+G101+G102 -> 19250.1 | H92: =H94+H95+H96+H97+H98+H99+H100+H101+H102 -> 54094.6 | I92: =I94+I95+I96+I97+I98+I99+I100+I101+I102 -> 0 | J92: =J94+J95+J96+J97+J98+J99+J100+J101+J102 -> 70106.7 | K92: =K94+K95+K96+K97+K98+K99+K100+K101+K102 -> 17007.3 | L92: =L94+L95+L96+L97+L98+L99+L100+L101+L102 -> 53099.4 | M92: =SUM(M94:M102) -> 0 | N92: =N94+N95+N96+N97+N98+N99+N100+N101+N102 -> 61120 | O92: =O94+O95+O96+O97+O98+O99+O100+O101+O102 -> 61120 | P92: =P94+P95+P96+P97+P98+P99+P100+P101+P102 -> 0 | Q92: =Q94+Q95+Q96+Q97+Q98+Q99+Q100+Q101+Q102 -> 0 | R92: =R94+R95+R96+R97+R98+R99+R100+R101+R102 -> 67320 | S92: =S94+S95+S96+S97+S98+S99+S100+S101+S102 -> 67320 | T92: =T94+T95+T96+T97+T98+T99+T100+T101+T102 -> 0 | U92: =U94+U95+U96+U97+U98+U99+U100+U101+U102 -> 0 | V92: =J92/F92 -> 0.956 | W92: =F92/$F$8 -> 0.00712
B93: из них | W93: =F93/$F$8 -> 0
B94: Реализация региональных мероприятий, направленных на модернизацию среднего профессионального образования | C94: 816 | D94: Департамент профессионального образования Томской области | E94: 093E600020 | F94: =SUM(G94:H94) -> 0 | G94: =8670-8670 -> 0 | H94: 0 | J94: =SUM(K94:L94) -> 0 | K94: =39.59+504.24+3119.25-3663.08 -> 0 | N94: =SUM(O94:P94) -> 0 | O94: =28120-28120 -> 0 | R94: =SUM(S94:U94) -> 0 | S94: =34320-34320 -> 0 | W94: =F94/$F$8 -> 0
A95: 022 | B95: Разработка и распространение в системе среднего профессионального образования новых образовательных технологий и формы опережающей профессиональной подготовки | C95: 816 | D95: Департамент профессионального образования Томской области | E95: 093E651770 | F95: =SUM(G95:H95) -> 55767.6 | G95: 1673 | H95: 54094.6 | J95: =SUM(K95:L95) -> 54741.7 | K95: =1191.4+410.6+40.27 -> 1642.3 | L95: =38521.1+13276.12+1302.17 -> 53099.4 | N95: =SUM(O95:P95) -> 0 | R95: =SUM(S95:U95) -> 0 | V95: =J95/F95 -> 0.982 | W95: =F95/$F$8 -> 0.00541
B96: Государственная поддержка профессиональных образовательных организаций в целях обеспечения соответствия их материально-технической базы современным требованиям | C96: 816 | D96: Департамент профессионального образования Томской области | E96: 093E600080 | F96: =SUM(G96:H96) -> 0 | G96: =8907.1-8907.1 -> 0 | J96: =SUM(K96:L96) -> 0 | N96: =SUM(O96:P96) -> 0 | R96: =SUM(S96:U96) -> 0 | W96: =F96/$F$8 -> 0
B97: Функционирование центра опережающей профессиональной подготовки | C97: 816 | D97: Департамент профессионального образования Томской области | E97: 093E651771 | F97: =SUM(G97:H97) -> 0 | J97: =SUM(K97:L97) -> 0 | N97: =SUM(O97:P97) -> 33000 | O97: 33000 | R97: =SUM(S97:U97) -> 33000 | S97: 33000 | W97: =F97/$F$8 -> 0
B98: Государственная поддержка профессиональных образовательных организаций в целях обеспечения соответствия их материально-технической базы современным требованиям | C98: 816 | D98: Департамент профессионального образования Томской области | E98: 093E661624 | F98: =SUM(G98:H98) -> 8907.1 | G98: 8907.1 | J98: =SUM(K98:L98) -> 7277.2 | K98: =4876.8+2400.35 -> 7277.2 | N98: =SUM(O98:P98) -> 0 | R98: =SUM(S98:U98) -> 0 | V98: =J98/F98 -> 0.817 | W98: =F98/$F$8 -> 0.00086
B99: Обеспечение проведения аттестации обучающихся по программам среднего профессионального образования с использованием механизма демонстрационного экзамена | C99: 816 | D99: Департамент профессионального образования Томской области | E99: 093E661634 | F99: =SUM(G99:H99) -> 3840 | G99: 3840 | J99: =SUM(K99:L99) -> 3840 | K99: 3840 | N99: =SUM(O99:P99) -> 5620 | O99: 5620 | R99: =SUM(S99:U99) -> 5620 | S99: 5620 | V99: =J99/F99 -> 1 | W99: =F99/$F$8 -> 0.00037
B100: Внедрение программ профессионального обучения по наиболее востребованным и перспективным профессиям на уровне, соответствующем стандартам Ворлдскиллс, с учетом продолжительности программ не более 6 месяцев | C100: 816 | D100: Департамент профессионального образования Томской области | E100: 093E661635 | F100: =SUM(G100:H100) -> 280 | G100: 280 | J100: =SUM(K100:L100) -> 0 | N100: =SUM(O100:P100) -> 20 | O100: 20 | R100: =SUM(S100:U100) -> 20 | S100: 20 | V100: =J100/F100 -> 0 | W100: =F100/$F$8 -> 3e-05
B101: Повышение квалификации преподавателей (мастеров производственного обучения) по программам, основанным на опыте Союза Ворлдскиллс Россия | C101: 816 | D101: Департамент профессионального образования Томской области | E101: 093E661636 | F101: =SUM(G101:H101) -> 4550 | G101: 4550 | J101: =SUM(K101:L101) -> 4247.8 | K101: =4054+56.54+75.83+30.78+30.65 -> 4247.8 | N101: =SUM(O101:P101) -> 5850 | O101: 5850 | R101: =SUM(S101:U101) -> 6500 | S101: 6500 | V101: =J101/F101 -> 0.934 | W101: =F101/$F$8 -> 0.00044
B102: Вовлечение в различные формы наставничества обучающихся организаций, осуществляющих образовательную деятельность по образовательным программам среднего профессионального образования | C102: 816 | D102: Департамент профессионального образования Томской области | E102: 093E661637 | F102: =SUM(G102:H102) -> 0 | J102: =SUM(K102:L102) -> 0 | N102: =SUM(O102:P102) -> 16630 | O102: 16630 | R102: =SUM(S102:U102) -> 22180 | S102: 22180 | W102: =F102/$F$8 -> 0
...

Sheet Лист4
A1: **.*.P*.*****,**.*.N*.*****,**.*.E*.*****,**.*.F*.*****,**.*.G*.*****,**.*.R*.*****,**.*.L*.*****,**.*.D*.*****,**.*.A*.*****,**.*.I*.*****

Sheet Лист2
A1: № п/п | B1: Наименование | C1: Плановые ассигнования | D1: Кассовое исполнение | E1: % исполнения | F1: =Лист1!H3 -> 0 | G1: =Лист1!K3 -> 0
B2: ВСЕГО: | C2: =SUM(C3:C12) -> 9.66 | D2: =SUM(D3:D12) -> 6.65 | E2: =D2/C2 -> 0.688 | F2: =SUM(F3:F12) -> 9.628 | G2: =SUM(G3:G12) -> 6.049
A3: 1 | B3: Национальный проект "Демография" | C3: =SUM(Лист1!G9:H9)/1000000 -> 2.94 | D3: =SUM(Лист1!K9:L9)/1000000 -> 1.44 | E3: 0.371 | F3: 2.943 | G3: 1.27
A4: 2 | B4: Национальный проект "Здравоохранение" | C4: =SUM(Лист1!G43:H43)/1000000 -> 1.22 | D4: =SUM(Лист1!K43:L43)/1000000 -> 0.68 | E4: 0.333 | F4: 1.216 | G4: 0.569
A5: 3 | B5: Национальный проект "Образование" | C5: =SUM(Лист1!G70:H70)/1000000 -> 1.48 | D5: =SUM(Лист1!K70:L70)/1000000 -> 1.3 | E5: 0.81 | F5: 1.48 | G5: 1.253
A6: 4 | B6: Национальный проект "Цифровая экономика" | C6: =SUM(Лист1!G107:H107)/1000000 -> 0.11 | D6: =SUM(Лист1!K107:L107)/1000000 -> 0.09 | E6: 0.47 | F6: 0.114 | G6: 0.068
A7: 5 | B7: Национальный проект "Жилье и городская среда" | C7: =SUM(Лист1!G131:H131)/1000000 -> 0.99 | D7: =SUM(Лист1!K131:L131)/1000000 -> 0.42 | E7: 0.149 | F7: 0.989 | G7: 0.228
A8: 6 | B8: Национальный проект "Экология" | C8: =SUM(Лист1!G143:H143)/1000000 -> 0.16 | D8: =SUM(Лист1!K143:L143)/1000000 -> 0.08 | E8: 0.337 | F8: 0.164 | G8: 0.063
A9: 7 | B9: Национальный проект "Безопасные и качественные автомобильные дороги" | C9: =SUM(Лист1!G158:H158)/1000000 -> 2.34 | D9: =SUM(Лист1!K158:L158)/1000000 -> 2.29 | E9: 0.874 | F9: 2.292 | G9: 2.288
A10: 8 | B10: Национальный проект "Культура" | C10: =SUM(Лист1!G162:H162)/1000000 -> 0.13 | D10: =SUM(Лист1!K162:L162)/1000000 -> 0.13 | E10: 0.668 | F10: 0.132 | G10: 0.097
A11: 9 | B11: Национальный проект "Малое и среднее предпринимательство и поддержка индивидуальной предпринимательской инициативы" | C11: =SUM(Лист1!G174:H174)/1000000 -> 0.21 | D11: =SUM(Лист1!K174:L174)/1000000 -> 0.2 | E11: 0.944 | F11: 0.213 | G11: 0.197
A12: 10 | B12: Национальный проект "Производительность труда и поддержка занятости" | C12: =SUM(Лист1!G194:H194)/1000000 -> 0.08 | D12: =SUM(Лист1!K194:L194)/1000000 -> 0.02 | E12: 0.175 | F12: 0.085 | G12: 0.016

Sheet Лист3
B1: Информация о плановых ассигнованиях и кассовом исполнении расходов консолидированного бюджета Томской области на реализацию региональных проектов Томской области по состоянию на 08.11.2019
G3: =G8/D8*100 -> 74.1 | H3: =H8/E8*100 -> 65.9
A4: № п/п | B4: Наименование | C4: 2019 год | I4: % исполнения
C5: Плановые ассигнования*, в том числе | F5: Кассовое исполнение, в том числе
C6: ИТОГО | D6: за счет средств областного бюджета | E6: за счет средств федерального бюджета | F6: ИТОГО | G6: за счет средств областного бюджета | H6: за счет средств федерального бюджета
A7: 1 | B7: 2 | C7: 6 | D7: 7 | E7: 8 | F7: 10 | G7: 11 | H7: 12 | I7: 22
B8: ВСЕГО: | C8: =Лист1!F8 -> 10307312 | D8: =Лист1!G8 -> 3421884.1 | E8: =Лист1!H8 -> 6254472.9 | F8: =Лист1!J8 -> 7098118.3 | G8: =Лист1!K8 -> 2535255 | H8: =Лист1!L8 -> 4119102.1 | I8: =F8/C8 -> 0.689
A9: 1 | B9: Национальный проект "Демография" | C9: =Лист1!F9 -> 2987672.4 | D9: =Лист1!G9 -> 1573811.1 | E9: =Лист1!H9 -> 1369595.5 | F9: =Лист1!J9 -> 1469381.6 | G9: =Лист1!K9 -> 891230.1 | H9: =Лист1!L9 -> 546661.5 | I9: =F9/C9 -> 0.492
A10: 1.1 | B10: Региональный проект "Старшее поколение", всего | C10: =Лист1!F10 -> 348929.6 | D10: =Лист1!G10 -> 15230.8 | E10: =Лист1!H10 -> 333698.8 | F10: =Лист1!J10 -> 170078.9 | G10: =Лист1!K10 -> 6752.4 | H10: =Лист1!L10 -> 163326.5 | I10: =F10/C10 -> 0.487 | J10: =F10/1000000 -> 0.17
A11: 1.2 | B11: Региональный проект "Спорт - норма жизни", всего | C11: =Лист1!F21 -> 268888 | D11: =Лист1!G21 -> 205926.2 | E11: =Лист1!H21 -> 19758.1 | F11: =Лист1!J21 -> 246463.2 | G11: =Лист1!K21 -> 196820.4 | H11: =Лист1!L21 -> 18152.8 | I11: =F11/C11 -> 0.917 | J11: =F11/1000000 -> 0.25
A12: 1.3 | B12: Региональный проект "Содействие занятости женщин - создание условий дошкольного образования для детей в возрасте до трех лет", всего | C12: =Лист1!F31 -> 1220534.1 | D12: =Лист1!G31 -> 572787.3 | E12: =Лист1!H31 -> 646684.7 | F12: =Лист1!J31 -> 0 | G12: =Лист1!K31 -> 0 | H12: =Лист1!L31 -> 0 | I12: =F12/C12 -> 0 | J12: =F12/1000000 -> 0
A13: 1.4 | B13: Региональный проект "Финансовая поддержка семей при рождении детей", всего | C13: =Лист1!F36 -> 1145620.7 | D13: =Лист1!G36 -> 776166.8 | E13: =Лист1!H36 -> 369453.9 | F13: =Лист1!J36 -> 1049319.9 | G13: =Лист1!K36 -> 684137.7 | H13: =Лист1!L36 -> 365182.2 | I13: =F13/C13 -> 0.916 | J13: =F13/1000000 -> 1.05
A14: 1.5 | B14: Региональный проект "Укрепление общественного здоровья" | C14: =Лист1!F40 -> 3700 | D14: =Лист1!G40 -> 3700 | E14: =Лист1!H40 -> 0 | F14: =Лист1!J40 -> 3519.6 | G14: =Лист1!K40 -> 3519.6 | H14: =Лист1!L40 -> 0 | I14: =F14/C14 -> 0.951 | J14: =F14/1000000 -> 0
A15: 2 | B15: Национальный проект "Здравоохранение" | C15: =Лист1!F43 -> 1216123.5 | D15: =Лист1!G43 -> 266674 | E15: =Лист1!H43 -> 949449.5 | F15: =Лист1!J43 -> 681304.1 | G15: =Лист1!K43 -> 175104 | H15: =Лист1!L43 -> 506200.1 | I15: =F15/C15 -> 0.56
A16: 2.1 | B16: Региональный проект "Развитие системы оказания первичной медико-санитарной помощи", всего | C16: =Лист1!F44 -> 282225.8 | D16: =Лист1!G44 -> 135045 | E16: =Лист1!H44 -> 147180.8 | F16: =Лист1!J44 -> 273595.7 | G16: =Лист1!K44 -> 134665 | H16: =Лист1!L44 -> 138930.7 | I16: =F16/C16 -> 0.969 | J16: =F16/1000000 -> 0.27
A17: 2.2 | B17: Региональный проект "Борьба с сердечно-сосудистыми заболеваниями", всего | C17: =Лист1!F52 -> 80052.5 | D17: =Лист1!G52 -> 5500 | E17: =Лист1!H52 -> 74552.5 | F17: =Лист1!J52 -> 11203.5 | G17: =Лист1!K52 -> 4686.5 | H17: =Лист1!L52 -> 6517 | I17: =F17/C17 -> 0.14 | J17: =F17/1000000 -> 0.01
A18: 2.3 | B18: Региональный проект "Развитие детского здравоохранения, включая создание современной инфраструктуры оказания медицинской помощи детям", всего | C18: =Лист1!F56 -> 106204.4 | D18: =Лист1!G56 -> 20129.8 | E18: =Лист1!H56 -> 86074.6 | F18: =Лист1!J56 -> 44615.9 | G18: =Лист1!K56 -> 9368.7 | H18: =Лист1!L56 -> 35247.2 | I18: =F18/C18 -> 0.42 | J18: =F18/1000000 -> 0.04
A19: 2.4 | B19: Региональный проект "Создание единого цифрового контура в здравоохранении на основе единой государственной информационной системы здравоохранения (ЕГИСЗ)", всего | C19: =Лист1!F60 -> 138662 | D19: =Лист1!G60 -> 26290 | E19: =Лист1!H60 -> 112372 | F19: =Лист1!J60 -> 64422 | G19: =Лист1!K60 -> 14848.2 | H19: =Лист1!L60 -> 49573.8 | I19: =F19/C19 -> 0.465 | J19: =F19/1000000 -> 0.06
A20: 2.5 | B20: Региональный проект "Борьба с онкологическими заболеваниями", всего | C20: =Лист1!F64 -> 608978.8 | D20: =Лист1!G64 -> 79709.2 | E20: =Лист1!H64 -> 529269.6 | F20: =Лист1!J64 -> 287467 | G20: =Лист1!K64 -> 11535.6 | H20: =Лист1!L64 -> 275931.4 | I20: =F20/C20 -> 0.472 | J20: =F20/1000000 -> 0.29
A21: 3 | B21: Национальный проект "Образование" | C21: =Лист1!F70 -> 1519134 | D21: =Лист1!G70 -> 817370 | E21: =Лист1!H70 -> 662910.2 | F21: =Лист1!J70 -> 1336072.7 | G21: =Лист1!K70 -> 779718.4 | H21: =Лист1!L70 -> 519710.2 | I21: =F21/C21 -> 0.879
A22: 3.1 | B22: Региональный проект "Современная школа", всего | C22: =Лист1!F71 -> 1312099.9 | D22: =Лист1!G71 -> 705896 | E22: =Лист1!H71 -> 567363.3 | F22: =Лист1!J71 -> 1179276.3 | G22: =Лист1!K71 -> 693577.3 | H22: =Лист1!L71 -> 449068.1 | I22: =F22/C22 -> 0.899 | J22: =F22/1000000 -> 1.18
A23: 3.2 | B23: Региональный проект "Цифровая образовательная среда", всего | C23: =Лист1!F79 -> 37934.6 | D23: =Лист1!G79 -> 7443 | E23: =Лист1!H79 -> 30491.6 | F23: =Лист1!J79 -> 12719.7 | G23: =Лист1!K79 -> 6137.7 | H23: =Лист1!L79 -> 6582 | I23: =F23/C23 -> 0.335 | J23: =F23/1000000 -> 0.01
A24: 3.3 | B24: Региональный проект "Успех каждого ребенка", всего | C24: =Лист1!F85 -> 94449.6 | D24: =Лист1!G85 -> 83475.7 | E24: =Лист1!H85 -> 10960.7 | F24: =Лист1!J85 -> 73152.3 | G24: =Лист1!K85 -> 62178.4 | H24: =Лист1!L85 -> 10960.7 | I24: =F24/C24 -> 0.775 | J24: =F24/1000000 -> 0.07
A25: 3.4 | B25: Региональный проект "Молодые профессионалы (Повышение конкурентоспособности профессионального образования)", всего | C25: =Лист1!F92 -> 73344.7 | D25: =Лист1!G92 -> 19250.1 | E25: =Лист1!H92 -> 54094.6 | F25: =Лист1!J92 -> 70106.7 | G25: =Лист1!K92 -> 17007.3 | H25: =Лист1!L92 -> 53099.4 | I25: =F25/C25 -> 0.956 | J25: =F25/1000000 -> 0.07
A26: 3.5 | B26: Региональный проект "Учитель будущего", всего | C26: =Лист1!F103 -> 1066 | D26: =Лист1!G103 -> 1066 | E26: =Лист1!H103 -> 0 | F26: =Лист1!J103 -> 817.7 | G26: =Лист1!K103 -> 817.7 | H26: =Лист1!L103 -> 0 | I26: =F26/C26 -> 0.767 | J26: =F26/1000000 -> 0
A27: 3.6 | B27: Региональный проект "Поддержка семей, имеющих детей", всего | C27: =Лист1!F105 -> 239.2 | D27: =Лист1!G105 -> 239.2 | E27: =Лист1!H105 -> 0 | F27: =Лист1!J105 -> 0 | G27: =Лист1!K105 -> 0 | H27: =Лист1!L105 -> 0 | I27: =F27/C27 -> 0 | J27: =F27/1000000 -> 0
A28: 4 | B28: Национальный проект "Цифровая экономика" | C28: =Лист1!F107 -> 109276.2 | D28: =Лист1!G107 -> 109276.1 | E28: =Лист1!H107 -> 0 | F28: =Лист1!J107 -> 88406.9 | G28: =Лист1!K107 -> 88406.9 | H28: =Лист1!L107 -> 0 | I28: =F28/C28 -> 0.809
A29: 4.1 | B29: Региональный проект "Кадры для цифровой экономики", всего | C29: =Лист1!F108 -> 5428.6 | D29: =Лист1!G108 -> 5428.6 | E29: =Лист1!H108 -> 0 | F29: =Лист1!J108 -> 5000 | G29: =Лист1!K108 -> 5000 | H29: =Лист1!L108 -> 0 | I29: =F29/C29 -> 0.921 | J29: =F29/1000000 -> 0.01
A30: 4.2 | B30: Региональный проект "Цифровые технологии" | C30: =Лист1!F112 -> 60000 | D30: =Лист1!G112 -> 60000 | E30: =Лист1!H112 -> 0 | F30: =Лист1!J112 -> 59999 | G30: =Лист1!K112 -> 59999 | H30: =Лист1!L112 -> 0 | I30: =F30/C30 -> 1 | J30: =F30/1000000 -> 0.06
A31: 4.3 | B31: Региональный проект "Информационная безопасность" | C31: =Лист1!F115 -> 1300 | D31: =Лист1!G115 -> 1300 | E31: =Лист1!H115 -> 0 | F31: =Лист1!J115 -> 1282.5 | G31: =Лист1!K115 -> 1282.5 | H31: =Лист1!L115 -> 0 | I31: =F31/C31 -> 0.987 | J31: =F31/1000000 -> 0
A32: 4.4 | B32: Региональный проект "Цифровое государственное управление" | C32: =Лист1!F118 -> 24543.7 | D32: =Лист1!G118 -> 24543.6 | E32: =Лист1!H118 -> 0 | F32: =Лист1!J118 -> 11653.6 | G32: =Лист1!K118 -> 11653.6 | H32: =Лист1!L118 -> 0 | I32: =F32/C32 -> 0.475 | J32: =F32/1000000 -> 0.01
A33: 4.5 | B33: Региональный проект "Информационная инфраструктура" | C33: =Лист1!F128 -> 18003.9 | D33: =Лист1!G128 -> 18003.9 | E33: =Лист1!H128 -> 0 | F33: =Лист1!J128 -> 10471.8 | G33: =Лист1!K128 -> 10471.8 | H33: =Лист1!L128 -> 0 | I33: =F33/C33 -> 0.582 | J33: =F33/1000000 -> 0.01
A34: 5 | B34: Национальный проект "Жилье и городская среда" | C34: =Лист1!F131 -> 1236186.3 | D34: =Лист1!G131 -> 28467.7 | E34: =Лист1!H131 -> 960457.2 | F34: =Лист1!J131 -> 511139.3 | G34: =Лист1!K131 -> 12742.2 | H34: =Лист1!L131 -> 411995.6 | I34: =F34/C34 -> 0.413
A35: 5.1 | B35: Региональный проект "Формирование комфортной городской среды", всего | C35: =Лист1!F132 -> 468472.7 | D35: =Лист1!G132 -> 12764 | E35: =Лист1!H132 -> 452704 | F35: =Лист1!J132 -> 283518.8 | G35: =Лист1!K132 -> 8439.9 | H35: =Лист1!L132 -> 272890.4 | I35: =F35/C35 -> 0.605 | J35: =F35/1000000 -> 0.28
A36: 5.2 | B36: Региональный проект "Обеспечение устойчивого сокращения непригодного для проживания жилищного фонда" | C36: =Лист1!F136 -> 767713.6 | D36: =Лист1!G136 -> 15703.7 | E36: =Лист1!H136 -> 507753.2 | F36: =Лист1!J136 -> 227620.5 | G36: =Лист1!K136 -> 4302.3 | H36: =Лист1!L136 -> 139105.2 | I36: =F36/C36 -> 0.296 | J36: =F36/1000000 -> 0.23
A37: 6 | B37: Национальный проект "Экология" | C37: =Лист1!F143 -> 179095.6 | D37: =Лист1!G143 -> 38152 | E37: =Лист1!H143 -> 125409 | F37: =Лист1!J143 -> 83888.5 | G37: =Лист1!K143 -> 5807.4 | H37: =Лист1!L143 -> 73258.3 | I37: =F37/C37 -> 0.468
A38: 6.1 | B38: Региональный проект "Сохранение лесов", всего | C38: =Лист1!F144 -> 97207.3 | D38: =Лист1!G144 -> 137 | E38: =Лист1!H144 -> 97070.3 | F38: =Лист1!J144 -> 64597.5 | G38: =Лист1!K144 -> 137 | H38: =Лист1!L144 -> 64460.5 | I38: =F38/C38 -> 0.665 | J38: =F38/1000000 -> 0.06
A39: 6.2 | B39: Региональный проект "Чистая вода", всего | C39: =Лист1!F149 -> 62138.3 | D39: =Лист1!G149 -> 18265 | E39: =Лист1!H149 -> 28338.7 | F39: =Лист1!J149 -> 19291 | G39: =Лист1!K149 -> 5670.4 | H39: =Лист1!L149 -> 8797.8 | I39: =F39/C39 -> 0.31 | J39: =F39/1000000 -> 0.02
A40: 6.3 | B40: Региональный проект «Комплексная система обращения с твердыми коммунальными отходами», всего | C40: =Лист1!F152 -> 10000 | D40: =Лист1!G152 -> 10000 | E40: =Лист1!H152 -> 0 | F40: =Лист1!J152 -> 0 | G40: =Лист1!K152 -> 0 | H40: =Лист1!L152 -> 0 | I40: =F40/C40 -> 0 | J40: =F40/1000000 -> 0
A41: 6.4 | B41: Региональный проект «Сохранение уникальных водных объектов» | C41: =Лист1!F155 -> 9750 | D41: =Лист1!G155 -> 9750 | E41: =Лист1!H155 -> 0 | F41: =Лист1!J155 -> 0 | G41: =Лист1!K155 -> 0 | H41: =Лист1!L155 -> 0 | I41: =F41/C41 -> 0 | J41: =F41/1000000 -> 0
A42: 7 | B42: Национальный проект "Безопасные и качественные автомобильные дороги" | C42: =Лист1!F158 -> 2613147.2 | D42: =Лист1!G158 -> 523000 | E42: =Лист1!H158 -> 1821268.7 | F42: =Лист1!J158 -> 2557080.8 | G42: =Лист1!K158 -> 519727.1 | H42: =Лист1!L158 -> 1768568.7 | I42: =F42/C42 -> 0.979
A43: 7.1 | B43: Региональный проект "Дорожная сеть", всего | C43: =Лист1!F159 -> 2613147.2 | D43: =Лист1!G159 -> 523000 | E43: =Лист1!H159 -> 1821268.7 | F43: =Лист1!J159 -> 2557080.8 | G43: =Лист1!K159 -> 519727.1 | H43: =Лист1!L159 -> 1768568.7 | I43: =F43/C43 -> 0.979 | J43: =F43/1000000 -> 2.56
A44: 8 | B44: Национальный проект "Культура" | C44: =Лист1!F162 -> 147866.7 | D44: =Лист1!G162 -> 45752 | E44: =Лист1!H162 -> 86496.9 | F44: =Лист1!J162 -> 147866.7 | G44: =Лист1!K162 -> 45752 | H44: =Лист1!L162 -> 86496.9 | I44: =F44/C44 -> 1
A45: 8.1 | B45: Региональный проект "Культурная среда", всего | C45: =Лист1!F163 -> 101344 | D45: =Лист1!G163 -> 7774.3 | E45: =Лист1!H163 -> 77956.9 | F45: =Лист1!J163 -> 101344 | G45: =Лист1!K163 -> 7774.3 | H45: =Лист1!L163 -> 77956.9 | I45: =F45/C45 -> 1 | J45: =F45/1000000 -> 0.1
A46: 8.2 | B46: Региональный проект "Цифровая культура" | C46: =Лист1!F167 -> 8545 | D46: =Лист1!G167 -> 0 | E46: =Лист1!H167 -> 8540 | F46: =Лист1!J167 -> 8545 | G46: =Лист1!K167 -> 0 | H46: =Лист1!L167 -> 8540 | I46: =F46/C46 -> 1 | J46: =F46/1000000 -> 0.01
A47: 8.3 | B47: Региональный проект "Творческие люди" | C47: =Лист1!F170 -> 37977.7 | D47: =Лист1!G170 -> 37977.7 | E47: =Лист1!H170 -> 0 | F47: =Лист1!J170 -> 37977.7 | G47: =Лист1!K170 -> 37977.7 | H47: =Лист1!L170 -> 0 | I47: =F47/C47 -> 1 | J47: =F47/1000000 -> 0.04
A48: 9 | B48: Национальный проект "Малое и среднее предпринимательство и поддержка индивидуальной предпринимательской инициативы" | C48: =Лист1!F174 -> 213819.9 | D48: =Лист1!G174 -> 7645.5 | E48: =Лист1!H174 -> 205631.8 | F48: =Лист1!J174 -> 202003.7 | G48: =Лист1!K174 -> 6738.7 | H48: =Лист1!L174 -> 195265 | I48: =F48/C48 -> 0.945
A49: 9.1 | B49: Региональный проект "Расширение доступа субъектов малого и среднего предпринимательства к финансовым ресурсам, в том числе к льготному финансированию", всего | C49: =Лист1!F175 -> 16405.1 | D49: =Лист1!G175 -> 492.2 | E49: =Лист1!H175 -> 15912.9 | F49: =Лист1!J175 -> 16405.1 | G49: =Лист1!K175 -> 492.2 | H49: =Лист1!L175 -> 15912.9 | I49: =F49/C49 -> 1 | J49: =F49/1000000 -> 0.02
A50: 9.2 | B50: Региональный проект "Акселерация субъектов малого и среднего предпринимательства", всего | C50: =Лист1!F179 -> 160995.9 | D50: =Лист1!G179 -> 4813.6 | E50: =Лист1!H179 -> 155639.7 | F50: =Лист1!J179 -> 150144 | G50: =Лист1!K179 -> 4504.3 | H50: =Лист1!L179 -> 145639.7 | I50: =F50/C50 -> 0.933 | J50: =F50/1000000 -> 0.15
A51: 9.3 | B51: Региональный проект "Популяризация предпринимательства", всего | C51: =Лист1!F185 -> 9090.4 | D51: =Лист1!G185 -> 272.7 | E51: =Лист1!H185 -> 8817.7 | F51: =Лист1!J185 -> 9090.4 | G51: =Лист1!K185 -> 272.7 | H51: =Лист1!L185 -> 8817.7 | I51: =F51/C51 -> 1 | J51: =F51/1000000 -> 0.01
A52: 9.4 | B52: Региональный проект "Создание системы поддержки фермеров и развитие сельской кооперации" | C52: =Лист1!F188 -> 27328.5 | D52: =Лист1!G188 -> 2067 | E52: =Лист1!H188 -> 25261.5 | F52: =Лист1!J188 -> 26364.2 | G52: =Лист1!K188 -> 1469.5 | H52: =Лист1!L188 -> 24894.7 | I52: =F52/C52 -> 0.965 | J52: =F52/1000000 -> 0.03
A53: 10 | B53: Национальный проект "Производительность труда и поддержка занятости" | C53: =Лист1!F194 -> 84989.8 | D53: =Лист1!G194 -> 11735.7 | E53: =Лист1!H194 -> 73254.1 | F53: =Лист1!J194 -> 20974 | G53: =Лист1!K194 -> 10028.2 | H53: =Лист1!L194 -> 10945.8 | I53: =F53/C53 -> 0.247
A54: 10.1 | B54: Региональный проект "Адресная поддержка повышения производительности труда на предприятиях", всего | C54: =Лист1!F195 -> 38275.8 | D54: =Лист1!G195 -> 9400 | E54: =Лист1!H195 -> 28875.8 | F54: =Лист1!J195 -> 13900 | G54: =Лист1!K195 -> 9400 | H54: =Лист1!L195 -> 4500 | I54: =F54/C54 -> 0.363 | J54: =F54/1000000 -> 0.01
A55: 10.2 | B55: Региональный проект "Поддержка занятости и повышение эффективности рынка труда для обеспечения роста производительности труда" | C55: =Лист1!F201 -> 46714 | D55: =Лист1!G201 -> 2335.7 | E55: =Лист1!H201 -> 44378.3 | F55: =Лист1!J201 -> 7074 | G55: =Лист1!K201 -> 628.2 | H55: =Лист1!L201 -> 6445.8 | I55: =F55/C55 -> 0.151 | J55: =F55/1000000 -> 0.01

Sheet Лист5
B2: ВСЕГО: | D2: =D3+D64+D37+D101+D125+D137+D152+D156+D168+D188 -> 3.422 | E2: =E3+E64+E37+E101+E125+E137+E152+E156+E168+E188 -> 6.255 | F2: =F3+F64+F37+F101+F125+F137+F152+F156+F168+F188 -> 0.631 | G2: 100
A3: 1 | B3: Национальный проект "Демография" | C3: =SUM(D3+E3+F3) -> 2.988 | D3: 1.574 | E3: 1.37 | F3: 0.044 | G3: 29
A4: 1.1 | B4: Региональный проект "Старшее поколение", всего | C4: =SUM(D4+E4+F4) -> 348929.6 | D4: 15230.8 | E4: 333698.8 | F4: 0
B5: из них | C5: =SUM(D5+E5+F5) -> 0
A6: 024 | B6: Организация профессионального обучения и дополнительного профессионального образования лиц предпенсионного возраста | C6: =SUM(D6+E6+F6) -> 18193.5 | D6: 909.7 | E6: 17283.8
A7: 024 | B7: Возмещение затрат работодателям на профессиональное обучение и дополнительное профессиональное образование работников из числа лиц предпенсионного возраста | C7: =SUM(D7+E7+F7) -> 2346.7 | D7: 117.4 | E7: 2229.3
B8: Субсидия автономной некоммерческой организации дополнительного профессионального образования "Энергетик" (АНО ДПО "Энергетик") | C8: =SUM(D8+E8+F8) -> 8083 | D8: 404.1 | E8: 7678.9
A9: 024 | B9: Проведение дополнительных скринингов лицам старше 65 лет, проживающим в сельской местности, на выявление отдельных социально значимых неинфекционных заболеваний, оказывающих вклад в структуру смертности населения, с возможностью доставки данных лиц в медицинские организации | C9: =SUM(D9+E9+F9) -> 0
B10: Организация деятельности мобильных бригад по доставке лиц старше 65 лет, проживающих в сельской местности, в медицинские организации | C10: =SUM(D10+E10+F10) -> 3539.6 | D10: 3539.6
A11: 024 | B11: Проведение вакцинации против пневмококковой инфекции граждан старше трудоспособного возраста из групп риска, проживающих в организациях социального обслуживания | C11: =SUM(D11+E11+F11) -> 1634.4 | E11: 1634.4
A12: 022 | B12: Финансовое обеспечение программ, направленных на обеспечение безопасных и комфортных условий предоставления социальных услуг в сфере социального обслуживания | C12: =SUM(D12+E12+F12) -> 292352.1 | D12: 9334.6 | E12: 283017.5
A13: 024 | B13: Приобретение автотранспорта | C13: =SUM(D13+E13+F13) -> 22780.3 | D13: 925.4 | E13: 21854.9
B14: Бюджетные ассигнования на объекты капитального строительства государственной собственности в сфере социального обслуживания населения | C14: =SUM(D14+E14+F14) -> 0 | D14: 0
A15: 1.2 | B15: Региональный проект "Спорт - норма жизни", всего | C15: =SUM(D15+E15+F15) -> 268888 | D15: 205926.2 | E15: 19758.1 | F15: 43203.7
B16: из них | C16: =SUM(D16+E16+F16) -> 0
A17: 022 | B17: Оснащение объектов спортивной инфраструктуры спортивно-технологическим оборудованием | C17: =SUM(D17+E17+F17) -> 20999.4 | D17: 611.1 | E17: 19758.1 | F17: 630.2
B18: Строительство универсальных спортивных площадок в муниципальных образованиях Томской области | C18: =SUM(D18+E18+F18) -> 33614.4 | D18: 25122.7 | F18: 8491.7
B19: Капитальный ремонт муниципальных спортивных сооружений | C19: =SUM(D19+E19+F19) -> 98459.4 | D19: 79000 | F19: 19459.4
B20: Приобретение спортивного оборудования и инвентаря для приведения организаций спортивной подготовки в нормативное состояние | C20: =SUM(D20+E20+F20) -> 0
B21: Создание и модернизация объектов спортивной инфраструктуры муниципальной собственности для занятий физической культурой и спортом | C21: =SUM(D21+E21+F21) -> 0
B22: Приобретение оборудования для малобюджетных спортивных площадок по месту жительства и учебы в муниципальных образованиях Томской области, за исключением муниципального образования "Город Томск", муниципального образования "Городской округ закрытое административно-территориальное образование Северск Томской области" | C22: =SUM(D22+E22+F22) -> 10044.7 | D22: 9000 | F22: 1044.7
B23: Приобретение спортивного инвентаря и оборудования для спортивных школ | C23: =SUM(D23+E23+F23) -> 31479.3 | D23: 30000 | F23: 1479.3
B24: Обеспечение условий для развития физической культуры и массового спорта | C24: =SUM(D24+E24+F24) -> 74290.8 | D24: 62192.4 | F24: 12098.4
A25: 1.3 | B25: Региональный проект "Содействие занятости женщин - создание условий дошкольного образования для детей в возрасте до трех лет", всего | C25: =SUM(D25+E25+F25) -> 1220534.1 | D25: 572787.3 | E25: 646684.7 | F25: 1062.1
B26: из них | C26: =SUM(D26+E26+F26) -> 0
A27: 024 | B27: Создание дополнительных мест для детей в возрасте от 2 месяцев до 3 лет в образовательных организациях, осуществляющих образовательную деятельность по образовательным программам дошкольного образования | C27: =SUM(D27+E27+F27) -> 405131.3 | D27: 239180.2 | E27: 165537.6 | F27: 413.5
A28: 022 | B28: Создание дополнительных мест для детей в возрасте от 1,5 до 3 лет в образовательных организациях, осуществляющих образовательную деятельность по образовательным программам дошкольного образования | C28: =SUM(D28+E28+F28) -> 807012.7 | D28: 325217 | E28: 481147.1 | F28: 648.6
B29: Оснащение зданий оборудованием и инвентарем для размещения дошкольных образовательных организаций | C29: =SUM(D29+E29+F29) -> 8390.1 | D29: 8390.1
A30: 1.4 | B30: Региональный проект "Финансовая поддержка семей при рождении детей", всего | C30: =SUM(D30+E30+F30) -> 1145620.7 | D30: 776166.8 | E30: 369453.9 | F30: 0
B31: из них | C31: =SUM(D31+E31+F31) -> 0
A32: 023 | B32: Осуществление ежемесячной выплаты в связи с рождением (усыновлением) первого ребенка | C32: =SUM(D32+E32+F32) -> 369453.9 | E32: 369453.9
B33: Осуществление ежемесячной денежной выплаты, назначаемой в случае рождения третьего ребенка или последующих детей до достижения ребенком возраста трех лет | C33: =SUM(D33+E33+F33) -> 776166.8 | D33: 776166.8
A34: 1.5 | B34: Региональный проект "Укрепление общественного здоровья" | C34: =SUM(D34+E34+F34) -> 3700 | D34: 3700 | E34: 0 | F34: 0
B35: из них | C35: =SUM(D35+E35+F35) -> 0
B36: Создание и демонстрация рекламно - информационных материалов в СМИ, сети "Интернет", в медицинских организациях и общественных местах, разработка печатной продукции по формированию здорового образа жизни | C36: =SUM(D36+E36+F36) -> 3700 | D36: 3700
A37: 2 | B37: Национальный проект "Здравоохранение" | C37: =SUM(D37+E37+F37) -> 1.216 | D37: 0.267 | E37: 0.949 | F37: 0 | G37: 11.8
A38: 2.1 | B38: Региональный проект "Развитие системы оказания первичной медико-санитарной помощи", всего | C38: =SUM(D38+E38+F38) -> 282225.8 | D38: 135045 | E38: 147180.8 | F38: 0
B39: из них | C39: =SUM(D39+E39+F39) -> 0
A40: 024 | B40: Оснащение медицинских организаций передвижными медицинскими комплексами для оказания медицинской помощи жителям населенных пунктов с численностью населения до 100 человек | C40: =SUM(D40+E40+F40) -> 0
A41: 024 | B41: Создание и замена фельдшерских, фельдшерско-акушерских пунктов и врачебных амбулаторий для населенных пунктов с численностью населения от 100 до 2000 человек | C41: =SUM(D41+E41+F41) -> 21521 | E41: 21521
A42: 022 | B42: Обеспечение закупки авиационных работ органами государственной власти субъектов Российской Федерации в целях оказания медицинской помощи | C42: =SUM(D42+E42+F42) -> 150000 | D42: 24340.2 | E42: 125659.8
B43: Организация проведения профилактических медицинских осмотров | C43: =SUM(D43+E43+F43) -> 6000 | D43: 6000
B44: Оказание медицинской помощи с применением санитарной авиации | C44: =SUM(D44+E44+F44) -> 102804.8 | D44: 102804.8
B45: Функционирование регионального проектного офиса по созданию и внедрению "Новой модели медицинской организации, оказывающей первичную медико-санитарную помощь" | C45: =SUM(D45+E45+F45) -> 1900 | D45: 1900
A46: 2.2 | B46: Региональный проект "Борьба с сердечно-сосудистыми заболеваниями", всего | C46: =SUM(D46+E46+F46) -> 80052.5 | D46: 5500 | E46: 74552.5 | F46: 0
B47: из них | C47: =SUM(D47+E47+F47) -> 0
A48: 024 | B48: Оснащение оборудованием региональных сосудистых центров и первичных сосудистых отделений | C48: =SUM(D48+E48+F48) -> 74552.5 | E48: 74552.5
B49: Профилактика развития сердечно-сосудистых заболеваний и сердечно-сосудистых осложнений у пациентов высокого риска | C49: =SUM(D49+E49+F49) -> 5500 | D49: 5500
A50: 2.3 | B50: Региональный проект "Развитие детского здравоохранения, включая создание современной инфраструктуры оказания медицинской помощи детям", всего | C50: =SUM(D50+E50+F50) -> 106204.4 | D50: 20129.8 | E50: 86074.6 | F50: 0
B51: из них | C51: =SUM(D51+E51+F51) -> 0
A52: 022 | B52: Развитие материально-технической базы детских поликлиник и детских поликлинических отделений медицинских организаций, оказывающих первичную медико-санитарную помощь | C52: =SUM(D52+E52+F52) -> 103704.4 | D52: 17629.8 | E52: 86074.6
B53: Развитие профилактического направления в педиатрии | C53: =SUM(D53+E53+F53) -> 2500 | D53: 2500
A54: 2.4 | B54: Региональный проект "Создание единого цифрового контура в здравоохранении на основе единой государственной информационной системы здравоохранения (ЕГИСЗ)", всего | C54: =SUM(D54+E54+F54) -> 138662 | D54: 26290 | E54: 112372 | F54: 0
B55: из них | C55: =SUM(D55+E55+F55) -> 0
A56: 022 | B56: Реализация региональных проектов "Создание единого цифрового контура в здравоохранении на основе единой государственной информационной системы здравоохранения (ЕГИСЗ)" | C56: =SUM(D56+E56+F56) -> 130162 | D56: 17790 | E56: 112372
B57: Обеспечение работоспособности государственных информационных систем в сфере здравоохранения, подключенных к ЕГИСЗ | C57: =SUM(D57+E57+F57) -> 8500 | D57: 8500
A58: 2.5 | B58: Региональный проект "Борьба с онкологическими заболеваниями", всего | C58: =SUM(D58+E58+F58) -> 608978.8 | D58: 79709.2 | E58: 529269.6 | F58: 0
B59: из них | C59: =SUM(D59+E59+F59) -> 0
A60: 024 | B60: Создание и оснащение референс-центров для проведения иммуногистохимических, патоморфологических исследований и лучевых методов исследований, переоснащение сети региональных медицинских организаций, оказывающих помощь больным онкологическими заболеваниями в субъектах Российской Федерации | C60: =SUM(D60+E60+F60) -> 223067.6 | E60: 223067.6
A61: 022 | B61: Софинансирование капитальных вложений в объекты государственной собственности субъектов Российской Федерации | C61: =SUM(D61+E61+F61) -> 65986.2 | D61: 11535.6 | E61: 54450.6
A62: 022 | B62: Новое строительство и реконструкция(Хирургический корпус на 120 коек с поликлиникой на 200 п/смену ОГАУЗ "Томский областной онкологический диспансер" ) | C62: =SUM(D62+E62+F62) -> 319925 | D62: 68173.6 | E62: 251751.4
B63: Бюджетные ассигнования на объекты капитального строительства государственной собственности в сфере здравоохранения | C63: =SUM(D63+E63+F63) -> 0 | D63: 0
A64: 3 | B64: Национальный проект "Образование" | C64: =SUM(D64+E64+F64) -> 1.519 | D64: 0.817 | E64: 0.663 | F64: 0.039 | G64: 14.7
A65: 3.1 | B65: Региональный проект "Современная школа", всего | C65: =SUM(D65+E65+F65) -> 1312099.9 | D65: 705896 | E65: 567363.3 | F65: 38840.6
B66: из них | C66: =SUM(D66+E66+F66) -> 0
A67: 022 | B67: Обновление материально-технической базы для формирования у обучающихся современных технологических и гуманитарных навыков | C67: =SUM(D67+E67+F67) -> 46409.3 | D67: 1392.3 | E67: 45017
A68: 022 | B68: Создание новых мест в общеобразовательных организациях, расположенных в сельской местности и поселках городского типа (Корниловская СОШ) | C68: =SUM(D68+E68+F68) -> 99539.4 | D68: 2978.4 | E68: 96302.9 | F68: 258.1
B69: Создание новых мест в общеобразовательных организациях, расположенных в сельской местности и поселках городского типа (операционные расходы) | C69: =SUM(D69+E69+F69) -> 8660 | D69: 8660
A70: 022 | B70: Создание новых мест в общеобразовательных организациях (Приобретение здания с оборудованием для размещения общеобразовательной организации на 1100 мест по ул. П.Федоровского в г. Томске) | C70: =SUM(D70+E70+F70) -> 1082491.2 | D70: 655365.3 | E70: 426043.4 | F70: 1082.5
B71: Создание новых мест в общеобразовательных организациях | C71: =SUM(D71+E71+F71) -> 0
B72: Оснащение зданий средствами обучения и воспитания для размещения общеобразовательных организаций | C72: =SUM(D72+E72+F72) -> 75000 | D72: 37500 | F72: 37500
A73: 3.2 | B73: Региональный проект "Цифровая образовательная среда", всего | C73: =SUM(D73+E73+F73) -> 37934.6 | D73: 7443 | E73: 30491.6 | F73: 0
B74: из них | C74: =SUM(D74+E74+F74) -> 0
A75: 022 | B75: Внедрение целевой модели цифровой образовательной среды в общеобразовательных организациях и профессиональных образовательных организациях | C75: =SUM(D75+E75+F75) -> 27001.7 | D75: 810.1 | E75: 26191.6
A76: 022 | B76: Внедрение целевой модели цифровой образовательной среды в общеобразовательных организациях и профессиональных образовательных организациях | C76: =SUM(D76+E76+F76) -> 4433 | D76: 133 | E76: 4300
B77: Внедрение и функционирование целевой модели цифровой образовательной среды в общеобразовательных организациях | C77: =SUM(D77+E77+F77) -> 6249.9 | D77: 6249.9
B78: Функционирование целевой модели цифровой образовательной среды в профессиональных образовательных организациях | C78: =SUM(D78+E78+F78) -> 250 | D78: 250
A79: 3.3 | B79: Региональный проект "Успех каждого ребенка", всего | C79: =SUM(D79+E79+F79) -> 94449.6 | D79: 83475.7 | E79: 10960.7 | F79: 13.2
B80: из них | C80: =SUM(D80+E80+F80) -> 0
A81: 022 | B81: Создание в общеобразовательных организациях, расположенных в сельской местности, условий для занятий физической культурой и спортом | C81: =SUM(D81+E81+F81) -> 13244.6 | D81: 2270.7 | E81: 10960.7 | F81: 13.2
B82: Создание центров выявления и поддержки одаренных детей | C82: =SUM(D82+E82+F82) -> 30000 | D82: 30000
B83: Формирование современных управленческих и организационно-экономических механизмов в системе дополнительного образования детей в субъектах Российской Федерации | C83: =SUM(D83+E83+F83) -> 35464.5 | D83: 35464.5
B84: Внедрение целевой модели развития региональных систем дополнительного образования детей | C84: =SUM(D84+E84+F84) -> 10720 | D84: 10720
B85: Реализация пилотных проектов по обновлению содержания и технологий дополнительного образования по приоритетным направлениям | C85: =SUM(D85+E85+F85) -> 5020.5 | D85: 5020.5
A86: 3.4 | B86: Региональный проект "Молодые профессионалы (Повышение конкурентоспособности профессионального образования)", всего | C86: =SUM(D86+E86+F86) -> 73344.7 | D86: 19250.1 | E86: 54094.6 | F86: 0
B87: из них | C87: =SUM(D87+E87+F87) -> 0
B88: Реализация региональных мероприятий, направленных на модернизацию среднего профессионального образования | C88: =SUM(D88+E88+F88) -> 0 | D88: 0 | E88: 0
A89: 022 | B89: Разработка и распространение в системе среднего профессионального образования новых образовательных технологий и формы опережающей профессиональной подготовки | C89: =SUM(D89+E89+F89) -> 55767.6 | D89: 1673 | E89: 54094.6
B90: Государственная поддержка профессиональных образовательных организаций в целях обеспечения соответствия их материально-технической базы современным требованиям | C90: =SUM(D90+E90+F90) -> 0 | D90: 0
B91: Функционирование центра опережающей профессиональной подготовки | C91: =SUM(D91+E91+F91) -> 0
B92: Государственная поддержка профессиональных образовательных организаций в целях обеспечения соответствия их материально-технической базы современным требованиям | C92: =SUM(D92+E92+F92) -> 8907.1 | D92: 8907.1
B93: Обеспечение проведения аттестации обучающихся по программам среднего профессионального образования с использованием механизма демонстрационного экзамена | C93: =SUM(D93+E93+F93) -> 3840 | D93: 3840
B94: Внедрение программ профессионального обучения по наиболее востребованным и перспективным профессиям на уровне, соответствующем стандартам Ворлдскиллс, с учетом продолжительности программ не более 6 месяцев | C94: =SUM(D94+E94+F94) -> 280 | D94: 280
B95: Повышение квалификации преподавателей (мастеров производственного обучения) по программам, основанным на опыте Союза Ворлдскиллс Россия | C95: =SUM(D95+E95+F95) -> 4550 | D95: 4550
B96: Вовлечение в различные формы наставничества обучающихся организаций, осуществляющих образовательную деятельность по образовательным программам среднего профессионального образования | C96: =SUM(D96+E96+F96) -> 0
A97: 3.5 | B97: Региональный проект "Учитель будущего", всего | C97: =SUM(D97+E97+F97) -> 1066 | D97: 1066 | E97: 0 | F97: 0
B98: Обеспечение непрерывного и планомерного повышения квалификации педагогических работников | C98: =SUM(D98+E98+F98) -> 1066 | D98: 1066
A99: 3.6 | B99: Региональный проект "Поддержка семей, имеющих детей", всего | C99: =SUM(D99+E99+F99) -> 239.2 | D99: 239.2 | E99: 0
B100: Государственная поддержка некоммерческих организаций в целях оказания психолого-педагогической, методической и консультативной помощи гражданам, имеющим детей | C100: =SUM(D100+E100+F100) -> 239.2 | D100: 239.2
A101: 4 | B101: Национальный проект "Цифровая экономика" | C101: =SUM(D101+E101+F101) -> 0.109 | D101: 0.109 | E101: 0 | F101: 0 | G101: 1.1
...
