Workbook

Sheet Лист1
B1: Информация о плановых ассигнованиях и кассовом исполнении расходов консолидированного бюджета Томской области на реализацию региональных проектов Томской области по состоянию на 01.12.2019
A4: № п/п | B4: Наименование | C4: Код ГРБС | D4: Наименование ГРБС | E4: Код целевой статьи областного бюджета | F4: 2019 год | N4: 2020 год | R4: 2021 год | V4: % исполнения
F5: Плановые ассигнования*, в том числе | J5: Кассовое исполнение, в том числе | N5: Плановые ассигнования*, в том числе в том числе | R5: Плановые ассигнования*, в том числе
F6: ИТОГО | G6: за счет средств областного бюджета | H6: за счет средств федерального бюджета | I6: за счет средств местного бюджета** | J6: ИТОГО | K6: за счет средств областного бюджета | L6: за счет средств федерального бюджета | M6: за счет средств местного бюджета** | N6: ИТОГО | O6: за счет средств областного бюджета | P6: за счет средств федерального бюджета | Q6: за счет средств местного бюджета** | R6: ИТОГО | S6: за счет средств областного бюджета | T6: за счет средств федерального бюджета | U6: за счет средств местного бюджета**
A7: 1 | B7: 2 | C7: 3 | D7: 4 | E7: 5 | F7: 6 | G7: 7 | H7: 8 | I7: 9 | J7: 10 | K7: 11 | L7: 12 | M7: 13 | N7: 14 | O7: 15 | P7: 16 | Q7: 17 | R7: 18 | S7: 19 | T7: 20 | U7: 21 | V7: 22
B8: ВСЕГО: | F8: =F9+F43+F70+F107+F131+F143+F158+F162+F174+F194 -> 10307312 | G8: =G9+G43+G70+G107+G131+G143+G158+G162+G174+G194 -> 3421884.1 | H8: =H9+H43+H70+H107+H131+H143+H158+H162+H174+H194 -> 6254472.9 | I8: =I9+I43+I70+I107+I131+I143+I158+I162+I174+I194 -> 630954.5 | J8: =J9+J43+J70+J107+J131+J143+J158+J162+J174+J194 -> 7098118.3 | K8: =K9+K43+K70+K107+K131+K143+K158+K162+K174+K194 -> 2535255 | L8: =L9+L43+L70+L107+L131+L143+L158+L162+L174+L194 -> 4119102.1 | M8: =M9+M43+M70+M107+M131+M143+M158+M162+M174+M194 -> 443761.2 | ... U8: =U9+U43+U70+U107+U131+U143+U158+U162+U174+U194 -> 457053.6 | V8: =J8/F8 -> 0.689 | W8: =F8/$F$8 -> 1
A9: 1 | B9: Национальный проект "Демография" | C9: Х | D9: Х | E9: Х | F9: =F10+F21+F31+F36+F40 -> 2987672.4 | G9: =G10+G21+G31+G36+G40 -> 1573811.1 | H9: =H10+H21+H31+H36+H40 -> 1369595.5 | I9: =I10+I21+I31+I36+I40 -> 44265.8 | J9: =J10+J21+J31+J36+J40 -> 1469381.6 | K9: =K10+K21+K31+K36+K40 -> 891230.1 | L9: =L10+L21+L31+L36+L40 -> 546661.5 | M9: =M10+M21+M31+M36+M40 -> 31490 | ... U9: =U10+U21+U31+U36+U40 -> 5999.9 | V9: =J9/F9 -> 0.492 | W9: =F9/$F$8 -> 0.28986
A10: 1.1 | B10: Региональный проект "Старшее поколение", всего | C10: Х | D10: Х | E10: Х | F10: =SUM(G10:H10) -> 348929.6 | G10: =SUM(G12:G20) -> 15230.8 | H10: =SUM(H12:H20) -> 333698.8 | I10: =SUM(I12:I20) -> 0 | J10: =SUM(K10:L10) -> 170078.9 | K10: =SUM(K12:K20) -> 6752.4 | L10: =SUM(L12:L20) -> 163326.5 | M10: =SUM(M12:M20) -> 0 | N10: =SUM(O10:P10) -> 260053.7 | O10: =SUM(O12:O20) -> 7939.8 | P10: =SUM(P12:P20) -> 252113.9 | Q10: =SUM(Q12:Q20) -> 0 | R10: =SUM(S10:U10) -> 89065.4 | S10: =SUM(S12:S20) -> 3030.3 | T10: =SUM(T12:T20) -> 86035.1 | U10: =SUM(U12:U20) -> 0 | V10: =J10/F10 -> 0.487 | W10: =F10/$F$8 -> 0.03385
B11: из них | W11: =F11/$F$8 -> 0
A12: 024 | B12: Организация профессионального обучения и дополнительного профессионального образования лиц предпенсионного возраста | C12: 839 | D12: Департамент труда и занятости населения Томской области | E12: 051P352940 | F12: =SUM(G12:H12)+I12 -> 18193.5 | G12: =1257.1-165.9-181.53 -> 909.7 | H12: =23884.6-3151.8-3448.98 -> 17283.8 | J12: =SUM(K12:L12) -> 9352.5 | K12: =240.8+15.39+68.35+53.45+83.35+6.36 -> 467.7 | L12: =4574.1+292.33+1298.52+1015.44+1583.52+120.89 -> 8884.8 | N12: =SUM(O12:P12) -> 23985.9 | O12: 1199.3 | P12: 22786.6 | R12: =SUM(S12:U12) -> 23985.9 | S12: 1199.3 | T12: 22786.6 | V12: =J12/F12 -> 0.514 | W12: =F12/$F$8 -> 0.00177
A13: 024 | B13: Возмещение затрат работодателям на профессиональное обучение и дополнительное профессиональное образование работников из числа лиц предпенсионного возраста | C13: 839 | D13: Департамент труда и занятости населения Томской области | E13: 051P352941 | F13: =SUM(G13:H13)+I13 -> 2346.7 | G13: =174.1-56.7 -> 117.4 | H13: =3307.4-1078.1 -> 2229.3 | J13: =SUM(K13:L13) -> 1644.2 | K13: =40.9+7.8+33.5 -> 82.2 | L13: =777.3+148.2+636.5 -> 1562 | N13: =SUM(O13:P13) -> 4637.3 | O13: =231.9 -> 231.9 | P13: =4405.4 -> 4405.4 | R13: =SUM(S13:U13) -> 4637.3 | S13: 231.9 | T13: 4405.4 | V13: =J13/F13 -> 0.701 | W13: =F13/$F$8 -> 0.00023
B14: Субсидия автономной некоммерческой организации дополнительного профессионального образования "Энергетик" (АНО ДПО "Энергетик") | C14: 839 | D14: Департамент труда и занятости населения Томской области | E14: 051P352942 | F14: =SUM(G14:H14)+I14 -> 8083 | G14: =222.6+181.53 -> 404.1 | H14: =4229.9+3448.98 -> 7678.9 | W14: =F14/$F$8 -> 0.00078
A15: 024 | B15: Проведение дополнительных скринингов лицам старше 65 лет, проживающим в сельской местности, на выявление отдельных социально значимых неинфекционных заболеваний, оказывающих вклад в структуру смертности населения, с возможностью доставки данных лиц в медицинские организации | C15: 811 | D15: Департамент здравоохранения Томской области | E15: 071P352950 | F15: =SUM(G15:H15)+I15 -> 0 | J15: =SUM(K15:L15) -> 0 | N15: =SUM(O15:P15) -> 27312.6 | P15: 27312.6 | R15: =SUM(S15:U15) -> 7245 | T15: 7245 | W15: =F15/$F$8 -> 0
B16: Организация деятельности мобильных бригад по доставке лиц старше 65 лет, проживающих в сельской местности, в медицинские организации | C16: 809 | D16: Департамент социальной защиты населения Томской области | E16: 112P352931 | F16: =SUM(G16:H16)+I16 -> 3539.6 | G16: 3539.6 | J16: =SUM(K16:L16) -> 1164.3 | K16: =929.59+125.23+76.81+32.71 -> 1164.3 | N16: =SUM(O16:P16) -> 0 | R16: =SUM(S16:U16) -> 0 | V16: =J16/F16 -> 0.329 | W16: =F16/$F$8 -> 0.00034
A17: 024 | B17: Проведение вакцинации против пневмококковой инфекции граждан старше трудоспособного возраста из групп риска, проживающих в организациях социального обслуживания | C17: 811 | D17: Департамент здравоохранения Томской области | E17: 071P354680 | F17: =SUM(G17:H17)+I17 -> 1634.4 | H17: 1634.4 | J17: =SUM(K17:L17) -> 1625.5 | L17: 1625.5 | N17: =SUM(O17:P17) -> 163.7 | P17: 163.7 | R17: =SUM(S17:U17) -> 163.5 | T17: 163.5 | V17: =J17/F17 -> 0.995 | W17: =F17/$F$8 -> 0.00016
A18: 022 | B18: Финансовое обеспечение программ, направленных на обеспечение безопасных и комфортных условий предоставления социальных услуг в сфере социального обслуживания | C18: 821 | D18: Департамент архитектуры и строительства Томской области | E18: 112P351210 | F18: =SUM(G18:H18)+I18 -> 292352.1 | G18: =8753.1+581.5 -> 9334.6 | H18: 283017.5 | J18: =SUM(K18:L18) -> 134882.1 | K18: =3721.4+0.9+501.64 -> 4223.9 | L18: =114409.4+29.21+16219.6 -> 130658.2 | N18: =SUM(O18:P18) -> 203954.2 | O18: =203954.2-197445.6 -> 6508.6 | P18: 197445.6 | R18: =SUM(S18:U18) -> 53033.7 | S18: =4047.7+32717+16269-51434.6 -> 1599.1 | T18: 51434.6 | V18: =J18/F18 -> 0.461 | W18: =F18/$F$8 -> 0.02836
A19: 024 | B19: Приобретение автотранспорта | C19: 809 | D19: Департамент социальной защиты населения Томской области | E19: 112P352930 | F19: =SUM(G19:H19)+I19 -> 22780.3 | G19: =675.9+138.4+111.12 -> 925.4 | H19: 21854.9 | J19: =SUM(K19:L19) -> 21410.3 | K19: =814.3 -> 814.3 | L19: 20596.02 | N19: =SUM(O19:P19) -> 0 | R19: =SUM(S19:U19) -> 0 | V19: =J19/F19 -> 0.94 | W19: =F19/$F$8 -> 0.00221
B20: Бюджетные ассигнования на объекты капитального строительства государственной собственности в сфере социального обслуживания населения | C20: 821 | D20: Департамент архитектуры и строительства Томской области | E20: 112P30И000 | F20: =SUM(G20:H20)+I20 -> 0 | G20: =581.5-581.5 -> 0 | J20: =SUM(K20:L20) -> 0 | N20: =SUM(O20:P20) -> 0 | O20: =402-402 -> 0 | R20: =SUM(S20:U20) -> 0 | S20: =8.3-8.3 -> 0 | W20: =F20/$F$8 -> 0
A21: 1.2 | B21: Региональный проект "Спорт - норма жизни", всего | C21: Х | D21: Х | E21: Х | F21: =SUM(G21:H21)+I21 -> 268888 | G21: =SUM(G23:G30) -> 205926.2 | H21: =SUM(H23:H30) -> 19758.1 | I21: =SUM(I23:I30) -> 43203.7 | J21: =SUM(K21:L21)+M21 -> 246463.2 | K21: =SUM(K23:K30) -> 196820.4 | L21: =SUM(L23:L30) -> 18152.8 | M21: =SUM(M23:M30) -> 31490 | N21: =SUM(O21:P21)+Q21 -> 155335.6 | O21: =SUM(O23:O30) -> 111731.6 | P21: =SUM(P23:P30) -> 35381.9 | Q21: =SUM(Q23:Q30) -> 8222.1 | R21: =SUM(S21:U21) -> 315551.8 | S21: =SUM(S23:S30) -> 82654.8 | T21: =SUM(T23:T30) -> 226897.1 | U21: =SUM(U23:U30) -> 5999.9 | V21: =J21/F21 -> 0.917 | W21: =F21/$F$8 -> 0.02609
B22: из них | W22: =F22/$F$8 -> 0
A23: 022 | B23: Оснащение объектов спортивной инфраструктуры спортивно-технологическим оборудованием | C23: 813 | D23: Департамент по молодежной политике, физической культуре и спорту Томской области | E23: 081P552280 | F23: =G23+H23+I23 -> 20999.4 | G23: 611.1 | H23: 19758.1 | I23: 630.2 | J23: =SUM(K23:L23)+M23 -> 18714.2 | L23: =5819.7+12333.1 -> 18152.8 | M23: 561.4 | N23: =SUM(O23:P23) -> 10703 | O23: 321.1 | P23: 10381.9 | R23: =SUM(S23:U23) -> 6889.4 | S23: 206.7 | T23: 6682.7 | V23: =J23/F23 -> 0.891 | W23: =F23/$F$8 -> 0.00204
B24: Строительство универсальных спортивных площадок в муниципальных образованиях Томской области | C24: 821 | D24: Департамент архитектуры и строительства Томской области | E24: 083P54И380 | F24: =G24+H24+I24 -> 33614.4 | G24: 25122.7 | I24: 8491.7 | J24: =SUM(K24:L24)+M24 -> 25038.9 | K24: =8845.7+14501.86 -> 23347.6 | M24: 1691.3 | N24: =SUM(O24:P24) -> 0 | R24: =SUM(S24:U24) -> 0 | V24: =J24/F24 -> 0.745 | W24: =F24/$F$8 -> 0.00326
B25: Капитальный ремонт муниципальных спортивных сооружений | C25: 821 | D25: Департамент архитектуры и строительства Томской области | E25: 083P540370 | F25: =G25+H25+I25 -> 98459.4 | G25: 79000 | I25: 19459.4 | J25: =SUM(K25:L25)+M25 -> 93374.7 | K25: =57138.7+20000 -> 77138.7 | M25: 16236 | N25: =SUM(O25:P25)+Q25 -> 37222.2 | O25: 35000 | Q25: 2222.2 | R25: =SUM(S25:U25) -> 0 | V25: =J25/F25 -> 0.948 | W25: =F25/$F$8 -> 0.00955
B26: Приобретение спортивного оборудования и инвентаря для приведения организаций спортивной подготовки в нормативное состояние | C26: 813 | D26: Департамент по молодежной политике, физической культуре и спорту Томской области | E26: 082P552290 | F26: =G26+H26+I26 -> 0 | J26: =SUM(K26:L26) -> 0 | N26: =SUM(O26:P26) -> 25773.2 | O26: 773.2 | P26: 25000 | R26: =SUM(S26:U26) -> 44329.9 | S26: 1329.9 | T26: 43000 | W26: =F26/$F$8 -> 0
B27: Создание и модернизация объектов спортивной инфраструктуры муниципальной собственности для занятий физической культурой и спортом | C27: 821 | D27: Департамент архитектуры и строительства Томской области | E27: 083P551390 | F27: =G27+H27+I27 -> 0 | J27: =SUM(K27:L27) -> 0 | N27: =SUM(O27:P27) -> 0 | R27: =SUM(S27:U27) -> 182695.3 | S27: 5480.9 | T27: 177214.4 | W27: =F27/$F$8 -> 0
B28: Приобретение оборудования для малобюджетных спортивных площадок по месту жительства и учебы в муниципальных образованиях Томской области, за исключением муниципального образования "Город Томск", муниципального образования "Городской округ закрытое административно-территориальное образование Северск Томской области" | C28: 813 | D28: Департамент по молодежной политике, физической культуре и спорту Томской области | E28: 081P500001 | F28: =G28+H28+I28 -> 10044.7 | G28: 9000 | I28: 1044.7 | J28: =SUM(K28:L28)+M28 -> 10030 | K28: 9000 | M28: 1030 | N28: =SUM(O28:P28)+Q28 -> 9090 | O28: 9000 | Q28: 90 | R28: =SUM(S28:U28) -> 9090 | S28: 9000 | U28: 90 | V28: =J28/F28 -> 0.999 | W28: =F28/$F$8 -> 0.00097
B29: Приобретение спортивного инвентаря и оборудования для спортивных школ | C29: 813 | D29: Департамент по молодежной политике, физической культуре и спорту Томской области | E29: 082P500002 | F29: =G29+H29+I29 -> 31479.3 | G29: 30000 | I29: 1479.3 | J29: =SUM(K29:L29)+M29 -> 31298.8 | K29: =28094.6+1905.4 -> 30000 | M29: 1298.8 | N29: =SUM(O29:P29) -> 10000 | O29: 10000 | R29: =SUM(S29:U29) -> 10000 | S29: 10000 | V29: =J29/F29 -> 0.994 | W29: =F29/$F$8 -> 0.00305
B30: Обеспечение условий для развития физической культуры и массового спорта | C30: 813 | D30: Департамент по молодежной политике, физической культуре и спорту Томской области | E30: 081P500003 | F30: =G30+H30+I30 -> 74290.8 | G30: 62192.4 | I30: 12098.4 | J30: =SUM(K30:L30)+M30 -> 68006.6 | K30: =53030.8+4303.3 -> 57334.1 | M30: 10672.5 | N30: =SUM(O30:P30)+Q30 -> 62547.2 | O30: 56637.3 | Q30: 5909.9 | R30: =SUM(S30:U30) -> 62547.2 | S30: 56637.3 | U30: 5909.9 | V30: =J30/F30 -> 0.915 | W30: =F30/$F$8 -> 0.00721
A31: 1.3 | B31: Региональный проект "Содействие занятости женщин - создание условий дошкольного образования для детей в возрасте до трех лет", всего | C31: Х | D31: Х | E31: Х | F31: =G31+H31+I31 -> 1220534.1 | G31: =SUM(G33:G35) -> 572787.3 | H31: =SUM(H33:H35) -> 646684.7 | I31: =SUM(I33:I35) -> 1062.1 | J31: =SUM(K31:L31) -> 0 | K31: =SUM(K33:K35) -> 0 | L31: =SUM(L33:L35) -> 0 | M31: =SUM(M33:M35) -> 0 | N31: =SUM(O31:P31) -> 613603.1 | O31: =SUM(O33:O35) -> 339568.5 | P31: =SUM(P33:P35) -> 274034.6 | Q31: =SUM(Q33:Q35) -> 0 | R31: =SUM(S31:T31) -> 1229501.3 | S31: =SUM(S33:S35) -> 356541 | T31: =SUM(T33:T35) -> 872960.3 | U31: =SUM(U33:U34) -> 0 | V31: =J31/F31 -> 0 | W31: =F31/$F$8 -> 0.11841
B32: из них | W32: =F32/$F$8 -> 0
A33: 024 | B33: Создание дополнительных мест для детей в возрасте от 2 месяцев до 3 лет в образовательных организациях, осуществляющих образовательную деятельность по образовательным программам дошкольного образования | C33: 821 | D33: Департамент архитектуры и строительства Томской области | E33: 092P251590 | F33: =G33+H33+I33 -> 405131.3 | G33: =247570.3-8390.1 -> 239180.2 | H33: 165537.6 | I33: 413.5 | J33: =SUM(K33:L33) -> 0 | N33: =SUM(O33:P33) -> 0 | R33: =SUM(S33:U33) -> 0 | V33: =J33/F33 -> 0 | W33: =F33/$F$8 -> 0.03931
A34: 022 | B34: Создание дополнительных мест для детей в возрасте от 1,5 до 3 лет в образовательных организациях, осуществляющих образовательную деятельность по образовательным программам дошкольного образования | C34: 821 | D34: Департамент архитектуры и строительства Томской области | E34: 092P252320 | F34: =G34+H34+I34 -> 807012.7 | G34: 325217 | H34: 481147.1 | I34: 648.6 | J34: =SUM(K34:L34) -> 0 | N34: =SUM(O34:P34) -> 613603.1 | O34: =98303.6+241264.9 -> 339568.5 | P34: 274034.6 | R34: =SUM(S34:U34) -> 1229501.3 | S34: 356541 | T34: 872960.3 | V34: =J34/F34 -> 0 | W34: =F34/$F$8 -> 0.0783
B35: Оснащение зданий оборудованием и инвентарем для размещения дошкольных образовательных организаций | C35: 815 | D35: Департамент общего образования Томской области | E35: 092P251591 | F35: =G35+H35+I35 -> 8390.1 | G35: 8390.1 | J35: =SUM(K35:L35) -> 0 | W35: =F35/$F$8 -> 0.00081
A36: 1.4 | B36: Региональный проект "Финансовая поддержка семей при рождении детей", всего | C36: Х | D36: Х | E36: Х | F36: =SUM(G36:H36) -> 1145620.7 | G36: =SUM(G38:G39) -> 776166.8 | H36: =SUM(H38:H39) -> 369453.9 | I36: =SUM(I38:I39) -> 0 | J36: =SUM(K36:L36) -> 1049319.9 | K36: =SUM(K38:K39) -> 684137.7 | L36: =SUM(L38:L39) -> 365182.2 | M36: =SUM(M38:M39) -> 0 | N36: =SUM(O36:P36) -> 1064287.3 | O36: =SUM(O38:O39) -> 776166.8 | P36: =SUM(P38:P39) -> 288120.5 | Q36: =SUM(Q38:Q39) -> 0 | R36: =SUM(S36:U36) -> 1066542.6 | S36: =SUM(S38:S39) -> 776166.8 | T36: =SUM(T38:T39) -> 290375.8 | U36: =SUM(U38:U39) -> 0 | V36: =J36/F36 -> 0.916 | W36: =F36/$F$8 -> 0.11115
B37: из них | W37: =F37/$F$8 -> 0
A38: 023 | B38: Осуществление ежемесячной выплаты в связи с рождением (усыновлением) первого ребенка | C38: 809 | D38: Департамент социальной защиты населения Томской области | E38: 111P155730 | F38: =G38+H38+I38 -> 369453.9 | H38: 369453.9 | J38: =SUM(K38:L38) -> 365182.2 | L38: =348933.4+15777.12+425.73+45.91 -> 365182.2 | N38: =SUM(O38:P38) -> 288120.5 | P38: 288120.5 | R38: =SUM(S38:U38) -> 290375.8 | T38: 290375.8 | V38: =J38/F38 -> 0.988 | W38: =F38/$F$8 -> 0.03584
B39: Осуществление ежемесячной денежной выплаты, назначаемой в случае рождения третьего ребенка или последующих детей до достижения ребенком возраста трех лет | C39: 809 | D39: Департамент социальной защиты населения Томской области | E39: 111P1Д0840 | F39: =G39+H39+I39 -> 776166.8 | G39: 776166.8 | J39: =SUM(K39:L39) -> 684137.7 | K39: =659996.39+16932.73+5174.75+2033.8 -> 684137.7 | N39: =SUM(O39:P39) -> 776166.8 | O39: 776166.8 | R39: =SUM(S39:U39) -> 776166.8 | S39: 776166.8 | V39: =J39/F39 -> 0.881 | W39: =F39/$F$8 -> 0.0753
A40: 1.5 | B40: Региональный проект "Укрепление общественного здоровья" | C40: Х | D40: Х | E40: Х | F40: =F42 -> 3700 | G40: =G42 -> 3700 | H40: =H42 -> 0 | I40: =I42 -> 0 | J40: =J42 -> 3519.6 | K40: =K42 -> 3519.6 | L40: =L42 -> 0 | M40: =M42 -> 0 | ... U40: =U42 -> 0 | V40: =J40/F40 -> 0.951 | W40: =F40/$F$8 -> 0.00036
B41: из них | W41: =F41/$F$8 -> 0
B42: Создание и демонстрация рекламно - информационных материалов в СМИ, сети "Интернет", в медицинских организациях и общественных местах, разработка печатной продукции по формированию здорового образа жизни | C42: 811 | D42: Департамент здравоохранения Томской области | E42: 071P4Д0003 | F42: =G42 -> 3700 | G42: 3700 | J42: =K42 -> 3519.6 | K42: 3519.6 | N42: =O42 -> 3700 | O42: 3700 | R42: =S42 -> 3700 | S42: 3700 | V42: =J42/F42 -> 0.951 | W42: =F42/$F$8 -> 0.00036
...

Sheet Лист4
A1: **.*.P*.*****,**.*.N*.*****,**.*.E*.*****,**.*.F*.*****,**.*.G*.*****,**.*.R*.*****,**.*.L*.*****,**.*.D*.*****,**.*.A*.*****,**.*.I*.*****

Sheet Лист2
A1: № п/п | B1: Наименование | C1: Плановые ассигнования | D1: Кассовое исполнение | E1: % исполнения | F1: =Лист1!H3 -> 0 | G1: =Лист1!K3 -> 0
B2: ВСЕГО: | C2: =SUM(C3:C12) -> 9.66 | D2: =SUM(D3:D12) -> 6.65 | E2: =D2/C2 -> 0.688 | F2: =SUM(F3:F12) -> 9.628 | G2: =SUM(G3:G12) -> 6.049
A3: 1 | B3: Национальный проект "Демография" | C3: =SUM(Лист1!G9:H9)/1000000 -> 2.94 | D3: =SUM(Лист1!K9:L9)/1000000 -> 1.44 | E3: 0.371 | F3: 2.943 | G3: 1.27
A4: 2 | B4: Национальный проект "Здравоохранение" | C4: =SUM(Лист1!G43:H43)/1000000 -> 1.22 | D4: =SUM(Лист1!K43:L43)/1000000 -> 0.68 | E4: 0.333 | F4: 1.216 | G4: 0.569
A5: 3 | B5: Национальный проект "Образование" | C5: =SUM(Лист1!G70:H70)/1000000 -> 1.48 | D5: =SUM(Лист1!K70:L70)/1000000 -> 1.3 | E5: 0.81 | F5: 1.48 | G5: 1.253
A6: 4 | B6: Национальный проект "Цифровая экономика" | C6: =SUM(Лист1!G107:H107)/1000000 -> 0.11 | D6: =SUM(Лист1!K107:L107)/1000000 -> 0.09 | E6: 0.47 | F6: 0.114 | G6: 0.068
A7: 5 | B7: Национальный проект "Жилье и городская среда" | C7: =SUM(Лист1!G131:H131)/1000000 -> 0.99 | D7: =SUM(Лист1!K131:L131)/1000000 -> 0.42 | E7: 0.149 | F7: 0.989 | G7: 0.228
A8: 6 | B8: Национальный проект "Экология" | C8: =SUM(Лист1!G143:H143)/1000000 -> 0.16 | D8: =SUM(Лист1!K143:L143)/1000000 -> 0.08 | E8: 0.337 | F8: 0.164 | G8: 0.063
A9: 7 | B9: Национальный проект "Безопасные и качественные автомобильные дороги" | C9: =SUM(Лист1!G158:H158)/1000000 -> 2.34 | D9: =SUM(Лист1!K158:L158)/1000000 -> 2.29 | E9: 0.874 | F9: 2.292 | G9: 2.288
A10: 8 | B10: Национальный проект "Культура" | C10: =SUM(Лист1!G162:H162)/1000000 -> 0.13 | D10: =SUM(Лист1!K162:L162)/1000000 -> 0.13 | E10: 0.668 | F10: 0.132 | G10: 0.097
A11: 9 | B11: Национальный проект "Малое и среднее предпринимательство и поддержка индивидуальной предпринимательской инициативы" | C11: =SUM(Лист1!G174:H174)/1000000 -> 0.21 | D11: =SUM(Лист1!K174:L174)/1000000 -> 0.2 | E11: 0.944 | F11: 0.213 | G11: 0.197
A12: 10 | B12: Национальный проект "Производительность труда и поддержка занятости" | C12: =SUM(Лист1!G194:H194)/1000000 -> 0.08 | D12: =SUM(Лист1!K194:L194)/1000000 -> 0.02 | E12: 0.175 | F12: 0.085 | G12: 0.016

Sheet Лист3
B1: Информация о плановых ассигнованиях и кассовом исполнении расходов консолидированного бюджета Томской области на реализацию региональных проектов Томской области по состоянию на 08.11.2019
G3: =G8/D8*100 -> 74.1 | H3: =H8/E8*100 -> 65.9
A4: № п/п | B4: Наименование | C4: 2019 год | I4: % исполнения
C5: Плановые ассигнования*, в том числе | F5: Кассовое исполнение, в том числе
C6: ИТОГО | D6: за счет средств областного бюджета | E6: за счет средств федерального бюджета | F6: ИТОГО | G6: за счет средств областного бюджета | H6: за счет средств федерального бюджета
A7: 1 | B7: 2 | C7: 6 | D7: 7 | E7: 8 | F7: 10 | G7: 11 | H7: 12 | I7: 22
B8: ВСЕГО: | C8: =Лист1!F8 -> 10307312 | D8: =Лист1!G8 -> 3421884.1 | E8: =Лист1!H8 -> 6254472.9 | F8: =Лист1!J8 -> 7098118.3 | G8: =Лист1!K8 -> 2535255 | H8: =Лист1!L8 -> 4119102.1 | I8: =F8/C8 -> 0.689
A9: 1 | B9: Национальный проект "Демография" | C9: =Лист1!F9 -> 2987672.4 | D9: =Лист1!G9 -> 1573811.1 | E9: =Лист1!H9 -> 1369595.5 | F9: =Лист1!J9 -> 1469381.6 | G9: =Лист1!K9 -> 891230.1 | H9: =Лист1!L9 -> 546661.5 | I9: =F9/C9 -> 0.492
A10: 1.1 | B10: Региональный проект "Старшее поколение", всего | C10: =Лист1!F10 -> 348929.6 | D10: =Лист1!G10 -> 15230.8 | E10: =Лист1!H10 -> 333698.8 | F10: =Лист1!J10 -> 170078.9 | G10: =Лист1!K10 -> 6752.4 | H10: =Лист1!L10 -> 163326.5 | I10: =F10/C10 -> 0.487 | J10: =F10/1000000 -> 0.17
A11: 1.2 | B11: Региональный проект "Спорт - норма жизни", всего | C11: =Лист1!F21 -> 268888 | D11: =Лист1!G21 -> 205926.2 | E11: =Лист1!H21 -> 19758.1 | F11: =Лист1!J21 -> 246463.2 | G11: =Лист1!K21 -> 196820.4 | H11: =Лист1!L21 -> 18152.8 | I11: =F11/C11 -> 0.917 | J11: =F11/1000000 -> 0.25
A12: 1.3 | B12: Региональный проект "Содействие занятости женщин - создание условий дошкольного образования для детей в возрасте до трех лет", всего | C12: =Лист1!F31 -> 1220534.1 | D12: =Лист1!G31 -> 572787.3 | E12: =Лист1!H31 -> 646684.7 | F12: =Лист1!J31 -> 0 | G12: =Лист1!K31 -> 0 | H12: =Лист1!L31 -> 0 | I12: =F12/C12 -> 0 | J12: =F12/1000000 -> 0
A13: 1.4 | B13: Региональный проект "Финансовая поддержка семей при рождении детей", всего | C13: =Лист1!F36 -> 1145620.7 | D13: =Лист1!G36 -> 776166.8 | E13: =Лист1!H36 -> 369453.9 | F13: =Лист1!J36 -> 1049319.9 | G13: =Лист1!K36 -> 684137.7 | H13: =Лист1!L36 -> 365182.2 | I13: =F13/C13 -> 0.916 | J13: =F13/1000000 -> 1.05
A14: 1.5 | B14: Региональный проект "Укрепление общественного здоровья" | C14: =Лист1!F40 -> 3700 | D14: =Лист1!G40 -> 3700 | E14: =Лист1!H40 -> 0 | F14: =Лист1!J40 -> 3519.6 | G14: =Лист1!K40 -> 3519.6 | H14: =Лист1!L40 -> 0 | I14: =F14/C14 -> 0.951 | J14: =F14/1000000 -> 0
A15: 2 | B15: Национальный проект "Здравоохранение" | C15: =Лист1!F43 -> 1216123.5 | D15: =Лист1!G43 -> 266674 | E15: =Лист1!H43 -> 949449.5 | F15: =Лист1!J43 -> 681304.1 | G15: =Лист1!K43 -> 175104 | H15: =Лист1!L43 -> 506200.1 | I15: =F15/C15 -> 0.56
A16: 2.1 | B16: Региональный проект "Развитие системы оказания первичной медико-санитарной помощи", всего | C16: =Лист1!F44 -> 282225.8 | D16: =Лист1!G44 -> 135045 | E16: =Лист1!H44 -> 147180.8 | F16: =Лист1!J44 -> 273595.7 | G16: =Лист1!K44 -> 134665 | H16: =Лист1!L44 -> 138930.7 | I16: =F16/C16 -> 0.969 | J16: =F16/1000000 -> 0.27
A17: 2.2 | B17: Региональный проект "Борьба с сердечно-сосудистыми заболеваниями", всего | C17: =Лист1!F52 -> 80052.5 | D17: =Лист1!G52 -> 5500 | E17: =Лист1!H52 -> 74552.5 | F17: =Лист1!J52 -> 11203.5 | G17: =Лист1!K52 -> 4686.5 | H17: =Лист1!L52 -> 6517 | I17: =F17/C17 -> 0.14 | J17: =F17/1000000 -> 0.01
A18: 2.3 | B18: Региональный проект "Развитие детского здравоохранения, включая создание современной инфраструктуры оказания медицинской помощи детям", всего | C18: =Лист1!F56 -> 106204.4 | D18: =Лист1!G56 -> 20129.8 | E18: =Лист1!H56 -> 86074.6 | F18: =Лист1!J56 -> 44615.9 | G18: =Лист1!K56 -> 9368.7 | H18: =Лист1!L56 -> 35247.2 | I18: =F18/C18 -> 0.42 | J18: =F18/1000000 -> 0.04
A19: 2.4 | B19: Региональный проект "Создание единого цифрового контура в здравоохранении на основе единой государственной информационной системы здравоохранения (ЕГИСЗ)", всего | C19: =Лист1!F60 -> 138662 | D19: =Лист1!G60 -> 26290 | E19: =Лист1!H60 -> 112372 | F19: =Лист1!J60 -> 64422 | G19: =Лист1!K60 -> 14848.2 | H19: =Лист1!L60 -> 49573.8 | I19: =F19/C19 -> 0.465 | J19: =F19/1000000 -> 0.06
A20: 2.5 | B20: Региональный проект "Борьба с онкологическими заболеваниями", всего | C20: =Лист1!F64 -> 608978.8 | D20: =Лист1!G64 -> 79709.2 | E20: =Лист1!H64 -> 529269.6 | F20: =Лист1!J64 -> 287467 | G20: =Лист1!K64 -> 11535.6 | H20: =Лист1!L64 -> 275931.4 | I20: =F20/C20 -> 0.472 | J20: =F20/1000000 -> 0.29
A21: 3 | B21: Национальный проект "Образование" | C21: =Лист1!F70 -> 1519134 | D21: =Лист1!G70 -> 817370 | E21: =Лист1!H70 -> 662910.2 | F21: =Лист1!J70 -> 1336072.7 | G21: =Лист1!K70 -> 779718.4 | H21: =Лист1!L70 -> 519710.2 | I21: =F21/C21 -> 0.879
A22: 3.1 | B22: Региональный проект "Современная школа", всего | C22: =Лист1!F71 -> 1312099.9 | D22: =Лист1!G71 -> 705896 | E22: =Лист1!H71 -> 567363.3 | F22: =Лист1!J71 -> 1179276.3 | G22: =Лист1!K71 -> 693577.3 | H22: =Лист1!L71 -> 449068.1 | I22: =F22/C22 -> 0.899 | J22: =F22/1000000 -> 1.18
A23: 3.2 | B23: Региональный проект "Цифровая образовательная среда", всего | C23: =Лист1!F79 -> 37934.6 | D23: =Лист1!G79 -> 7443 | E23: =Лист1!H79 -> 30491.6 | F23: =Лист1!J79 -> 12719.7 | G23: =Лист1!K79 -> 6137.7 | H23: =Лист1!L79 -> 6582 | I23: =F23/C23 -> 0.335 | J23: =F23/1000000 -> 0.01
A24: 3.3 | B24: Региональный проект "Успех каждого ребенка", всего | C24: =Лист1!F85 -> 94449.6 | D24: =Лист1!G85 -> 83475.7 | E24: =Лист1!H85 -> 10960.7 | F24: =Лист1!J85 -> 73152.3 | G24: =Лист1!K85 -> 62178.4 | H24: =Лист1!L85 -> 10960.7 | I24: =F24/C24 -> 0.775 | J24: =F24/1000000 -> 0.07
A25: 3.4 | B25: Региональный проект "Молодые профессионалы (Повышение конкурентоспособности профессионального образования)", всего | C25: =Лист1!F92 -> 73344.7 | D25: =Лист1!G92 -> 19250.1 | E25: =Лист1!H92 -> 54094.6 | F25: =Лист1!J92 -> 70106.7 | G25: =Лист1!K92 -> 17007.3 | H25: =Лист1!L92 -> 53099.4 | I25: =F25/C25 -> 0.956 | J25: =F25/1000000 -> 0.07
A26: 3.5 | B26: Региональный проект "Учитель будущего", всего | C26: =Лист1!F103 -> 1066 | D26: =Лист1!G103 -> 1066 | E26: =Лист1!H103 -> 0 | F26: =Лист1!J103 -> 817.7 | G26: =Лист1!K103 -> 817.7 | H26: =Лист1!L103 -> 0 | I26: =F26/C26 -> 0.767 | J26: =F26/1000000 -> 0
A27: 3.6 | B27: Региональный проект "Поддержка семей, имеющих детей", всего | C27: =Лист1!F105 -> 239.2 | D27: =Лист1!G105 -> 239.2 | E27: =Лист1!H105 -> 0 | F27: =Лист1!J105 -> 0 | G27: =Лист1!K105 -> 0 | H27: =Лист1!L105 -> 0 | I27: =F27/C27 -> 0 | J27: =F27/1000000 -> 0
A28: 4 | B28: Национальный проект "Цифровая экономика" | C28: =Лист1!F107 -> 109276.2 | D28: =Лист1!G107 -> 109276.1 | E28: =Лист1!H107 -> 0 | F28: =Лист1!J107 -> 88406.9 | G28: =Лист1!K107 -> 88406.9 | H28: =Лист1!L107 -> 0 | I28: =F28/C28 -> 0.809
A29: 4.1 | B29: Региональный проект "Кадры для цифровой экономики", всего | C29: =Лист1!F108 -> 5428.6 | D29: =Лист1!G108 -> 5428.6 | E29: =Лист1!H108 -> 0 | F29: =Лист1!J108 -> 5000 | G29: =Лист1!K108 -> 5000 | H29: =Лист1!L108 -> 0 | I29: =F29/C29 -> 0.921 | J29: =F29/1000000 -> 0.01
A30: 4.2 | B30: Региональный проект "Цифровые технологии" | C30: =Лист1!F112 -> 60000 | D30: =Лист1!G112 -> 60000 | E30: =Лист1!H112 -> 0 | F30: =Лист1!J112 -> 59999 | G30: =Лист1!K112 -> 59999 | H30: =Лист1!L112 -> 0 | I30: =F30/C30 -> 1 | J30: =F30/1000000 -> 0.06
A31: 4.3 | B31: Региональный проект "Информационная безопасность" | C31: =Лист1!F115 -> 1300 | D31: =Лист1!G115 -> 1300 | E31: =Лист1!H115 -> 0 | F31: =Лист1!J115 -> 1282.5 | G31: =Лист1!K115 -> 1282.5 | H31: =Лист1!L115 -> 0 | I31: =F31/C31 -> 0.987 | J31: =F31/1000000 -> 0
A32: 4.4 | B32: Региональный проект "Цифровое государственное управление" | C32: =Лист1!F118 -> 24543.7 | D32: =Лист1!G118 -> 24543.6 | E32: =Лист1!H118 -> 0 | F32: =Лист1!J118 -> 11653.6 | G32: =Лист1!K118 -> 11653.6 | H32: =Лист1!L118 -> 0 | I32: =F32/C32 -> 0.475 | J32: =F32/1000000 -> 0.01
A33: 4.5 | B33: Региональный проект "Информационная инфраструктура" | C33: =Лист1!F128 -> 18003.9 | D33: =Лист1!G128 -> 18003.9 | E33: =Лист1!H128 -> 0 | F33: =Лист1!J128 -> 10471.8 | G33: =Лист1!K128 -> 10471.8 | H33: =Лист1!L128 -> 0 | I33: =F33/C33 -> 0.582 | J33: =F33/1000000 -> 0.01
A34: 5 | B34: Национальный проект "Жилье и городская среда" | C34: =Лист1!F131 -> 1236186.3 | D34: =Лист1!G131 -> 28467.7 | E34: =Лист1!H131 -> 960457.2 | F34: =Лист1!J131 -> 511139.3 | G34: =Лист1!K131 -> 12742.2 | H34: =Лист1!L131 -> 411995.6 | I34: =F34/C34 -> 0.413
A35: 5.1 | B35: Региональный проект "Формирование комфортной городской среды", всего | C35: =Лист1!F132 -> 468472.7 | D35: =Лист1!G132 -> 12764 | E35: =Лист1!H132 -> 452704 | F35: =Лист1!J132 -> 283518.8 | G35: =Лист1!K132 -> 8439.9 | H35: =Лист1!L132 -> 272890.4 | I35: =F35/C35 -> 0.605 | J35: =F35/1000000 -> 0.28
A36: 5.2 | B36: Региональный проект "Обеспечение устойчивого сокращения непригодного для проживания жилищного фонда" | C36: =Лист1!F136 -> 767713.6 | D36: =Лист1!G136 -> 15703.7 | E36: =Лист1!H136 -> 507753.2 | F36: =Лист1!J136 -> 227620.5 | G36: =Лист1!K136 -> 4302.3 | H36: =Лист1!L136 -> 139105.2 | I36: =F36/C36 -> 0.296 | J36: =F36/1000000 -> 0.23
A37: 6 | B37: Национальный проект "Экология" | C37: =Лист1!F143 -> 179095.6 | D37: =Лист1!G143 -> 38152 | E37: =Лист1!H143 -> 125409 | F37: =Лист1!J143 -> 83888.5 | G37: =Лист1!K143 -> 5807.4 | H37: =Лист1!L143 -> 73258.3 | I37: =F37/C37 -> 0.468
A38: 6.1 | B38: Региональный проект "Сохранение лесов", всего | C38: =Лист1!F144 -> 97207.3 | D38: =Лист1!G144 -> 137 | E38: =Лист1!H144 -> 97070.3 | F38: =Лист1!J144 -> 64597.5 | G38: =Лист1!K144 -> 137 | H38: =Лист1!L144 -> 64460.5 | I38: =F38/C38 -> 0.665 | J38: =F38/1000000 -> 0.06
A39: 6.2 | B39: Региональный проект "Чистая вода", всего | C39: =Лист1!F149 -> 62138.3 | D39: =Лист1!G149 -> 18265 | E39: =Лист1!H149 -> 28338.7 | F39: =Лист1!J149 -> 19291 | G39: =Лист1!K149 -> 5670.4 | H39: =Лист1!L149 -> 8797.8 | I39: =F39/C39 -> 0.31 | J39: =F39/1000000 -> 0.02
A40: 6.3 | B40: Региональный проект «Комплексная система обращения с твердыми коммунальными отходами», всего | C40: =Лист1!F152 -> 10000 | D40: =Лист1!G152 -> 10000 | E40: =Лист1!H152 -> 0 | F40: =Лист1!J152 -> 0 | G40: =Лист1!K152 -> 0 | H40: =Лист1!L152 -> 0 | I40: =F40/C40 -> 0 | J40: =F40/1000000 -> 0
A41: 6.4 | B41: Региональный проект «Сохранение уникальных водных объектов» | C41: =Лист1!F155 -> 9750 | D41: =Лист1!G155 -> 9750 | E41: =Лист1!H155 -> 0 | F41: =Лист1!J155 -> 0 | G41: =Лист1!K155 -> 0 | H41: =Лист1!L155 -> 0 | I41: =F41/C41 -> 0 | J41: =F41/1000000 -> 0
...

Sheet Лист5
B2: ВСЕГО: | D2: =D3+D64+D37+D101+D125+D137+D152+D156+D168+D188 -> 3.422 | E2: =E3+E64+E37+E101+E125+E137+E152+E156+E168+E188 -> 6.255 | F2: =F3+F64+F37+F101+F125+F137+F152+F156+F168+F188 -> 0.631 | G2: 100
A3: 1 | B3: Национальный проект "Демография" | C3: =SUM(D3+E3+F3) -> 2.988 | D3: 1.574 | E3: 1.37 | F3: 0.044 | G3: 29
A4: 1.1 | B4: Региональный проект "Старшее поколение", всего | C4: =SUM(D4+E4+F4) -> 348929.6 | D4: 15230.8 | E4: 333698.8 | F4: 0
B5: из них | C5: =SUM(D5+E5+F5) -> 0
A6: 024 | B6: Организация профессионального обучения и дополнительного профессионального образования лиц предпенсионного возраста | C6: =SUM(D6+E6+F6) -> 18193.5 | D6: 909.7 | E6: 17283.8
A7: 024 | B7: Возмещение затрат работодателям на профессиональное обучение и дополнительное профессиональное образование работников из числа лиц предпенсионного возраста | C7: =SUM(D7+E7+F7) -> 2346.7 | D7: 117.4 | E7: 2229.3
B8: Субсидия автономной некоммерческой организации дополнительного профессионального образования "Энергетик" (АНО ДПО "Энергетик") | C8: =SUM(D8+E8+F8) -> 8083 | D8: 404.1 | E8: 7678.9
A9: 024 | B9: Проведение дополнительных скринингов лицам старше 65 лет, проживающим в сельской местности, на выявление отдельных социально значимых неинфекционных заболеваний, оказывающих вклад в структуру смертности населения, с возможностью доставки данных лиц в медицинские организации | C9: =SUM(D9+E9+F9) -> 0
B10: Организация деятельности мобильных бригад по доставке лиц старше 65 лет, проживающих в сельской местности, в медицинские организации | C10: =SUM(D10+E10+F10) -> 3539.6 | D10: 3539.6
A11: 024 | B11: Проведение вакцинации против пневмококковой инфекции граждан старше трудоспособного возраста из групп риска, проживающих в организациях социального обслуживания | C11: =SUM(D11+E11+F11) -> 1634.4 | E11: 1634.4
A12: 022 | B12: Финансовое обеспечение программ, направленных на обеспечение безопасных и комфортных условий предоставления социальных услуг в сфере социального обслуживания | C12: =SUM(D12+E12+F12) -> 292352.1 | D12: 9334.6 | E12: 283017.5
A13: 024 | B13: Приобретение автотранспорта | C13: =SUM(D13+E13+F13) -> 22780.3 | D13: 925.4 | E13: 21854.9
B14: Бюджетные ассигнования на объекты капитального строительства государственной собственности в сфере социального обслуживания населения | C14: =SUM(D14+E14+F14) -> 0 | D14: 0
A15: 1.2 | B15: Региональный проект "Спорт - норма жизни", всего | C15: =SUM(D15+E15+F15) -> 268888 | D15: 205926.2 | E15: 19758.1 | F15: 43203.7
B16: из них | C16: =SUM(D16+E16+F16) -> 0
A17: 022 | B17: Оснащение объектов спортивной инфраструктуры спортивно-технологическим оборудованием | C17: =SUM(D17+E17+F17) -> 20999.4 | D17: 611.1 | E17: 19758.1 | F17: 630.2
B18: Строительство универсальных спортивных площадок в муниципальных образованиях Томской области | C18: =SUM(D18+E18+F18) -> 33614.4 | D18: 25122.7 | F18: 8491.7
B19: Капитальный ремонт муниципальных спортивных сооружений | C19: =SUM(D19+E19+F19) -> 98459.4 | D19: 79000 | F19: 19459.4
B20: Приобретение спортивного оборудования и инвентаря для приведения организаций спортивной подготовки в нормативное состояние | C20: =SUM(D20+E20+F20) -> 0
B21: Создание и модернизация объектов спортивной инфраструктуры муниципальной собственности для занятий физической культурой и спортом | C21: =SUM(D21+E21+F21) -> 0
B22: Приобретение оборудования для малобюджетных спортивных площадок по месту жительства и учебы в муниципальных образованиях Томской области, за исключением муниципального образования "Город Томск", муниципального образования "Городской округ закрытое административно-территориальное образование Северск Томской области" | C22: =SUM(D22+E22+F22) -> 10044.7 | D22: 9000 | F22: 1044.7
B23: Приобретение спортивного инвентаря и оборудования для спортивных школ | C23: =SUM(D23+E23+F23) -> 31479.3 | D23: 30000 | F23: 1479.3
B24: Обеспечение условий для развития физической культуры и массового спорта | C24: =SUM(D24+E24+F24) -> 74290.8 | D24: 62192.4 | F24: 12098.4
A25: 1.3 | B25: Региональный проект "Содействие занятости женщин - создание условий дошкольного образования для детей в возрасте до трех лет", всего | C25: =SUM(D25+E25+F25) -> 1220534.1 | D25: 572787.3 | E25: 646684.7 | F25: 1062.1
B26: из них | C26: =SUM(D26+E26+F26) -> 0
A27: 024 | B27: Создание дополнительных мест для детей в возрасте от 2 месяцев до 3 лет в образовательных организациях, осуществляющих образовательную деятельность по образовательным программам дошкольного образования | C27: =SUM(D27+E27+F27) -> 405131.3 | D27: 239180.2 | E27: 165537.6 | F27: 413.5
A28: 022 | B28: Создание дополнительных мест для детей в возрасте от 1,5 до 3 лет в образовательных организациях, осуществляющих образовательную деятельность по образовательным программам дошкольного образования | C28: =SUM(D28+E28+F28) -> 807012.7 | D28: 325217 | E28: 481147.1 | F28: 648.6
B29: Оснащение зданий оборудованием и инвентарем для размещения дошкольных образовательных организаций | C29: =SUM(D29+E29+F29) -> 8390.1 | D29: 8390.1
A30: 1.4 | B30: Региональный проект "Финансовая поддержка семей при рождении детей", всего | C30: =SUM(D30+E30+F30) -> 1145620.7 | D30: 776166.8 | E30: 369453.9 | F30: 0
B31: из них | C31: =SUM(D31+E31+F31) -> 0
A32: 023 | B32: Осуществление ежемесячной выплаты в связи с рождением (усыновлением) первого ребенка | C32: =SUM(D32+E32+F32) -> 369453.9 | E32: 369453.9
B33: Осуществление ежемесячной денежной выплаты, назначаемой в случае рождения третьего ребенка или последующих детей до достижения ребенком возраста трех лет | C33: =SUM(D33+E33+F33) -> 776166.8 | D33: 776166.8
A34: 1.5 | B34: Региональный проект "Укрепление общественного здоровья" | C34: =SUM(D34+E34+F34) -> 3700 | D34: 3700 | E34: 0 | F34: 0
B35: из них | C35: =SUM(D35+E35+F35) -> 0
B36: Создание и демонстрация рекламно - информационных материалов в СМИ, сети "Интернет", в медицинских организациях и общественных местах, разработка печатной продукции по формированию здорового образа жизни | C36: =SUM(D36+E36+F36) -> 3700 | D36: 3700
A37: 2 | B37: Национальный проект "Здравоохранение" | C37: =SUM(D37+E37+F37) -> 1.216 | D37: 0.267 | E37: 0.949 | F37: 0 | G37: 11.8
A38: 2.1 | B38: Региональный проект "Развитие системы оказания первичной медико-санитарной помощи", всего | C38: =SUM(D38+E38+F38) -> 282225.8 | D38: 135045 | E38: 147180.8 | F38: 0
B39: из них | C39: =SUM(D39+E39+F39) -> 0
A40: 024 | B40: Оснащение медицинских организаций передвижными медицинскими комплексами для оказания медицинской помощи жителям населенных пунктов с численностью населения до 100 человек | C40: =SUM(D40+E40+F40) -> 0
A41: 024 | B41: Создание и замена фельдшерских, фельдшерско-акушерских пунктов и врачебных амбулаторий для населенных пунктов с численностью населения от 100 до 2000 человек | C41: =SUM(D41+E41+F41) -> 21521 | E41: 21521
...
